Workbook

Sheet Terms of Use

Sheet How to use this tool
B2: Colors | C2: blue | D2: Data input from user
C3: grey | D3: Raw data or interim calculations (do not touch in principle)
C4: orange | D4: Actual output (e.g. PEC, RQ)

Sheet 1-medicine use (input)
A1: Own ID | B1: ATC code | C1: CAS Number | D1: Active Pharmaceutical Ingredient | E1: NORMAN lowest PNEC (µg/L) | F1: PNECmic (µg/L) | G1: grams API dispensed per year | H1: own comments | I1: tool comments | J1: same CAS warning
A2: D01 | B2: A10BA02 | C2: =_xlfn.XLOOKUP(B2,'A-search matrix ATC-CAS'!B:B,'A-search matrix ATC-CAS'!C:C,"No Match") -> 657-24-9 | D2: =_xlfn.XLOOKUP(B2,'A-search matrix ATC-CAS'!B:B,'A-search matrix ATC-CAS'!A:A,"No Match") -> Metformin | E2: =_xlfn.XLOOKUP(B2,'A-search matrix ATC-CAS'!B:B,'A-search matrix ATC-CAS'!D:D,"No Match") -> 160 | F2: =_xlfn.XLOOKUP(C2,'B-search matrix PNEC MIC'!A:A,'B-search matrix PNEC MIC'!C:C,"No Match") -> No Match | I2: =IF(B2="","",_xlfn.LET(_xlpm.v,_xlfn.XLOOKUP(B2,'A-search matrix ATC-CAS'!B:B,'A-search matrix ATC-CAS'!C:C,""),IF(OR(_xlpm.v=0,_xlpm.v="0"),"mixture",IF(_xlpm.v="x","no PNEC","")))) | J2: =IF(B2="","", IF(OR(C2="", C2=0, C2="x"),"", IF(COUNTIF(C:C,C2)>1,"sum up input","") ) )
A3: D02 | B3: C03AA03 | C3: =_xlfn.XLOOKUP(B3,'A-search matrix ATC-CAS'!B:B,'A-search matrix ATC-CAS'!C:C,"No Match") -> 58-93-5 | D3: =_xlfn.XLOOKUP(B3,'A-search matrix ATC-CAS'!B:B,'A-search matrix ATC-CAS'!A:A,"No Match") -> Hydrochlorothiazide | E3: =_xlfn.XLOOKUP(B3,'A-search matrix ATC-CAS'!B:B,'A-search matrix ATC-CAS'!D:D,"No Match") -> 100 | F3: =_xlfn.XLOOKUP(C3,'B-search matrix PNEC MIC'!A:A,'B-search matrix PNEC MIC'!C:C,"No Match") -> No Match | I3: =IF(B3="","",_xlfn.LET(_xlpm.v,_xlfn.XLOOKUP(B3,'A-search matrix ATC-CAS'!B:B,'A-search matrix ATC-CAS'!C:C,""),IF(OR(_xlpm.v=0,_xlpm.v="0"),"mixture",IF(_xlpm.v="x","no PNEC","")))) | J3: =IF(B3="","", IF(OR(C3="", C3=0, C3="x"),"", IF(COUNTIF(C:C,C3)>1,"sum up input","") ) )
A4: D03 | B4: C07AA05 | C4: =_xlfn.XLOOKUP(B4,'A-search matrix ATC-CAS'!B:B,'A-search matrix ATC-CAS'!C:C,"No Match") -> 525-66-6 | D4: =_xlfn.XLOOKUP(B4,'A-search matrix ATC-CAS'!B:B,'A-search matrix ATC-CAS'!A:A,"No Match") -> Propranolol | E4: =_xlfn.XLOOKUP(B4,'A-search matrix ATC-CAS'!B:B,'A-search matrix ATC-CAS'!D:D,"No Match") -> 0.2 | F4: =_xlfn.XLOOKUP(C4,'B-search matrix PNEC MIC'!A:A,'B-search matrix PNEC MIC'!C:C,"No Match") -> No Match | I4: =IF(B4="","",_xlfn.LET(_xlpm.v,_xlfn.XLOOKUP(B4,'A-search matrix ATC-CAS'!B:B,'A-search matrix ATC-CAS'!C:C,""),IF(OR(_xlpm.v=0,_xlpm.v="0"),"mixture",IF(_xlpm.v="x","no PNEC","")))) | J4: =IF(B4="","", IF(OR(C4="", C4=0, C4="x"),"", IF(COUNTIF(C:C,C4)>1,"sum up input","") ) )
A5: D04 | B5: C07AB02 | C5: =_xlfn.XLOOKUP(B5,'A-search matrix ATC-CAS'!B:B,'A-search matrix ATC-CAS'!C:C,"No Match") -> 51384-51-1 | D5: =_xlfn.XLOOKUP(B5,'A-search matrix ATC-CAS'!B:B,'A-search matrix ATC-CAS'!A:A,"No Match") -> Metoprolol | E5: =_xlfn.XLOOKUP(B5,'A-search matrix ATC-CAS'!B:B,'A-search matrix ATC-CAS'!D:D,"No Match") -> 8.6 | F5: =_xlfn.XLOOKUP(C5,'B-search matrix PNEC MIC'!A:A,'B-search matrix PNEC MIC'!C:C,"No Match") -> No Match | I5: =IF(B5="","",_xlfn.LET(_xlpm.v,_xlfn.XLOOKUP(B5,'A-search matrix ATC-CAS'!B:B,'A-search matrix ATC-CAS'!C:C,""),IF(OR(_xlpm.v=0,_xlpm.v="0"),"mixture",IF(_xlpm.v="x","no PNEC","")))) | J5: =IF(B5="","", IF(OR(C5="", C5=0, C5="x"),"", IF(COUNTIF(C:C,C5)>1,"sum up input","") ) )
A6: D05 | B6: C09CA04 | C6: =_xlfn.XLOOKUP(B6,'A-search matrix ATC-CAS'!B:B,'A-search matrix ATC-CAS'!C:C,"No Match") -> 138402-11-6 | D6: =_xlfn.XLOOKUP(B6,'A-search matrix ATC-CAS'!B:B,'A-search matrix ATC-CAS'!A:A,"No Match") -> Irbesartan | E6: =_xlfn.XLOOKUP(B6,'A-search matrix ATC-CAS'!B:B,'A-search matrix ATC-CAS'!D:D,"No Match") -> 700 | F6: =_xlfn.XLOOKUP(C6,'B-search matrix PNEC MIC'!A:A,'B-search matrix PNEC MIC'!C:C,"No Match") -> No Match | I6: =IF(B6="","",_xlfn.LET(_xlpm.v,_xlfn.XLOOKUP(B6,'A-search matrix ATC-CAS'!B:B,'A-search matrix ATC-CAS'!C:C,""),IF(OR(_xlpm.v=0,_xlpm.v="0"),"mixture",IF(_xlpm.v="x","no PNEC","")))) | J6: =IF(B6="","", IF(OR(C6="", C6=0, C6="x"),"", IF(COUNTIF(C:C,C6)>1,"sum up input","") ) )
A7: D06 | B7: C09CA06 | C7: =_xlfn.XLOOKUP(B7,'A-search matrix ATC-CAS'!B:B,'A-search matrix ATC-CAS'!C:C,"No Match") -> 139481-59-7 | D7: =_xlfn.XLOOKUP(B7,'A-search matrix ATC-CAS'!B:B,'A-search matrix ATC-CAS'!A:A,"No Match") -> Candesartan | E7: =_xlfn.XLOOKUP(B7,'A-search matrix ATC-CAS'!B:B,'A-search matrix ATC-CAS'!D:D,"No Match") -> 100 | F7: =_xlfn.XLOOKUP(C7,'B-search matrix PNEC MIC'!A:A,'B-search matrix PNEC MIC'!C:C,"No Match") -> No Match | I7: =IF(B7="","",_xlfn.LET(_xlpm.v,_xlfn.XLOOKUP(B7,'A-search matrix ATC-CAS'!B:B,'A-search matrix ATC-CAS'!C:C,""),IF(OR(_xlpm.v=0,_xlpm.v="0"),"mixture",IF(_xlpm.v="x","no PNEC","")))) | J7: =IF(B7="","", IF(OR(C7="", C7=0, C7="x"),"", IF(COUNTIF(C:C,C7)>1,"sum up input","") ) )
A8: D07 | B8: D01AC01 | C8: =_xlfn.XLOOKUP(B8,'A-search matrix ATC-CAS'!B:B,'A-search matrix ATC-CAS'!C:C,"No Match") -> 23593-75-1 | D8: =_xlfn.XLOOKUP(B8,'A-search matrix ATC-CAS'!B:B,'A-search matrix ATC-CAS'!A:A,"No Match") -> Clotrimazole | E8: =_xlfn.XLOOKUP(B8,'A-search matrix ATC-CAS'!B:B,'A-search matrix ATC-CAS'!D:D,"No Match") -> 0.02998 | F8: =_xlfn.XLOOKUP(C8,'B-search matrix PNEC MIC'!A:A,'B-search matrix PNEC MIC'!C:C,"No Match") -> No Match | I8: =IF(B8="","",_xlfn.LET(_xlpm.v,_xlfn.XLOOKUP(B8,'A-search matrix ATC-CAS'!B:B,'A-search matrix ATC-CAS'!C:C,""),IF(OR(_xlpm.v=0,_xlpm.v="0"),"mixture",IF(_xlpm.v="x","no PNEC","")))) | J8: =IF(B8="","", IF(OR(C8="", C8=0, C8="x"),"", IF(COUNTIF(C:C,C8)>1,"sum up input","") ) )
A9: D08 | B9: G03CA01 | C9: =_xlfn.XLOOKUP(B9,'A-search matrix ATC-CAS'!B:B,'A-search matrix ATC-CAS'!C:C,"No Match") -> 57-63-6 | D9: =_xlfn.XLOOKUP(B9,'A-search matrix ATC-CAS'!B:B,'A-search matrix ATC-CAS'!A:A,"No Match") -> 17Alpha-Ethinylestradiol | E9: =_xlfn.XLOOKUP(B9,'A-search matrix ATC-CAS'!B:B,'A-search matrix ATC-CAS'!D:D,"No Match") -> 3.7e-05 | F9: =_xlfn.XLOOKUP(C9,'B-search matrix PNEC MIC'!A:A,'B-search matrix PNEC MIC'!C:C,"No Match") -> No Match | I9: =IF(B9="","",_xlfn.LET(_xlpm.v,_xlfn.XLOOKUP(B9,'A-search matrix ATC-CAS'!B:B,'A-search matrix ATC-CAS'!C:C,""),IF(OR(_xlpm.v=0,_xlpm.v="0"),"mixture",IF(_xlpm.v="x","no PNEC","")))) | J9: =IF(B9="","", IF(OR(C9="", C9=0, C9="x"),"", IF(COUNTIF(C:C,C9)>1,"sum up input","") ) )
A10: D09 | B10: G03CA03 | C10: =_xlfn.XLOOKUP(B10,'A-search matrix ATC-CAS'!B:B,'A-search matrix ATC-CAS'!C:C,"No Match") -> 4245-41-4 | D10: =_xlfn.XLOOKUP(B10,'A-search matrix ATC-CAS'!B:B,'A-search matrix ATC-CAS'!A:A,"No Match") -> Estradiol | E10: =_xlfn.XLOOKUP(B10,'A-search matrix ATC-CAS'!B:B,'A-search matrix ATC-CAS'!D:D,"No Match") -> 0.0003 | F10: =_xlfn.XLOOKUP(C10,'B-search matrix PNEC MIC'!A:A,'B-search matrix PNEC MIC'!C:C,"No Match") -> No Match | I10: =IF(B10="","",_xlfn.LET(_xlpm.v,_xlfn.XLOOKUP(B10,'A-search matrix ATC-CAS'!B:B,'A-search matrix ATC-CAS'!C:C,""),IF(OR(_xlpm.v=0,_xlpm.v="0"),"mixture",IF(_xlpm.v="x","no PNEC","")))) | J10: =IF(B10="","", IF(OR(C10="", C10=0, C10="x"),"", IF(COUNTIF(C:C,C10)>1,"sum up input","") ) )
A11: D10 | B11: G03CA07 | C11: =_xlfn.XLOOKUP(B11,'A-search matrix ATC-CAS'!B:B,'A-search matrix ATC-CAS'!C:C,"No Match") -> 53-16-7 | D11: =_xlfn.XLOOKUP(B11,'A-search matrix ATC-CAS'!B:B,'A-search matrix ATC-CAS'!A:A,"No Match") -> Estrone | E11: =_xlfn.XLOOKUP(B11,'A-search matrix ATC-CAS'!B:B,'A-search matrix ATC-CAS'!D:D,"No Match") -> 0.0036 | F11: =_xlfn.XLOOKUP(C11,'B-search matrix PNEC MIC'!A:A,'B-search matrix PNEC MIC'!C:C,"No Match") -> No Match | I11: =IF(B11="","",_xlfn.LET(_xlpm.v,_xlfn.XLOOKUP(B11,'A-search matrix ATC-CAS'!B:B,'A-search matrix ATC-CAS'!C:C,""),IF(OR(_xlpm.v=0,_xlpm.v="0"),"mixture",IF(_xlpm.v="x","no PNEC","")))) | J11: =IF(B11="","", IF(OR(C11="", C11=0, C11="x"),"", IF(COUNTIF(C:C,C11)>1,"sum up input","") ) )
A12: D11 | B12: J01AA06 | C12: =_xlfn.XLOOKUP(B12,'A-search matrix ATC-CAS'!B:B,'A-search matrix ATC-CAS'!C:C,"No Match") -> 79-57-2 | D12: =_xlfn.XLOOKUP(B12,'A-search matrix ATC-CAS'!B:B,'A-search matrix ATC-CAS'!A:A,"No Match") -> Oxytetracycline | E12: =_xlfn.XLOOKUP(B12,'A-search matrix ATC-CAS'!B:B,'A-search matrix ATC-CAS'!D:D,"No Match") -> 0.42944 | F12: =_xlfn.XLOOKUP(C12,'B-search matrix PNEC MIC'!A:A,'B-search matrix PNEC MIC'!C:C,"No Match") -> 0.5 | I12: =IF(B12="","",_xlfn.LET(_xlpm.v,_xlfn.XLOOKUP(B12,'A-search matrix ATC-CAS'!B:B,'A-search matrix ATC-CAS'!C:C,""),IF(OR(_xlpm.v=0,_xlpm.v="0"),"mixture",IF(_xlpm.v="x","no PNEC","")))) | J12: =IF(B12="","", IF(OR(C12="", C12=0, C12="x"),"", IF(COUNTIF(C:C,C12)>1,"sum up input","") ) )
A13: D12 | B13: J01AA07 | C13: =_xlfn.XLOOKUP(B13,'A-search matrix ATC-CAS'!B:B,'A-search matrix ATC-CAS'!C:C,"No Match") -> 60-54-8 | D13: =_xlfn.XLOOKUP(B13,'A-search matrix ATC-CAS'!B:B,'A-search matrix ATC-CAS'!A:A,"No Match") -> Tetracycline | E13: =_xlfn.XLOOKUP(B13,'A-search matrix ATC-CAS'!B:B,'A-search matrix ATC-CAS'!D:D,"No Match") -> 0.09 | F13: =_xlfn.XLOOKUP(C13,'B-search matrix PNEC MIC'!A:A,'B-search matrix PNEC MIC'!C:C,"No Match") -> 1 | I13: =IF(B13="","",_xlfn.LET(_xlpm.v,_xlfn.XLOOKUP(B13,'A-search matrix ATC-CAS'!B:B,'A-search matrix ATC-CAS'!C:C,""),IF(OR(_xlpm.v=0,_xlpm.v="0"),"mixture",IF(_xlpm.v="x","no PNEC","")))) | J13: =IF(B13="","", IF(OR(C13="", C13=0, C13="x"),"", IF(COUNTIF(C:C,C13)>1,"sum up input","") ) )
... A23: D22 | B23: J02AC01 | C23: =_xlfn.XLOOKUP(B23,'A-search matrix ATC-CAS'!B:B,'A-search matrix ATC-CAS'!C:C,"No Match") -> 86386-73-4 | D23: =_xlfn.XLOOKUP(B23,'A-search matrix ATC-CAS'!B:B,'A-search matrix ATC-CAS'!A:A,"No Match") -> Fluconazole | E23: =_xlfn.XLOOKUP(B23,'A-search matrix ATC-CAS'!B:B,'A-search matrix ATC-CAS'!D:D,"No Match") -> 1.04331 | F23: =_xlfn.XLOOKUP(C23,'B-search matrix PNEC MIC'!A:A,'B-search matrix PNEC MIC'!C:C,"No Match") -> 0.25 | I23: =IF(B23="","",_xlfn.LET(_xlpm.v,_xlfn.XLOOKUP(B23,'A-search matrix ATC-CAS'!B:B,'A-search matrix ATC-CAS'!C:C,""),IF(OR(_xlpm.v=0,_xlpm.v="0"),"mixture",IF(_xlpm.v="x","no PNEC","")))) | J23: =IF(B23="","", IF(OR(C23="", C23=0, C23="x"),"", IF(COUNTIF(C:C,C23)>1,"sum up input","") ) )
A24: D23 | B24: J02AC02 | C24: =_xlfn.XLOOKUP(B24,'A-search matrix ATC-CAS'!B:B,'A-search matrix ATC-CAS'!C:C,"No Match") -> 84625-61-6 | D24: =_xlfn.XLOOKUP(B24,'A-search matrix ATC-CAS'!B:B,'A-search matrix ATC-CAS'!A:A,"No Match") -> Itraconazole | E24: =_xlfn.XLOOKUP(B24,'A-search matrix ATC-CAS'!B:B,'A-search matrix ATC-CAS'!D:D,"No Match") -> 0.012884727 | F24: =_xlfn.XLOOKUP(C24,'B-search matrix PNEC MIC'!A:A,'B-search matrix PNEC MIC'!C:C,"No Match") -> 0.01 | G24: 500 | I24: =IF(B24="","",_xlfn.LET(_xlpm.v,_xlfn.XLOOKUP(B24,'A-search matrix ATC-CAS'!B:B,'A-search matrix ATC-CAS'!C:C,""),IF(OR(_xlpm.v=0,_xlpm.v="0"),"mixture",IF(_xlpm.v="x","no PNEC","")))) | J24: =IF(B24="","", IF(OR(C24="", C24=0, C24="x"),"", IF(COUNTIF(C:C,C24)>1,"sum up input","") ) )
A25: D24 | B25: M01AE01 | C25: =_xlfn.XLOOKUP(B25,'A-search matrix ATC-CAS'!B:B,'A-search matrix ATC-CAS'!C:C,"No Match") -> 15687-27-1 | D25: =_xlfn.XLOOKUP(B25,'A-search matrix ATC-CAS'!B:B,'A-search matrix ATC-CAS'!A:A,"No Match") -> Ibuprofen | E25: =_xlfn.XLOOKUP(B25,'A-search matrix ATC-CAS'!B:B,'A-search matrix ATC-CAS'!D:D,"No Match") -> 0.011 | F25: =_xlfn.XLOOKUP(C25,'B-search matrix PNEC MIC'!A:A,'B-search matrix PNEC MIC'!C:C,"No Match") -> No Match | G25: 5000 | I25: =IF(B25="","",_xlfn.LET(_xlpm.v,_xlfn.XLOOKUP(B25,'A-search matrix ATC-CAS'!B:B,'A-search matrix ATC-CAS'!C:C,""),IF(OR(_xlpm.v=0,_xlpm.v="0"),"mixture",IF(_xlpm.v="x","no PNEC","")))) | J25: =IF(B25="","", IF(OR(C25="", C25=0, C25="x"),"", IF(COUNTIF(C:C,C25)>1,"sum up input","") ) )
A26: D25 | B26: M02AA15 | C26: =_xlfn.XLOOKUP(B26,'A-search matrix ATC-CAS'!B:B,'A-search matrix ATC-CAS'!C:C,"No Match") -> 15307-86-5 | D26: =_xlfn.XLOOKUP(B26,'A-search matrix ATC-CAS'!B:B,'A-search matrix ATC-CAS'!A:A,"No Match") -> Diclofenac | E26: =_xlfn.XLOOKUP(B26,'A-search matrix ATC-CAS'!B:B,'A-search matrix ATC-CAS'!D:D,"No Match") -> 0.05 | F26: =_xlfn.XLOOKUP(C26,'B-search matrix PNEC MIC'!A:A,'B-search matrix PNEC MIC'!C:C,"No Match") -> No Match | G26: 800 | I26: =IF(B26="","",_xlfn.LET(_xlpm.v,_xlfn.XLOOKUP(B26,'A-search matrix ATC-CAS'!B:B,'A-search matrix ATC-CAS'!C:C,""),IF(OR(_xlpm.v=0,_xlpm.v="0"),"mixture",IF(_xlpm.v="x","no PNEC","")))) | J26: =IF(B26="","", IF(OR(C26="", C26=0, C26="x"),"", IF(COUNTIF(C:C,C26)>1,"sum up input","") ) ) -> sum up input
A27: D26 | B27: N03AF01 | C27: =_xlfn.XLOOKUP(B27,'A-search matrix ATC-CAS'!B:B,'A-search matrix ATC-CAS'!C:C,"No Match") -> 298-46-4 | D27: =_xlfn.XLOOKUP(B27,'A-search matrix ATC-CAS'!B:B,'A-search matrix ATC-CAS'!A:A,"No Match") -> Carbamazepine | E27: =_xlfn.XLOOKUP(B27,'A-search matrix ATC-CAS'!B:B,'A-search matrix ATC-CAS'!D:D,"No Match") -> 2 | F27: =_xlfn.XLOOKUP(C27,'B-search matrix PNEC MIC'!A:A,'B-search matrix PNEC MIC'!C:C,"No Match") -> No Match | I27: =IF(B27="","",_xlfn.LET(_xlpm.v,_xlfn.XLOOKUP(B27,'A-search matrix ATC-CAS'!B:B,'A-search matrix ATC-CAS'!C:C,""),IF(OR(_xlpm.v=0,_xlpm.v="0"),"mixture",IF(_xlpm.v="x","no PNEC","")))) | J27: =IF(B27="","", IF(OR(C27="", C27=0, C27="x"),"", IF(COUNTIF(C:C,C27)>1,"sum up input","") ) )
A28: D27 | B28: N05AL05 | C28: =_xlfn.XLOOKUP(B28,'A-search matrix ATC-CAS'!B:B,'A-search matrix ATC-CAS'!C:C,"No Match") -> 71675-85-9 | D28: =_xlfn.XLOOKUP(B28,'A-search matrix ATC-CAS'!B:B,'A-search matrix ATC-CAS'!A:A,"No Match") -> Amisulpride | E28: =_xlfn.XLOOKUP(B28,'A-search matrix ATC-CAS'!B:B,'A-search matrix ATC-CAS'!D:D,"No Match") -> 140 | F28: =_xlfn.XLOOKUP(C28,'B-search matrix PNEC MIC'!A:A,'B-search matrix PNEC MIC'!C:C,"No Match") -> No Match | I28: =IF(B28="","",_xlfn.LET(_xlpm.v,_xlfn.XLOOKUP(B28,'A-search matrix ATC-CAS'!B:B,'A-search matrix ATC-CAS'!C:C,""),IF(OR(_xlpm.v=0,_xlpm.v="0"),"mixture",IF(_xlpm.v="x","no PNEC","")))) | J28: =IF(B28="","", IF(OR(C28="", C28=0, C28="x"),"", IF(COUNTIF(C:C,C28)>1,"sum up input","") ) )
A29: D28 | B29: N06AB03 | C29: =_xlfn.XLOOKUP(B29,'A-search matrix ATC-CAS'!B:B,'A-search matrix ATC-CAS'!C:C,"No Match") -> 54910-89-3 | D29: =_xlfn.XLOOKUP(B29,'A-search matrix ATC-CAS'!B:B,'A-search matrix ATC-CAS'!A:A,"No Match") -> Fluoxetine | E29: =_xlfn.XLOOKUP(B29,'A-search matrix ATC-CAS'!B:B,'A-search matrix ATC-CAS'!D:D,"No Match") -> 0.1 | F29: =_xlfn.XLOOKUP(C29,'B-search matrix PNEC MIC'!A:A,'B-search matrix PNEC MIC'!C:C,"No Match") -> No Match | I29: =IF(B29="","",_xlfn.LET(_xlpm.v,_xlfn.XLOOKUP(B29,'A-search matrix ATC-CAS'!B:B,'A-search matrix ATC-CAS'!C:C,""),IF(OR(_xlpm.v=0,_xlpm.v="0"),"mixture",IF(_xlpm.v="x","no PNEC","")))) | J29: =IF(B29="","", IF(OR(C29="", C29=0, C29="x"),"", IF(COUNTIF(C:C,C29)>1,"sum up input","") ) )
A30: D29 | B30: N06AB04 | C30: =_xlfn.XLOOKUP(B30,'A-search matrix ATC-CAS'!B:B,'A-search matrix ATC-CAS'!C:C,"No Match") -> 59729-33-8 | D30: =_xlfn.XLOOKUP(B30,'A-search matrix ATC-CAS'!B:B,'A-search matrix ATC-CAS'!A:A,"No Match") -> Citalopram | E30: =_xlfn.XLOOKUP(B30,'A-search matrix ATC-CAS'!B:B,'A-search matrix ATC-CAS'!D:D,"No Match") -> 16 | F30: =_xlfn.XLOOKUP(C30,'B-search matrix PNEC MIC'!A:A,'B-search matrix PNEC MIC'!C:C,"No Match") -> No Match | I30: =IF(B30="","",_xlfn.LET(_xlpm.v,_xlfn.XLOOKUP(B30,'A-search matrix ATC-CAS'!B:B,'A-search matrix ATC-CAS'!C:C,""),IF(OR(_xlpm.v=0,_xlpm.v="0"),"mixture",IF(_xlpm.v="x","no PNEC","")))) | J30: =IF(B30="","", IF(OR(C30="", C30=0, C30="x"),"", IF(COUNTIF(C:C,C30)>1,"sum up input","") ) )
A31: D30 | B31: N06AX16 | C31: =_xlfn.XLOOKUP(B31,'A-search matrix ATC-CAS'!B:B,'A-search matrix ATC-CAS'!C:C,"No Match") -> 93413-69-5 | D31: =_xlfn.XLOOKUP(B31,'A-search matrix ATC-CAS'!B:B,'A-search matrix ATC-CAS'!A:A,"No Match") -> Venlafaxine | E31: =_xlfn.XLOOKUP(B31,'A-search matrix ATC-CAS'!B:B,'A-search matrix ATC-CAS'!D:D,"No Match") -> 0.88 | F31: =_xlfn.XLOOKUP(C31,'B-search matrix PNEC MIC'!A:A,'B-search matrix PNEC MIC'!C:C,"No Match") -> No Match | I31: =IF(B31="","",_xlfn.LET(_xlpm.v,_xlfn.XLOOKUP(B31,'A-search matrix ATC-CAS'!B:B,'A-search matrix ATC-CAS'!C:C,""),IF(OR(_xlpm.v=0,_xlpm.v="0"),"mixture",IF(_xlpm.v="x","no PNEC","")))) | J31: =IF(B31="","", IF(OR(C31="", C31=0, C31="x"),"", IF(COUNTIF(C:C,C31)>1,"sum up input","") ) )
A32: D31 | B32: N06AX23 | C32: =_xlfn.XLOOKUP(B32,'A-search matrix ATC-CAS'!B:B,'A-search matrix ATC-CAS'!C:C,"No Match") -> 93413-77-5 | D32: =_xlfn.XLOOKUP(B32,'A-search matrix ATC-CAS'!B:B,'A-search matrix ATC-CAS'!A:A,"No Match") -> N,N-Didesvenlafaxine | E32: =_xlfn.XLOOKUP(B32,'A-search matrix ATC-CAS'!B:B,'A-search matrix ATC-CAS'!D:D,"No Match") -> 13.98036 | F32: =_xlfn.XLOOKUP(C32,'B-search matrix PNEC MIC'!A:A,'B-search matrix PNEC MIC'!C:C,"No Match") -> No Match | I32: =IF(B32="","",_xlfn.LET(_xlpm.v,_xlfn.XLOOKUP(B32,'A-search matrix ATC-CAS'!B:B,'A-search matrix ATC-CAS'!C:C,""),IF(OR(_xlpm.v=0,_xlpm.v="0"),"mixture",IF(_xlpm.v="x","no PNEC","")))) | J32: =IF(B32="","", IF(OR(C32="", C32=0, C32="x"),"", IF(COUNTIF(C:C,C32)>1,"sum up input","") ) )
A33: 1 | B33: G03FA01 | C33: =_xlfn.XLOOKUP(B33,'A-search matrix ATC-CAS'!B:B,'A-search matrix ATC-CAS'!C:C,"No Match") -> 0 | D33: =_xlfn.XLOOKUP(B33,'A-search matrix ATC-CAS'!B:B,'A-search matrix ATC-CAS'!A:A,"No Match") -> Norethisterone and Estrogen | E33: =_xlfn.XLOOKUP(B33,'A-search matrix ATC-CAS'!B:B,'A-search matrix ATC-CAS'!D:D,"No Match") -> No PNEC | F33: =_xlfn.XLOOKUP(C33,'B-search matrix PNEC MIC'!A:A,'B-search matrix PNEC MIC'!C:C,"No Match") -> No Match | I33: =IF(B33="","",_xlfn.LET(_xlpm.v,_xlfn.XLOOKUP(B33,'A-search matrix ATC-CAS'!B:B,'A-search matrix ATC-CAS'!C:C,""),IF(OR(_xlpm.v=0,_xlpm.v="0"),"mixture",IF(_xlpm.v="x","no PNEC","")))) -> mixture | J33: =IF(B33="","", IF(OR(C33="", C33=0, C33="x"),"", IF(COUNTIF(C:C,C33)>1,"sum up input","") ) )
A34: 2 | B34: H01AB01 | C34: =_xlfn.XLOOKUP(B34,'A-search matrix ATC-CAS'!B:B,'A-search matrix ATC-CAS'!C:C,"No Match") -> x | D34: =_xlfn.XLOOKUP(B34,'A-search matrix ATC-CAS'!B:B,'A-search matrix ATC-CAS'!A:A,"No Match") -> Thyrotropin Alfa | E34: =_xlfn.XLOOKUP(B34,'A-search matrix ATC-CAS'!B:B,'A-search matrix ATC-CAS'!D:D,"No Match") -> No PNEC | F34: =_xlfn.XLOOKUP(C34,'B-search matrix PNEC MIC'!A:A,'B-search matrix PNEC MIC'!C:C,"No Match") -> No Match | I34: =IF(B34="","",_xlfn.LET(_xlpm.v,_xlfn.XLOOKUP(B34,'A-search matrix ATC-CAS'!B:B,'A-search matrix ATC-CAS'!C:C,""),IF(OR(_xlpm.v=0,_xlpm.v="0"),"mixture",IF(_xlpm.v="x","no PNEC","")))) -> no PNEC | J34: =IF(B34="","", IF(OR(C34="", C34=0, C34="x"),"", IF(COUNTIF(C:C,C34)>1,"sum up input","") ) )
A35: 3 | B35: M02AA15 | C35: =_xlfn.XLOOKUP(B35,'A-search matrix ATC-CAS'!B:B,'A-search matrix ATC-CAS'!C:C,"No Match") -> 15307-86-5 | D35: =_xlfn.XLOOKUP(B35,'A-search matrix ATC-CAS'!B:B,'A-search matrix ATC-CAS'!A:A,"No Match") -> Diclofenac | E35: =_xlfn.XLOOKUP(B35,'A-search matrix ATC-CAS'!B:B,'A-search matrix ATC-CAS'!D:D,"No Match") -> 0.05 | F35: =_xlfn.XLOOKUP(C35,'B-search matrix PNEC MIC'!A:A,'B-search matrix PNEC MIC'!C:C,"No Match") -> No Match | I35: =IF(B35="","",_xlfn.LET(_xlpm.v,_xlfn.XLOOKUP(B35,'A-search matrix ATC-CAS'!B:B,'A-search matrix ATC-CAS'!C:C,""),IF(OR(_xlpm.v=0,_xlpm.v="0"),"mixture",IF(_xlpm.v="x","no PNEC","")))) | J35: =IF(B35="","", IF(OR(C35="", C35=0, C35="x"),"", IF(COUNTIF(C:C,C35)>1,"sum up input","") ) ) -> sum up input
A36: 4 | C36: =_xlfn.XLOOKUP(B36,'A-search matrix ATC-CAS'!B:B,'A-search matrix ATC-CAS'!C:C,"No Match") -> 0 | D36: =_xlfn.XLOOKUP(B36,'A-search matrix ATC-CAS'!B:B,'A-search matrix ATC-CAS'!A:A,"No Match") -> 0 | E36: =_xlfn.XLOOKUP(B36,'A-search matrix ATC-CAS'!B:B,'A-search matrix ATC-CAS'!D:D,"No Match") -> 0 | F36: =_xlfn.XLOOKUP(C36,'B-search matrix PNEC MIC'!A:A,'B-search matrix PNEC MIC'!C:C,"No Match") -> No Match | I36: =IF(B36="","",_xlfn.LET(_xlpm.v,_xlfn.XLOOKUP(B36,'A-search matrix ATC-CAS'!B:B,'A-search matrix ATC-CAS'!C:C,""),IF(OR(_xlpm.v=0,_xlpm.v="0"),"mixture",IF(_xlpm.v="x","no PNEC","")))) | J36: =IF(B36="","", IF(OR(C36="", C36=0, C36="x"),"", IF(COUNTIF(C:C,C36)>1,"sum up input","") ) )
A37: 5 | C37: =_xlfn.XLOOKUP(B37,'A-search matrix ATC-CAS'!B:B,'A-search matrix ATC-CAS'!C:C,"No Match") -> 0 | D37: =_xlfn.XLOOKUP(B37,'A-search matrix ATC-CAS'!B:B,'A-search matrix ATC-CAS'!A:A,"No Match") -> 0 | E37: =_xlfn.XLOOKUP(B37,'A-search matrix ATC-CAS'!B:B,'A-search matrix ATC-CAS'!D:D,"No Match") -> 0 | F37: =_xlfn.XLOOKUP(C37,'B-search matrix PNEC MIC'!A:A,'B-search matrix PNEC MIC'!C:C,"No Match") -> No Match | I37: =IF(B37="","",_xlfn.LET(_xlpm.v,_xlfn.XLOOKUP(B37,'A-search matrix ATC-CAS'!B:B,'A-search matrix ATC-CAS'!C:C,""),IF(OR(_xlpm.v=0,_xlpm.v="0"),"mixture",IF(_xlpm.v="x","no PNEC","")))) | J37: =IF(B37="","", IF(OR(C37="", C37=0, C37="x"),"", IF(COUNTIF(C:C,C37)>1,"sum up input","") ) )
A38: 6 | C38: =_xlfn.XLOOKUP(B38,'A-search matrix ATC-CAS'!B:B,'A-search matrix ATC-CAS'!C:C,"No Match") -> 0 | D38: =_xlfn.XLOOKUP(B38,'A-search matrix ATC-CAS'!B:B,'A-search matrix ATC-CAS'!A:A,"No Match") -> 0 | E38: =_xlfn.XLOOKUP(B38,'A-search matrix ATC-CAS'!B:B,'A-search matrix ATC-CAS'!D:D,"No Match") -> 0 | F38: =_xlfn.XLOOKUP(C38,'B-search matrix PNEC MIC'!A:A,'B-search matrix PNEC MIC'!C:C,"No Match") -> No Match | I38: =IF(B38="","",_xlfn.LET(_xlpm.v,_xlfn.XLOOKUP(B38,'A-search matrix ATC-CAS'!B:B,'A-search matrix ATC-CAS'!C:C,""),IF(OR(_xlpm.v=0,_xlpm.v="0"),"mixture",IF(_xlpm.v="x","no PNEC","")))) | J38: =IF(B38="","", IF(OR(C38="", C38=0, C38="x"),"", IF(COUNTIF(C:C,C38)>1,"sum up input","") ) )
A39: 7 | C39: =_xlfn.XLOOKUP(B39,'A-search matrix ATC-CAS'!B:B,'A-search matrix ATC-CAS'!C:C,"No Match") -> 0 | D39: =_xlfn.XLOOKUP(B39,'A-search matrix ATC-CAS'!B:B,'A-search matrix ATC-CAS'!A:A,"No Match") -> 0 | E39: =_xlfn.XLOOKUP(B39,'A-search matrix ATC-CAS'!B:B,'A-search matrix ATC-CAS'!D:D,"No Match") -> 0 | F39: =_xlfn.XLOOKUP(C39,'B-search matrix PNEC MIC'!A:A,'B-search matrix PNEC MIC'!C:C,"No Match") -> No Match | I39: =IF(B39="","",_xlfn.LET(_xlpm.v,_xlfn.XLOOKUP(B39,'A-search matrix ATC-CAS'!B:B,'A-search matrix ATC-CAS'!C:C,""),IF(OR(_xlpm.v=0,_xlpm.v="0"),"mixture",IF(_xlpm.v="x","no PNEC","")))) | J39: =IF(B39="","", IF(OR(C39="", C39=0, C39="x"),"", IF(COUNTIF(C:C,C39)>1,"sum up input","") ) )
A40: 8 | C40: =_xlfn.XLOOKUP(B40,'A-search matrix ATC-CAS'!B:B,'A-search matrix ATC-CAS'!C:C,"No Match") -> 0 | D40: =_xlfn.XLOOKUP(B40,'A-search matrix ATC-CAS'!B:B,'A-search matrix ATC-CAS'!A:A,"No Match") -> 0 | E40: =_xlfn.XLOOKUP(B40,'A-search matrix ATC-CAS'!B:B,'A-search matrix ATC-CAS'!D:D,"No Match") -> 0 | F40: =_xlfn.XLOOKUP(C40,'B-search matrix PNEC MIC'!A:A,'B-search matrix PNEC MIC'!C:C,"No Match") -> No Match | I40: =IF(B40="","",_xlfn.LET(_xlpm.v,_xlfn.XLOOKUP(B40,'A-search matrix ATC-CAS'!B:B,'A-search matrix ATC-CAS'!C:C,""),IF(OR(_xlpm.v=0,_xlpm.v="0"),"mixture",IF(_xlpm.v="x","no PNEC","")))) | J40: =IF(B40="","", IF(OR(C40="", C40=0, C40="x"),"", IF(COUNTIF(C:C,C40)>1,"sum up input","") ) )
A41: 9 | C41: =_xlfn.XLOOKUP(B41,'A-search matrix ATC-CAS'!B:B,'A-search matrix ATC-CAS'!C:C,"No Match") -> 0 | D41: =_xlfn.XLOOKUP(B41,'A-search matrix ATC-CAS'!B:B,'A-search matrix ATC-CAS'!A:A,"No Match") -> 0 | E41: =_xlfn.XLOOKUP(B41,'A-search matrix ATC-CAS'!B:B,'A-search matrix ATC-CAS'!D:D,"No Match") -> 0 | F41: =_xlfn.XLOOKUP(C41,'B-search matrix PNEC MIC'!A:A,'B-search matrix PNEC MIC'!C:C,"No Match") -> No Match | I41: =IF(B41="","",_xlfn.LET(_xlpm.v,_xlfn.XLOOKUP(B41,'A-search matrix ATC-CAS'!B:B,'A-search matrix ATC-CAS'!C:C,""),IF(OR(_xlpm.v=0,_xlpm.v="0"),"mixture",IF(_xlpm.v="x","no PNEC","")))) | J41: =IF(B41="","", IF(OR(C41="", C41=0, C41="x"),"", IF(COUNTIF(C:C,C41)>1,"sum up input","") ) )
A42: 10 | C42: =_xlfn.XLOOKUP(B42,'A-search matrix ATC-CAS'!B:B,'A-search matrix ATC-CAS'!C:C,"No Match") -> 0 | D42: =_xlfn.XLOOKUP(B42,'A-search matrix ATC-CAS'!B:B,'A-search matrix ATC-CAS'!A:A,"No Match") -> 0 | E42: =_xlfn.XLOOKUP(B42,'A-search matrix ATC-CAS'!B:B,'A-search matrix ATC-CAS'!D:D,"No Match") -> 0 | F42: =_xlfn.XLOOKUP(C42,'B-search matrix PNEC MIC'!A:A,'B-search matrix PNEC MIC'!C:C,"No Match") -> No Match | I42: =IF(B42="","",_xlfn.LET(_xlpm.v,_xlfn.XLOOKUP(B42,'A-search matrix ATC-CAS'!B:B,'A-search matrix ATC-CAS'!C:C,""),IF(OR(_xlpm.v=0,_xlpm.v="0"),"mixture",IF(_xlpm.v="x","no PNEC","")))) | J42: =IF(B42="","", IF(OR(C42="", C42=0, C42="x"),"", IF(COUNTIF(C:C,C42)>1,"sum up input","") ) )
A43: 11 | C43: =_xlfn.XLOOKUP(B43,'A-search matrix ATC-CAS'!B:B,'A-search matrix ATC-CAS'!C:C,"No Match") -> 0 | D43: =_xlfn.XLOOKUP(B43,'A-search matrix ATC-CAS'!B:B,'A-search matrix ATC-CAS'!A:A,"No Match") -> 0 | E43: =_xlfn.XLOOKUP(B43,'A-search matrix ATC-CAS'!B:B,'A-search matrix ATC-CAS'!D:D,"No Match") -> 0 | F43: =_xlfn.XLOOKUP(C43,'B-search matrix PNEC MIC'!A:A,'B-search matrix PNEC MIC'!C:C,"No Match") -> No Match | I43: =IF(B43="","",_xlfn.LET(_xlpm.v,_xlfn.XLOOKUP(B43,'A-search matrix ATC-CAS'!B:B,'A-search matrix ATC-CAS'!C:C,""),IF(OR(_xlpm.v=0,_xlpm.v="0"),"mixture",IF(_xlpm.v="x","no PNEC","")))) | J43: =IF(B43="","", IF(OR(C43="", C43=0, C43="x"),"", IF(COUNTIF(C:C,C43)>1,"sum up input","") ) )
A44: 12 | C44: =_xlfn.XLOOKUP(B44,'A-search matrix ATC-CAS'!B:B,'A-search matrix ATC-CAS'!C:C,"No Match") -> 0 | D44: =_xlfn.XLOOKUP(B44,'A-search matrix ATC-CAS'!B:B,'A-search matrix ATC-CAS'!A:A,"No Match") -> 0 | E44: =_xlfn.XLOOKUP(B44,'A-search matrix ATC-CAS'!B:B,'A-search matrix ATC-CAS'!D:D,"No Match") -> 0 | F44: =_xlfn.XLOOKUP(C44,'B-search matrix PNEC MIC'!A:A,'B-search matrix PNEC MIC'!C:C,"No Match") -> No Match | I44: =IF(B44="","",_xlfn.LET(_xlpm.v,_xlfn.XLOOKUP(B44,'A-search matrix ATC-CAS'!B:B,'A-search matrix ATC-CAS'!C:C,""),IF(OR(_xlpm.v=0,_xlpm.v="0"),"mixture",IF(_xlpm.v="x","no PNEC","")))) | J44: =IF(B44="","", IF(OR(C44="", C44=0, C44="x"),"", IF(COUNTIF(C:C,C44)>1,"sum up input","") ) )
A45: 13 | C45: =_xlfn.XLOOKUP(B45,'A-search matrix ATC-CAS'!B:B,'A-search matrix ATC-CAS'!C:C,"No Match") -> 0 | D45: =_xlfn.XLOOKUP(B45,'A-search matrix ATC-CAS'!B:B,'A-search matrix ATC-CAS'!A:A,"No Match") -> 0 | E45: =_xlfn.XLOOKUP(B45,'A-search matrix ATC-CAS'!B:B,'A-search matrix ATC-CAS'!D:D,"No Match") -> 0 | F45: =_xlfn.XLOOKUP(C45,'B-search matrix PNEC MIC'!A:A,'B-search matrix PNEC MIC'!C:C,"No Match") -> No Match | I45: =IF(B45="","",_xlfn.LET(_xlpm.v,_xlfn.XLOOKUP(B45,'A-search matrix ATC-CAS'!B:B,'A-search matrix ATC-CAS'!C:C,""),IF(OR(_xlpm.v=0,_xlpm.v="0"),"mixture",IF(_xlpm.v="x","no PNEC","")))) | J45: =IF(B45="","", IF(OR(C45="", C45=0, C45="x"),"", IF(COUNTIF(C:C,C45)>1,"sum up input","") ) )
A46: 14 | C46: =_xlfn.XLOOKUP(B46,'A-search matrix ATC-CAS'!B:B,'A-search matrix ATC-CAS'!C:C,"No Match") -> 0 | D46: =_xlfn.XLOOKUP(B46,'A-search matrix ATC-CAS'!B:B,'A-search matrix ATC-CAS'!A:A,"No Match") -> 0 | E46: =_xlfn.XLOOKUP(B46,'A-search matrix ATC-CAS'!B:B,'A-search matrix ATC-CAS'!D:D,"No Match") -> 0 | F46: =_xlfn.XLOOKUP(C46,'B-search matrix PNEC MIC'!A:A,'B-search matrix PNEC MIC'!C:C,"No Match") -> No Match | I46: =IF(B46="","",_xlfn.LET(_xlpm.v,_xlfn.XLOOKUP(B46,'A-search matrix ATC-CAS'!B:B,'A-search matrix ATC-CAS'!C:C,""),IF(OR(_xlpm.v=0,_xlpm.v="0"),"mixture",IF(_xlpm.v="x","no PNEC","")))) | J46: =IF(B46="","", IF(OR(C46="", C46=0, C46="x"),"", IF(COUNTIF(C:C,C46)>1,"sum up input","") ) )
A47: 15 | C47: =_xlfn.XLOOKUP(B47,'A-search matrix ATC-CAS'!B:B,'A-search matrix ATC-CAS'!C:C,"No Match") -> 0 | D47: =_xlfn.XLOOKUP(B47,'A-search matrix ATC-CAS'!B:B,'A-search matrix ATC-CAS'!A:A,"No Match") -> 0 | E47: =_xlfn.XLOOKUP(B47,'A-search matrix ATC-CAS'!B:B,'A-search matrix ATC-CAS'!D:D,"No Match") -> 0 | F47: =_xlfn.XLOOKUP(C47,'B-search matrix PNEC MIC'!A:A,'B-search matrix PNEC MIC'!C:C,"No Match") -> No Match | I47: =IF(B47="","",_xlfn.LET(_xlpm.v,_xlfn.XLOOKUP(B47,'A-search matrix ATC-CAS'!B:B,'A-search matrix ATC-CAS'!C:C,""),IF(OR(_xlpm.v=0,_xlpm.v="0"),"mixture",IF(_xlpm.v="x","no PNEC","")))) | J47: =IF(B47="","", IF(OR(C47="", C47=0, C47="x"),"", IF(COUNTIF(C:C,C47)>1,"sum up input","") ) )
... A132: 100 | C132: =_xlfn.XLOOKUP(B132,'A-search matrix ATC-CAS'!B:B,'A-search matrix ATC-CAS'!C:C,"No Match") -> 0 | D132: =_xlfn.XLOOKUP(B132,'A-search matrix ATC-CAS'!B:B,'A-search matrix ATC-CAS'!A:A,"No Match") -> 0 | E132: =_xlfn.XLOOKUP(B132,'A-search matrix ATC-CAS'!B:B,'A-search matrix ATC-CAS'!D:D,"No Match") -> 0 | F132: =_xlfn.XLOOKUP(C132,'B-search matrix PNEC MIC'!A:A,'B-search matrix PNEC MIC'!C:C,"No Match") -> No Match | I132: =IF(B132="","",_xlfn.LET(_xlpm.v,_xlfn.XLOOKUP(B132,'A-search matrix ATC-CAS'!B:B,'A-search matrix ATC-CAS'!C:C,""),IF(OR(_xlpm.v=0,_xlpm.v="0"),"mixture",IF(_xlpm.v="x","no PNEC","")))) | J132: =IF(B132="","", IF(OR(C132="", C132=0, C132="x"),"", IF(COUNTIF(C:C,C132)>1,"sum up input","") ) )

Sheet 2-water flows (input) and DF
B2: Treatment area | C2: Harelbeke
C4: m3/day | D4: L/year
B5: Qriver | C5: =_xlfn.XLOOKUP($C$2,'E-search matrix Flemish WWTP'!$B:$B,'E-search matrix Flemish WWTP'!$J:$J,"") -> 556588.8 | D5: =C5*365*1000 -> 2.0315491e+11
B6: Qwwtp_effluent | C6: =_xlfn.XLOOKUP($C$2,'E-search matrix Flemish WWTP'!$B:$B,'E-search matrix Flemish WWTP'!$E:$E,"") -> 19350 | D6: =C6*365*1000 -> 7062750000
B7: Qhospital_effluent | C7: 500 | D7: =C7*365*1000 -> 182500000
C9: Dilution factor (DF_hospital_river) | D9: =D5/D7 -> 1113.1776
C10: Dilution factor (DF_hospital_WWTP) | D10: =D6/D7 -> 38.7

Sheet 3-TIER1 results
D1: Risk for antimicrobial resistance | J1: Ecological risk
A2: own ID | B2: CAS nr. | C2: API | D2: PEChospital (µg/L) | E2: RQ(AMR)hospital | F2: PECwwtp (µg/L) | G2: RQ(AMR)wwtp | H2: PECriver (µg/L) | I2: RQ(AMR)river | J2: PECriver (µg/L) | K2: RQ(eco)river
A3: ='1-medicine use (input)'!A2 -> D01 | B3: =IF('1-medicine use (input)'!C2="","",'1-medicine use (input)'!C2) -> 657-24-9 | C3: ='1-medicine use (input)'!D2 -> Metformin | D3: ='1-medicine use (input)'!G2/'2-water flows (input) and DF'!$D$7*1000000 -> 0 | E3: =IFERROR(IF('1-medicine use (input)'!F2="No Match","NA",D3/'1-medicine use (input)'!F2),"NA") -> NA | F3: ='1-medicine use (input)'!G2/'2-water flows (input) and DF'!$D$6*1000000 -> 0 | G3: =IFERROR(IF('1-medicine use (input)'!F2="No Match","NA",F3/'1-medicine use (input)'!F2),"NA") -> NA | H3: ='1-medicine use (input)'!G2/'2-water flows (input) and DF'!$D$5*1000000 -> 0 | I3: =IFERROR(IF('1-medicine use (input)'!F2="No Match","NA",H3/'1-medicine use (input)'!F2),"NA") -> NA | J3: =H3 -> 0 | K3: =IFERROR(IF('1-medicine use (input)'!E2="No Match","NA",H3/'1-medicine use (input)'!E2),"NA") -> 0
A4: ='1-medicine use (input)'!A3 -> D02 | B4: =IF('1-medicine use (input)'!C3="","",'1-medicine use (input)'!C3) -> 58-93-5 | C4: ='1-medicine use (input)'!D3 -> Hydrochlorothiazide | D4: ='1-medicine use (input)'!G3/'2-water flows (input) and DF'!$D$7*1000000 -> 0 | E4: =IFERROR(IF('1-medicine use (input)'!F3="No Match","NA",D4/'1-medicine use (input)'!F3),"NA") -> NA | F4: ='1-medicine use (input)'!G3/'2-water flows (input) and DF'!$D$6*1000000 -> 0 | G4: =IFERROR(IF('1-medicine use (input)'!F3="No Match","NA",F4/'1-medicine use (input)'!F3),"NA") -> NA | H4: ='1-medicine use (input)'!G3/'2-water flows (input) and DF'!$D$5*1000000 -> 0 | I4: =IFERROR(IF('1-medicine use (input)'!F3="No Match","NA",H4/'1-medicine use (input)'!F3),"NA") -> NA | J4: =H4 -> 0 | K4: =IFERROR(IF('1-medicine use (input)'!E3="No Match","NA",H4/'1-medicine use (input)'!E3),"NA") -> 0
A5: ='1-medicine use (input)'!A4 -> D03 | B5: =IF('1-medicine use (input)'!C4="","",'1-medicine use (input)'!C4) -> 525-66-6 | C5: ='1-medicine use (input)'!D4 -> Propranolol | D5: ='1-medicine use (input)'!G4/'2-water flows (input) and DF'!$D$7*1000000 -> 0 | E5: =IFERROR(IF('1-medicine use (input)'!F4="No Match","NA",D5/'1-medicine use (input)'!F4),"NA") -> NA | F5: ='1-medicine use (input)'!G4/'2-water flows (input) and DF'!$D$6*1000000 -> 0 | G5: =IFERROR(IF('1-medicine use (input)'!F4="No Match","NA",F5/'1-medicine use (input)'!F4),"NA") -> NA | H5: ='1-medicine use (input)'!G4/'2-water flows (input) and DF'!$D$5*1000000 -> 0 | I5: =IFERROR(IF('1-medicine use (input)'!F4="No Match","NA",H5/'1-medicine use (input)'!F4),"NA") -> NA | J5: =H5 -> 0 | K5: =IFERROR(IF('1-medicine use (input)'!E4="No Match","NA",H5/'1-medicine use (input)'!E4),"NA") -> 0
A6: ='1-medicine use (input)'!A5 -> D04 | B6: =IF('1-medicine use (input)'!C5="","",'1-medicine use (input)'!C5) -> 51384-51-1 | C6: ='1-medicine use (input)'!D5 -> Metoprolol | D6: ='1-medicine use (input)'!G5/'2-water flows (input) and DF'!$D$7*1000000 -> 0 | E6: =IFERROR(IF('1-medicine use (input)'!F5="No Match","NA",D6/'1-medicine use (input)'!F5),"NA") -> NA | F6: ='1-medicine use (input)'!G5/'2-water flows (input) and DF'!$D$6*1000000 -> 0 | G6: =IFERROR(IF('1-medicine use (input)'!F5="No Match","NA",F6/'1-medicine use (input)'!F5),"NA") -> NA | H6: ='1-medicine use (input)'!G5/'2-water flows (input) and DF'!$D$5*1000000 -> 0 | I6: =IFERROR(IF('1-medicine use (input)'!F5="No Match","NA",H6/'1-medicine use (input)'!F5),"NA") -> NA | J6: =H6 -> 0 | K6: =IFERROR(IF('1-medicine use (input)'!E5="No Match","NA",H6/'1-medicine use (input)'!E5),"NA") -> 0
A7: ='1-medicine use (input)'!A6 -> D05 | B7: =IF('1-medicine use (input)'!C6="","",'1-medicine use (input)'!C6) -> 138402-11-6 | C7: ='1-medicine use (input)'!D6 -> Irbesartan | D7: ='1-medicine use (input)'!G6/'2-water flows (input) and DF'!$D$7*1000000 -> 0 | E7: =IFERROR(IF('1-medicine use (input)'!F6="No Match","NA",D7/'1-medicine use (input)'!F6),"NA") -> NA | F7: ='1-medicine use (input)'!G6/'2-water flows (input) and DF'!$D$6*1000000 -> 0 | G7: =IFERROR(IF('1-medicine use (input)'!F6="No Match","NA",F7/'1-medicine use (input)'!F6),"NA") -> NA | H7: ='1-medicine use (input)'!G6/'2-water flows (input) and DF'!$D$5*1000000 -> 0 | I7: =IFERROR(IF('1-medicine use (input)'!F6="No Match","NA",H7/'1-medicine use (input)'!F6),"NA") -> NA | J7: =H7 -> 0 | K7: =IFERROR(IF('1-medicine use (input)'!E6="No Match","NA",H7/'1-medicine use (input)'!E6),"NA") -> 0
A8: ='1-medicine use (input)'!A7 -> D06 | B8: =IF('1-medicine use (input)'!C7="","",'1-medicine use (input)'!C7) -> 139481-59-7 | C8: ='1-medicine use (input)'!D7 -> Candesartan | D8: ='1-medicine use (input)'!G7/'2-water flows (input) and DF'!$D$7*1000000 -> 0 | E8: =IFERROR(IF('1-medicine use (input)'!F7="No Match","NA",D8/'1-medicine use (input)'!F7),"NA") -> NA | F8: ='1-medicine use (input)'!G7/'2-water flows (input) and DF'!$D$6*1000000 -> 0 | G8: =IFERROR(IF('1-medicine use (input)'!F7="No Match","NA",F8/'1-medicine use (input)'!F7),"NA") -> NA | H8: ='1-medicine use (input)'!G7/'2-water flows (input) and DF'!$D$5*1000000 -> 0 | I8: =IFERROR(IF('1-medicine use (input)'!F7="No Match","NA",H8/'1-medicine use (input)'!F7),"NA") -> NA | J8: =H8 -> 0 | K8: =IFERROR(IF('1-medicine use (input)'!E7="No Match","NA",H8/'1-medicine use (input)'!E7),"NA") -> 0
A9: ='1-medicine use (input)'!A8 -> D07 | B9: =IF('1-medicine use (input)'!C8="","",'1-medicine use (input)'!C8) -> 23593-75-1 | C9: ='1-medicine use (input)'!D8 -> Clotrimazole | D9: ='1-medicine use (input)'!G8/'2-water flows (input) and DF'!$D$7*1000000 -> 0 | E9: =IFERROR(IF('1-medicine use (input)'!F8="No Match","NA",D9/'1-medicine use (input)'!F8),"NA") -> NA | F9: ='1-medicine use (input)'!G8/'2-water flows (input) and DF'!$D$6*1000000 -> 0 | G9: =IFERROR(IF('1-medicine use (input)'!F8="No Match","NA",F9/'1-medicine use (input)'!F8),"NA") -> NA | H9: ='1-medicine use (input)'!G8/'2-water flows (input) and DF'!$D$5*1000000 -> 0 | I9: =IFERROR(IF('1-medicine use (input)'!F8="No Match","NA",H9/'1-medicine use (input)'!F8),"NA") -> NA | J9: =H9 -> 0 | K9: =IFERROR(IF('1-medicine use (input)'!E8="No Match","NA",H9/'1-medicine use (input)'!E8),"NA") -> 0
A10: ='1-medicine use (input)'!A9 -> D08 | B10: =IF('1-medicine use (input)'!C9="","",'1-medicine use (input)'!C9) -> 57-63-6 | C10: ='1-medicine use (input)'!D9 -> 17Alpha-Ethinylestradiol | D10: ='1-medicine use (input)'!G9/'2-water flows (input) and DF'!$D$7*1000000 -> 0 | E10: =IFERROR(IF('1-medicine use (input)'!F9="No Match","NA",D10/'1-medicine use (input)'!F9),"NA") -> NA | F10: ='1-medicine use (input)'!G9/'2-water flows (input) and DF'!$D$6*1000000 -> 0 | G10: =IFERROR(IF('1-medicine use (input)'!F9="No Match","NA",F10/'1-medicine use (input)'!F9),"NA") -> NA | H10: ='1-medicine use (input)'!G9/'2-water flows (input) and DF'!$D$5*1000000 -> 0 | I10: =IFERROR(IF('1-medicine use (input)'!F9="No Match","NA",H10/'1-medicine use (input)'!F9),"NA") -> NA | J10: =H10 -> 0 | K10: =IFERROR(IF('1-medicine use (input)'!E9="No Match","NA",H10/'1-medicine use (input)'!E9),"NA") -> 0
A11: ='1-medicine use (input)'!A10 -> D09 | B11: =IF('1-medicine use (input)'!C10="","",'1-medicine use (input)'!C10) -> 4245-41-4 | C11: ='1-medicine use (input)'!D10 -> Estradiol | D11: ='1-medicine use (input)'!G10/'2-water flows (input) and DF'!$D$7*1000000 -> 0 | E11: =IFERROR(IF('1-medicine use (input)'!F10="No Match","NA",D11/'1-medicine use (input)'!F10),"NA") -> NA | F11: ='1-medicine use (input)'!G10/'2-water flows (input) and DF'!$D$6*1000000 -> 0 | G11: =IFERROR(IF('1-medicine use (input)'!F10="No Match","NA",F11/'1-medicine use (input)'!F10),"NA") -> NA | H11: ='1-medicine use (input)'!G10/'2-water flows (input) and DF'!$D$5*1000000 -> 0 | I11: =IFERROR(IF('1-medicine use (input)'!F10="No Match","NA",H11/'1-medicine use (input)'!F10),"NA") -> NA | J11: =H11 -> 0 | K11: =IFERROR(IF('1-medicine use (input)'!E10="No Match","NA",H11/'1-medicine use (input)'!E10),"NA") -> 0
A12: ='1-medicine use (input)'!A11 -> D10 | B12: =IF('1-medicine use (input)'!C11="","",'1-medicine use (input)'!C11) -> 53-16-7 | C12: ='1-medicine use (input)'!D11 -> Estrone | D12: ='1-medicine use (input)'!G11/'2-water flows (input) and DF'!$D$7*1000000 -> 0 | E12: =IFERROR(IF('1-medicine use (input)'!F11="No Match","NA",D12/'1-medicine use (input)'!F11),"NA") -> NA | F12: ='1-medicine use (input)'!G11/'2-water flows (input) and DF'!$D$6*1000000 -> 0 | G12: =IFERROR(IF('1-medicine use (input)'!F11="No Match","NA",F12/'1-medicine use (input)'!F11),"NA") -> NA | H12: ='1-medicine use (input)'!G11/'2-water flows (input) and DF'!$D$5*1000000 -> 0 | I12: =IFERROR(IF('1-medicine use (input)'!F11="No Match","NA",H12/'1-medicine use (input)'!F11),"NA") -> NA | J12: =H12 -> 0 | K12: =IFERROR(IF('1-medicine use (input)'!E11="No Match","NA",H12/'1-medicine use (input)'!E11),"NA") -> 0
A13: ='1-medicine use (input)'!A12 -> D11 | B13: =IF('1-medicine use (input)'!C12="","",'1-medicine use (input)'!C12) -> 79-57-2 | C13: ='1-medicine use (input)'!D12 -> Oxytetracycline | D13: ='1-medicine use (input)'!G12/'2-water flows (input) and DF'!$D$7*1000000 -> 0 | E13: =IFERROR(IF('1-medicine use (input)'!F12="No Match","NA",D13/'1-medicine use (input)'!F12),"NA") -> 0 | F13: ='1-medicine use (input)'!G12/'2-water flows (input) and DF'!$D$6*1000000 -> 0 | G13: =IFERROR(IF('1-medicine use (input)'!F12="No Match","NA",F13/'1-medicine use (input)'!F12),"NA") -> 0 | H13: ='1-medicine use (input)'!G12/'2-water flows (input) and DF'!$D$5*1000000 -> 0 | I13: =IFERROR(IF('1-medicine use (input)'!F12="No Match","NA",H13/'1-medicine use (input)'!F12),"NA") -> 0 | J13: =H13 -> 0 | K13: =IFERROR(IF('1-medicine use (input)'!E12="No Match","NA",H13/'1-medicine use (input)'!E12),"NA") -> 0
A14: ='1-medicine use (input)'!A13 -> D12 | B14: =IF('1-medicine use (input)'!C13="","",'1-medicine use (input)'!C13) -> 60-54-8 | C14: ='1-medicine use (input)'!D13 -> Tetracycline | D14: ='1-medicine use (input)'!G13/'2-water flows (input) and DF'!$D$7*1000000 -> 0 | E14: =IFERROR(IF('1-medicine use (input)'!F13="No Match","NA",D14/'1-medicine use (input)'!F13),"NA") -> 0 | F14: ='1-medicine use (input)'!G13/'2-water flows (input) and DF'!$D$6*1000000 -> 0 | G14: =IFERROR(IF('1-medicine use (input)'!F13="No Match","NA",F14/'1-medicine use (input)'!F13),"NA") -> 0 | H14: ='1-medicine use (input)'!G13/'2-water flows (input) and DF'!$D$5*1000000 -> 0 | I14: =IFERROR(IF('1-medicine use (input)'!F13="No Match","NA",H14/'1-medicine use (input)'!F13),"NA") -> 0 | J14: =H14 -> 0 | K14: =IFERROR(IF('1-medicine use (input)'!E13="No Match","NA",H14/'1-medicine use (input)'!E13),"NA") -> 0
... A133: ='1-medicine use (input)'!A132 -> 100 | B133: =IF('1-medicine use (input)'!C132="","",'1-medicine use (input)'!C132) -> 0 | C133: ='1-medicine use (input)'!D132 -> 0 | D133: ='1-medicine use (input)'!G132/'2-water flows (input) and DF'!$D$7*1000000 -> 0 | E133: =IFERROR(IF('1-medicine use (input)'!F132="No Match","NA",D133/'1-medicine use (input)'!F132),"NA") -> NA | F133: ='1-medicine use (input)'!G132/'2-water flows (input) and DF'!$D$6*1000000 -> 0 | G133: =IFERROR(IF('1-medicine use (input)'!F132="No Match","NA",F133/'1-medicine use (input)'!F132),"NA") -> NA | H133: ='1-medicine use (input)'!G132/'2-water flows (input) and DF'!$D$5*1000000 -> 0 | I133: =IFERROR(IF('1-medicine use (input)'!F132="No Match","NA",H133/'1-medicine use (input)'!F132),"NA") -> NA | J133: =H133 -> 0 | K133: =IFERROR(IF('1-medicine use (input)'!E132="No Match","NA",H133/'1-medicine use (input)'!E132),"NA") -> NA

Sheet 4-TIER2 refinement
G1: % of API excreted by patient | H1: Estimated % of medicine use (leaving hospital pharmacy) that is excreted when patient is in the hospital | I1: % of API in influent of WWTP that is emitted via the effluent (=100%-percentage removed in treatment process)
A2: own ID | B2: CAS nr. | C2: API | E2: At least one RQ>0.1? | G2: F_excretion (%) | H2: F_hospital (%) | I2: F_WWTP (%)
A3: ='1-medicine use (input)'!A2 -> D01 | B3: =IF('1-medicine use (input)'!C2="","",'1-medicine use (input)'!C2) -> 657-24-9 | C3: =IF('1-medicine use (input)'!D2="","",'1-medicine use (input)'!D2) -> Metformin | E3: =IF(OR(AND(ISNONTEXT('3-TIER1 results'!E3),'3-TIER1 results'!E3>0.1),AND(ISNONTEXT('3-TIER1 results'!G3),'3-TIER1 results'!G3>0.1),AND(ISNONTEXT('3-TIER1 results'!I3),'3-TIER1 results'!I3>0.1),AND(ISNONTEXT('3-TIER1 results'!K3),'3-TIER1 results'!K3>0.1)),"Y","") | F3: =IF(E3="Y","UPDATE VALUES->","") | G3: =IF($E3="Y",99.99999,100) -> 100 | H3: =IF($E3="Y",99.99999,100) -> 100 | I3: =IF(E3="Y", IFERROR(VLOOKUP(B3,'D-search matrix Fwwtp'!D:G,4,FALSE),100), 100) -> 100
A4: ='1-medicine use (input)'!A3 -> D02 | B4: =IF('1-medicine use (input)'!C3="","",'1-medicine use (input)'!C3) -> 58-93-5 | C4: =IF('1-medicine use (input)'!D3="","",'1-medicine use (input)'!D3) -> Hydrochlorothiazide | E4: =IF(OR(AND(ISNONTEXT('3-TIER1 results'!E4),'3-TIER1 results'!E4>0.1),AND(ISNONTEXT('3-TIER1 results'!G4),'3-TIER1 results'!G4>0.1),AND(ISNONTEXT('3-TIER1 results'!I4),'3-TIER1 results'!I4>0.1),AND(ISNONTEXT('3-TIER1 results'!K4),'3-TIER1 results'!K4>0.1)),"Y","") | F4: =IF(E4="Y","UPDATE VALUES->","") | G4: =IF($E4="Y",99.99999,100) -> 100 | H4: =IF($E4="Y",99.99999,100) -> 100 | I4: =IF(E4="Y", IFERROR(VLOOKUP(B4,'D-search matrix Fwwtp'!D:G,4,FALSE),100), 100) -> 100
A5: ='1-medicine use (input)'!A4 -> D03 | B5: =IF('1-medicine use (input)'!C4="","",'1-medicine use (input)'!C4) -> 525-66-6 | C5: =IF('1-medicine use (input)'!D4="","",'1-medicine use (input)'!D4) -> Propranolol | E5: =IF(OR(AND(ISNONTEXT('3-TIER1 results'!E5),'3-TIER1 results'!E5>0.1),AND(ISNONTEXT('3-TIER1 results'!G5),'3-TIER1 results'!G5>0.1),AND(ISNONTEXT('3-TIER1 results'!I5),'3-TIER1 results'!I5>0.1),AND(ISNONTEXT('3-TIER1 results'!K5),'3-TIER1 results'!K5>0.1)),"Y","") | F5: =IF(E5="Y","UPDATE VALUES->","") | G5: =IF($E5="Y",99.99999,100) -> 100 | H5: =IF($E5="Y",99.99999,100) -> 100 | I5: =IF(E5="Y", IFERROR(VLOOKUP(B5,'D-search matrix Fwwtp'!D:G,4,FALSE),100), 100) -> 100
A6: ='1-medicine use (input)'!A5 -> D04 | B6: =IF('1-medicine use (input)'!C5="","",'1-medicine use (input)'!C5) -> 51384-51-1 | C6: =IF('1-medicine use (input)'!D5="","",'1-medicine use (input)'!D5) -> Metoprolol | E6: =IF(OR(AND(ISNONTEXT('3-TIER1 results'!E6),'3-TIER1 results'!E6>0.1),AND(ISNONTEXT('3-TIER1 results'!G6),'3-TIER1 results'!G6>0.1),AND(ISNONTEXT('3-TIER1 results'!I6),'3-TIER1 results'!I6>0.1),AND(ISNONTEXT('3-TIER1 results'!K6),'3-TIER1 results'!K6>0.1)),"Y","") | F6: =IF(E6="Y","UPDATE VALUES->","") | G6: =IF($E6="Y",99.99999,100) -> 100 | H6: =IF($E6="Y",99.99999,100) -> 100 | I6: =IF(E6="Y", IFERROR(VLOOKUP(B6,'D-search matrix Fwwtp'!D:G,4,FALSE),100), 100) -> 100
A7: ='1-medicine use (input)'!A6 -> D05 | B7: =IF('1-medicine use (input)'!C6="","",'1-medicine use (input)'!C6) -> 138402-11-6 | C7: =IF('1-medicine use (input)'!D6="","",'1-medicine use (input)'!D6) -> Irbesartan | E7: =IF(OR(AND(ISNONTEXT('3-TIER1 results'!E7),'3-TIER1 results'!E7>0.1),AND(ISNONTEXT('3-TIER1 results'!G7),'3-TIER1 results'!G7>0.1),AND(ISNONTEXT('3-TIER1 results'!I7),'3-TIER1 results'!I7>0.1),AND(ISNONTEXT('3-TIER1 results'!K7),'3-TIER1 results'!K7>0.1)),"Y","") | F7: =IF(E7="Y","UPDATE VALUES->","") | G7: =IF($E7="Y",99.99999,100) -> 100 | H7: =IF($E7="Y",99.99999,100) -> 100 | I7: =IF(E7="Y", IFERROR(VLOOKUP(B7,'D-search matrix Fwwtp'!D:G,4,FALSE),100), 100) -> 100
A8: ='1-medicine use (input)'!A7 -> D06 | B8: =IF('1-medicine use (input)'!C7="","",'1-medicine use (input)'!C7) -> 139481-59-7 | C8: =IF('1-medicine use (input)'!D7="","",'1-medicine use (input)'!D7) -> Candesartan | E8: =IF(OR(AND(ISNONTEXT('3-TIER1 results'!E8),'3-TIER1 results'!E8>0.1),AND(ISNONTEXT('3-TIER1 results'!G8),'3-TIER1 results'!G8>0.1),AND(ISNONTEXT('3-TIER1 results'!I8),'3-TIER1 results'!I8>0.1),AND(ISNONTEXT('3-TIER1 results'!K8),'3-TIER1 results'!K8>0.1)),"Y","") | F8: =IF(E8="Y","UPDATE VALUES->","") | G8: =IF($E8="Y",99.99999,100) -> 100 | H8: =IF($E8="Y",99.99999,100) -> 100 | I8: =IF(E8="Y", IFERROR(VLOOKUP(B8,'D-search matrix Fwwtp'!D:G,4,FALSE),100), 100) -> 100
A9: ='1-medicine use (input)'!A8 -> D07 | B9: =IF('1-medicine use (input)'!C8="","",'1-medicine use (input)'!C8) -> 23593-75-1 | C9: =IF('1-medicine use (input)'!D8="","",'1-medicine use (input)'!D8) -> Clotrimazole | E9: =IF(OR(AND(ISNONTEXT('3-TIER1 results'!E9),'3-TIER1 results'!E9>0.1),AND(ISNONTEXT('3-TIER1 results'!G9),'3-TIER1 results'!G9>0.1),AND(ISNONTEXT('3-TIER1 results'!I9),'3-TIER1 results'!I9>0.1),AND(ISNONTEXT('3-TIER1 results'!K9),'3-TIER1 results'!K9>0.1)),"Y","") | F9: =IF(E9="Y","UPDATE VALUES->","") | G9: =IF($E9="Y",99.99999,100) -> 100 | H9: =IF($E9="Y",99.99999,100) -> 100 | I9: =IF(E9="Y", IFERROR(VLOOKUP(B9,'D-search matrix Fwwtp'!D:G,4,FALSE),100), 100) -> 100
A10: ='1-medicine use (input)'!A9 -> D08 | B10: =IF('1-medicine use (input)'!C9="","",'1-medicine use (input)'!C9) -> 57-63-6 | C10: =IF('1-medicine use (input)'!D9="","",'1-medicine use (input)'!D9) -> 17Alpha-Ethinylestradiol | E10: =IF(OR(AND(ISNONTEXT('3-TIER1 results'!E10),'3-TIER1 results'!E10>0.1),AND(ISNONTEXT('3-TIER1 results'!G10),'3-TIER1 results'!G10>0.1),AND(ISNONTEXT('3-TIER1 results'!I10),'3-TIER1 results'!I10>0.1),AND(ISNONTEXT('3-TIER1 results'!K10),'3-TIER1 results'!K10>0.1)),"Y","") | F10: =IF(E10="Y","UPDATE VALUES->","") | G10: =IF($E10="Y",99.99999,100) -> 100 | H10: =IF($E10="Y",99.99999,100) -> 100 | I10: =IF(E10="Y", IFERROR(VLOOKUP(B10,'D-search matrix Fwwtp'!D:G,4,FALSE),100), 100) -> 100
A11: ='1-medicine use (input)'!A10 -> D09 | B11: =IF('1-medicine use (input)'!C10="","",'1-medicine use (input)'!C10) -> 4245-41-4 | C11: =IF('1-medicine use (input)'!D10="","",'1-medicine use (input)'!D10) -> Estradiol | E11: =IF(OR(AND(ISNONTEXT('3-TIER1 results'!E11),'3-TIER1 results'!E11>0.1),AND(ISNONTEXT('3-TIER1 results'!G11),'3-TIER1 results'!G11>0.1),AND(ISNONTEXT('3-TIER1 results'!I11),'3-TIER1 results'!I11>0.1),AND(ISNONTEXT('3-TIER1 results'!K11),'3-TIER1 results'!K11>0.1)),"Y","") | F11: =IF(E11="Y","UPDATE VALUES->","") | G11: =IF($E11="Y",99.99999,100) -> 100 | H11: =IF($E11="Y",99.99999,100) -> 100 | I11: =IF(E11="Y", IFERROR(VLOOKUP(B11,'D-search matrix Fwwtp'!D:G,4,FALSE),100), 100) -> 100
A12: ='1-medicine use (input)'!A11 -> D10 | B12: =IF('1-medicine use (input)'!C11="","",'1-medicine use (input)'!C11) -> 53-16-7 | C12: =IF('1-medicine use (input)'!D11="","",'1-medicine use (input)'!D11) -> Estrone | E12: =IF(OR(AND(ISNONTEXT('3-TIER1 results'!E12),'3-TIER1 results'!E12>0.1),AND(ISNONTEXT('3-TIER1 results'!G12),'3-TIER1 results'!G12>0.1),AND(ISNONTEXT('3-TIER1 results'!I12),'3-TIER1 results'!I12>0.1),AND(ISNONTEXT('3-TIER1 results'!K12),'3-TIER1 results'!K12>0.1)),"Y","") | F12: =IF(E12="Y","UPDATE VALUES->","") | G12: =IF($E12="Y",99.99999,100) -> 100 | H12: =IF($E12="Y",99.99999,100) -> 100 | I12: =IF(E12="Y", IFERROR(VLOOKUP(B12,'D-search matrix Fwwtp'!D:G,4,FALSE),100), 100) -> 100
A13: ='1-medicine use (input)'!A12 -> D11 | B13: =IF('1-medicine use (input)'!C12="","",'1-medicine use (input)'!C12) -> 79-57-2 | C13: =IF('1-medicine use (input)'!D12="","",'1-medicine use (input)'!D12) -> Oxytetracycline | E13: =IF(OR(AND(ISNONTEXT('3-TIER1 results'!E13),'3-TIER1 results'!E13>0.1),AND(ISNONTEXT('3-TIER1 results'!G13),'3-TIER1 results'!G13>0.1),AND(ISNONTEXT('3-TIER1 results'!I13),'3-TIER1 results'!I13>0.1),AND(ISNONTEXT('3-TIER1 results'!K13),'3-TIER1 results'!K13>0.1)),"Y","") | F13: =IF(E13="Y","UPDATE VALUES->","") | G13: =IF($E13="Y",99.99999,100) -> 100 | H13: =IF($E13="Y",99.99999,100) -> 100 | I13: =IF(E13="Y", IFERROR(VLOOKUP(B13,'D-search matrix Fwwtp'!D:G,4,FALSE),100), 100) -> 100
A14: ='1-medicine use (input)'!A13 -> D12 | B14: =IF('1-medicine use (input)'!C13="","",'1-medicine use (input)'!C13) -> 60-54-8 | C14: =IF('1-medicine use (input)'!D13="","",'1-medicine use (input)'!D13) -> Tetracycline | E14: =IF(OR(AND(ISNONTEXT('3-TIER1 results'!E14),'3-TIER1 results'!E14>0.1),AND(ISNONTEXT('3-TIER1 results'!G14),'3-TIER1 results'!G14>0.1),AND(ISNONTEXT('3-TIER1 results'!I14),'3-TIER1 results'!I14>0.1),AND(ISNONTEXT('3-TIER1 results'!K14),'3-TIER1 results'!K14>0.1)),"Y","") | F14: =IF(E14="Y","UPDATE VALUES->","") | G14: =IF($E14="Y",99.99999,100) -> 100 | H14: =IF($E14="Y",99.99999,100) -> 100 | I14: =IF(E14="Y", IFERROR(VLOOKUP(B14,'D-search matrix Fwwtp'!D:G,4,FALSE),100), 100) -> 100
... A24: ='1-medicine use (input)'!A23 -> D22 | B24: =IF('1-medicine use (input)'!C23="","",'1-medicine use (input)'!C23) -> 86386-73-4 | C24: =IF('1-medicine use (input)'!D23="","",'1-medicine use (input)'!D23) -> Fluconazole | E24: =IF(OR(AND(ISNONTEXT('3-TIER1 results'!E24),'3-TIER1 results'!E24>0.1),AND(ISNONTEXT('3-TIER1 results'!G24),'3-TIER1 results'!G24>0.1),AND(ISNONTEXT('3-TIER1 results'!I24),'3-TIER1 results'!I24>0.1),AND(ISNONTEXT('3-TIER1 results'!K24),'3-TIER1 results'!K24>0.1)),"Y","") | F24: =IF(E24="Y","UPDATE VALUES->","") | G24: =IF($E24="Y",99.99999,100) -> 100 | H24: =IF($E24="Y",99.99999,100) -> 100 | I24: =IF(E24="Y", IFERROR(VLOOKUP(B24,'D-search matrix Fwwtp'!D:G,4,FALSE),100), 100) -> 100
A25: ='1-medicine use (input)'!A24 -> D23 | B25: =IF('1-medicine use (input)'!C24="","",'1-medicine use (input)'!C24) -> 84625-61-6 | C25: =IF('1-medicine use (input)'!D24="","",'1-medicine use (input)'!D24) -> Itraconazole | E25: =IF(OR(AND(ISNONTEXT('3-TIER1 results'!E25),'3-TIER1 results'!E25>0.1),AND(ISNONTEXT('3-TIER1 results'!G25),'3-TIER1 results'!G25>0.1),AND(ISNONTEXT('3-TIER1 results'!I25),'3-TIER1 results'!I25>0.1),AND(ISNONTEXT('3-TIER1 results'!K25),'3-TIER1 results'!K25>0.1)),"Y","") -> Y | F25: =IF(E25="Y","UPDATE VALUES->","") -> UPDATE VALUES-> | G25: =IF($E25="Y",99.99999,100) -> 99.99999 | H25: 30 | I25: =IF(E25="Y", IFERROR(VLOOKUP(B25,'D-search matrix Fwwtp'!D:G,4,FALSE),100), 100) -> 96
A26: ='1-medicine use (input)'!A25 -> D24 | B26: =IF('1-medicine use (input)'!C25="","",'1-medicine use (input)'!C25) -> 15687-27-1 | C26: =IF('1-medicine use (input)'!D25="","",'1-medicine use (input)'!D25) -> Ibuprofen | E26: =IF(OR(AND(ISNONTEXT('3-TIER1 results'!E26),'3-TIER1 results'!E26>0.1),AND(ISNONTEXT('3-TIER1 results'!G26),'3-TIER1 results'!G26>0.1),AND(ISNONTEXT('3-TIER1 results'!I26),'3-TIER1 results'!I26>0.1),AND(ISNONTEXT('3-TIER1 results'!K26),'3-TIER1 results'!K26>0.1)),"Y","") -> Y | F26: =IF(E26="Y","UPDATE VALUES->","") -> UPDATE VALUES-> | G26: =IF($E26="Y",99.99999,100) -> 99.99999 | H26: =IF($E26="Y",99.99999,100) -> 99.99999 | I26: =IF(E26="Y", IFERROR(VLOOKUP(B26,'D-search matrix Fwwtp'!D:G,4,FALSE),100), 100) -> 12.1
A27: ='1-medicine use (input)'!A26 -> D25 | B27: =IF('1-medicine use (input)'!C26="","",'1-medicine use (input)'!C26) -> 15307-86-5 | C27: =IF('1-medicine use (input)'!D26="","",'1-medicine use (input)'!D26) -> Diclofenac | E27: =IF(OR(AND(ISNONTEXT('3-TIER1 results'!E27),'3-TIER1 results'!E27>0.1),AND(ISNONTEXT('3-TIER1 results'!G27),'3-TIER1 results'!G27>0.1),AND(ISNONTEXT('3-TIER1 results'!I27),'3-TIER1 results'!I27>0.1),AND(ISNONTEXT('3-TIER1 results'!K27),'3-TIER1 results'!K27>0.1)),"Y","") | F27: =IF(E27="Y","UPDATE VALUES->","") | G27: =IF($E27="Y",99.99999,100) -> 100 | H27: =IF($E27="Y",99.99999,100) -> 100 | I27: =IF(E27="Y", IFERROR(VLOOKUP(B27,'D-search matrix Fwwtp'!D:G,4,FALSE),100), 100) -> 100
A28: ='1-medicine use (input)'!A27 -> D26 | B28: =IF('1-medicine use (input)'!C27="","",'1-medicine use (input)'!C27) -> 298-46-4 | C28: =IF('1-medicine use (input)'!D27="","",'1-medicine use (input)'!D27) -> Carbamazepine | E28: =IF(OR(AND(ISNONTEXT('3-TIER1 results'!E28),'3-TIER1 results'!E28>0.1),AND(ISNONTEXT('3-TIER1 results'!G28),'3-TIER1 results'!G28>0.1),AND(ISNONTEXT('3-TIER1 results'!I28),'3-TIER1 results'!I28>0.1),AND(ISNONTEXT('3-TIER1 results'!K28),'3-TIER1 results'!K28>0.1)),"Y","") | F28: =IF(E28="Y","UPDATE VALUES->","") | G28: =IF($E28="Y",99.99999,100) -> 100 | H28: =IF($E28="Y",99.99999,100) -> 100 | I28: =IF(E28="Y", IFERROR(VLOOKUP(B28,'D-search matrix Fwwtp'!D:G,4,FALSE),100), 100) -> 100
A29: ='1-medicine use (input)'!A28 -> D27 | B29: =IF('1-medicine use (input)'!C28="","",'1-medicine use (input)'!C28) -> 71675-85-9 | C29: =IF('1-medicine use (input)'!D28="","",'1-medicine use (input)'!D28) -> Amisulpride | E29: =IF(OR(AND(ISNONTEXT('3-TIER1 results'!E29),'3-TIER1 results'!E29>0.1),AND(ISNONTEXT('3-TIER1 results'!G29),'3-TIER1 results'!G29>0.1),AND(ISNONTEXT('3-TIER1 results'!I29),'3-TIER1 results'!I29>0.1),AND(ISNONTEXT('3-TIER1 results'!K29),'3-TIER1 results'!K29>0.1)),"Y","") | F29: =IF(E29="Y","UPDATE VALUES->","") | G29: =IF($E29="Y",99.99999,100) -> 100 | H29: =IF($E29="Y",99.99999,100) -> 100 | I29: =IF(E29="Y", IFERROR(VLOOKUP(B29,'D-search matrix Fwwtp'!D:G,4,FALSE),100), 100) -> 100
A30: ='1-medicine use (input)'!A29 -> D28 | B30: =IF('1-medicine use (input)'!C29="","",'1-medicine use (input)'!C29) -> 54910-89-3 | C30: =IF('1-medicine use (input)'!D29="","",'1-medicine use (input)'!D29) -> Fluoxetine | E30: =IF(OR(AND(ISNONTEXT('3-TIER1 results'!E30),'3-TIER1 results'!E30>0.1),AND(ISNONTEXT('3-TIER1 results'!G30),'3-TIER1 results'!G30>0.1),AND(ISNONTEXT('3-TIER1 results'!I30),'3-TIER1 results'!I30>0.1),AND(ISNONTEXT('3-TIER1 results'!K30),'3-TIER1 results'!K30>0.1)),"Y","") | F30: =IF(E30="Y","UPDATE VALUES->","") | G30: =IF($E30="Y",99.99999,100) -> 100 | H30: =IF($E30="Y",99.99999,100) -> 100 | I30: =IF(E30="Y", IFERROR(VLOOKUP(B30,'D-search matrix Fwwtp'!D:G,4,FALSE),100), 100) -> 100
A31: ='1-medicine use (input)'!A30 -> D29 | B31: =IF('1-medicine use (input)'!C30="","",'1-medicine use (input)'!C30) -> 59729-33-8 | C31: =IF('1-medicine use (input)'!D30="","",'1-medicine use (input)'!D30) -> Citalopram | E31: =IF(OR(AND(ISNONTEXT('3-TIER1 results'!E31),'3-TIER1 results'!E31>0.1),AND(ISNONTEXT('3-TIER1 results'!G31),'3-TIER1 results'!G31>0.1),AND(ISNONTEXT('3-TIER1 results'!I31),'3-TIER1 results'!I31>0.1),AND(ISNONTEXT('3-TIER1 results'!K31),'3-TIER1 results'!K31>0.1)),"Y","") | F31: =IF(E31="Y","UPDATE VALUES->","") | G31: =IF($E31="Y",99.99999,100) -> 100 | H31: =IF($E31="Y",99.99999,100) -> 100 | I31: =IF(E31="Y", IFERROR(VLOOKUP(B31,'D-search matrix Fwwtp'!D:G,4,FALSE),100), 100) -> 100
A32: ='1-medicine use (input)'!A31 -> D30 | B32: =IF('1-medicine use (input)'!C31="","",'1-medicine use (input)'!C31) -> 93413-69-5 | C32: =IF('1-medicine use (input)'!D31="","",'1-medicine use (input)'!D31) -> Venlafaxine | E32: =IF(OR(AND(ISNONTEXT('3-TIER1 results'!E32),'3-TIER1 results'!E32>0.1),AND(ISNONTEXT('3-TIER1 results'!G32),'3-TIER1 results'!G32>0.1),AND(ISNONTEXT('3-TIER1 results'!I32),'3-TIER1 results'!I32>0.1),AND(ISNONTEXT('3-TIER1 results'!K32),'3-TIER1 results'!K32>0.1)),"Y","") | F32: =IF(E32="Y","UPDATE VALUES->","") | G32: =IF($E32="Y",99.99999,100) -> 100 | H32: =IF($E32="Y",99.99999,100) -> 100 | I32: =IF(E32="Y", IFERROR(VLOOKUP(B32,'D-search matrix Fwwtp'!D:G,4,FALSE),100), 100) -> 100
A33: ='1-medicine use (input)'!A32 -> D31 | B33: =IF('1-medicine use (input)'!C32="","",'1-medicine use (input)'!C32) -> 93413-77-5 | C33: =IF('1-medicine use (input)'!D32="","",'1-medicine use (input)'!D32) -> N,N-Didesvenlafaxine | E33: =IF(OR(AND(ISNONTEXT('3-TIER1 results'!E33),'3-TIER1 results'!E33>0.1),AND(ISNONTEXT('3-TIER1 results'!G33),'3-TIER1 results'!G33>0.1),AND(ISNONTEXT('3-TIER1 results'!I33),'3-TIER1 results'!I33>0.1),AND(ISNONTEXT('3-TIER1 results'!K33),'3-TIER1 results'!K33>0.1)),"Y","") | F33: =IF(E33="Y","UPDATE VALUES->","") | G33: =IF($E33="Y",99.99999,100) -> 100 | H33: =IF($E33="Y",99.99999,100) -> 100 | I33: =IF(E33="Y", IFERROR(VLOOKUP(B33,'D-search matrix Fwwtp'!D:G,4,FALSE),100), 100) -> 100
A34: ='1-medicine use (input)'!A33 -> 1 | B34: =IF('1-medicine use (input)'!C33="","",'1-medicine use (input)'!C33) -> 0 | C34: =IF('1-medicine use (input)'!D33="","",'1-medicine use (input)'!D33) -> Norethisterone and Estrogen | E34: =IF(OR(AND(ISNONTEXT('3-TIER1 results'!E34),'3-TIER1 results'!E34>0.1),AND(ISNONTEXT('3-TIER1 results'!G34),'3-TIER1 results'!G34>0.1),AND(ISNONTEXT('3-TIER1 results'!I34),'3-TIER1 results'!I34>0.1),AND(ISNONTEXT('3-TIER1 results'!K34),'3-TIER1 results'!K34>0.1)),"Y","") | F34: =IF(E34="Y","UPDATE VALUES->","") | G34: =IF($E34="Y",99.99999,100) -> 100 | H34: =IF($E34="Y",99.99999,100) -> 100 | I34: =IF(E34="Y", IFERROR(VLOOKUP(B34,'D-search matrix Fwwtp'!D:G,4,FALSE),100), 100) -> 100
A35: ='1-medicine use (input)'!A34 -> 2 | B35: =IF('1-medicine use (input)'!C34="","",'1-medicine use (input)'!C34) -> x | C35: =IF('1-medicine use (input)'!D34="","",'1-medicine use (input)'!D34) -> Thyrotropin Alfa | E35: =IF(OR(AND(ISNONTEXT('3-TIER1 results'!E35),'3-TIER1 results'!E35>0.1),AND(ISNONTEXT('3-TIER1 results'!G35),'3-TIER1 results'!G35>0.1),AND(ISNONTEXT('3-TIER1 results'!I35),'3-TIER1 results'!I35>0.1),AND(ISNONTEXT('3-TIER1 results'!K35),'3-TIER1 results'!K35>0.1)),"Y","") | F35: =IF(E35="Y","UPDATE VALUES->","") | G35: =IF($E35="Y",99.99999,100) -> 100 | H35: =IF($E35="Y",99.99999,100) -> 100 | I35: =IF(E35="Y", IFERROR(VLOOKUP(B35,'D-search matrix Fwwtp'!D:G,4,FALSE),100), 100) -> 100
A36: ='1-medicine use (input)'!A35 -> 3 | B36: =IF('1-medicine use (input)'!C35="","",'1-medicine use (input)'!C35) -> 15307-86-5 | C36: =IF('1-medicine use (input)'!D35="","",'1-medicine use (input)'!D35) -> Diclofenac | E36: =IF(OR(AND(ISNONTEXT('3-TIER1 results'!E36),'3-TIER1 results'!E36>0.1),AND(ISNONTEXT('3-TIER1 results'!G36),'3-TIER1 results'!G36>0.1),AND(ISNONTEXT('3-TIER1 results'!I36),'3-TIER1 results'!I36>0.1),AND(ISNONTEXT('3-TIER1 results'!K36),'3-TIER1 results'!K36>0.1)),"Y","") | F36: =IF(E36="Y","UPDATE VALUES->","") | G36: =IF($E36="Y",99.99999,100) -> 100 | H36: =IF($E36="Y",99.99999,100) -> 100 | I36: =IF(E36="Y", IFERROR(VLOOKUP(B36,'D-search matrix Fwwtp'!D:G,4,FALSE),100), 100) -> 100
A37: ='1-medicine use (input)'!A36 -> 4 | B37: =IF('1-medicine use (input)'!C36="","",'1-medicine use (input)'!C36) -> 0 | C37: =IF('1-medicine use (input)'!D36="","",'1-medicine use (input)'!D36) -> 0 | E37: =IF(OR(AND(ISNONTEXT('3-TIER1 results'!E37),'3-TIER1 results'!E37>0.1),AND(ISNONTEXT('3-TIER1 results'!G37),'3-TIER1 results'!G37>0.1),AND(ISNONTEXT('3-TIER1 results'!I37),'3-TIER1 results'!I37>0.1),AND(ISNONTEXT('3-TIER1 results'!K37),'3-TIER1 results'!K37>0.1)),"Y","") | F37: =IF(E37="Y","UPDATE VALUES->","") | G37: =IF($E37="Y",99.99999,100) -> 100 | H37: =IF($E37="Y",99.99999,100) -> 100 | I37: =IF(E37="Y", IFERROR(VLOOKUP(B37,'D-search matrix Fwwtp'!D:G,4,FALSE),100), 100) -> 100
... A46: ='1-medicine use (input)'!A45 -> 13 | B46: =IF('1-medicine use (input)'!C45="","",'1-medicine use (input)'!C45) -> 0 | C46: =IF('1-medicine use (input)'!D45="","",'1-medicine use (input)'!D45) -> 0 | E46: =IF(OR(AND(ISNONTEXT('3-TIER1 results'!E46),'3-TIER1 results'!E46>0.1),AND(ISNONTEXT('3-TIER1 results'!G46),'3-TIER1 results'!G46>0.1),AND(ISNONTEXT('3-TIER1 results'!I46),'3-TIER1 results'!I46>0.1),AND(ISNONTEXT('3-TIER1 results'!K46),'3-TIER1 results'!K46>0.1)),"Y","") | F46: =IF(E46="Y","UPDATE VALUES->","") | G46: =IF($E46="Y",99.99999,100) -> 100 | H46: =IF($E46="Y",99.99999,100) -> 100 | I46: =IF(E46="Y", IFERROR(VLOOKUP(B46,'D-search matrix Fwwtp'!D:G,4,FALSE),100), 100) -> 100
A47: ='1-medicine use (input)'!A46 -> 14 | B47: =IF('1-medicine use (input)'!C46="","",'1-medicine use (input)'!C46) -> 0 | C47: =IF('1-medicine use (input)'!D46="","",'1-medicine use (input)'!D46) -> 0 | E47: =IF(OR(AND(ISNONTEXT('3-TIER1 results'!E47),'3-TIER1 results'!E47>0.1),AND(ISNONTEXT('3-TIER1 results'!G47),'3-TIER1 results'!G47>0.1),AND(ISNONTEXT('3-TIER1 results'!I47),'3-TIER1 results'!I47>0.1),AND(ISNONTEXT('3-TIER1 results'!K47),'3-TIER1 results'!K47>0.1)),"Y","") | F47: =IF(E47="Y","UPDATE VALUES->","") | G47: 100 | H47: =IF($E47="Y",99.99999,100) -> 100 | I47: =IF(E47="Y", IFERROR(VLOOKUP(B47,'D-search matrix Fwwtp'!D:G,4,FALSE),100), 100) -> 100
A48: ='1-medicine use (input)'!A47 -> 15 | B48: =IF('1-medicine use (input)'!C47="","",'1-medicine use (input)'!C47) -> 0 | C48: =IF('1-medicine use (input)'!D47="","",'1-medicine use (input)'!D47) -> 0 | E48: =IF(OR(AND(ISNONTEXT('3-TIER1 results'!E48),'3-TIER1 results'!E48>0.1),AND(ISNONTEXT('3-TIER1 results'!G48),'3-TIER1 results'!G48>0.1),AND(ISNONTEXT('3-TIER1 results'!I48),'3-TIER1 results'!I48>0.1),AND(ISNONTEXT('3-TIER1 results'!K48),'3-TIER1 results'!K48>0.1)),"Y","") | F48: =IF(E48="Y","UPDATE VALUES->","") | G48: =IF($E48="Y",99.99999,100) -> 100 | H48: =IF($E48="Y",99.99999,100) -> 100 | I48: =IF(E48="Y", IFERROR(VLOOKUP(B48,'D-search matrix Fwwtp'!D:G,4,FALSE),100), 100) -> 100
A49: ='1-medicine use (input)'!A48 -> 16 | B49: =IF('1-medicine use (input)'!C48="","",'1-medicine use (input)'!C48) -> 0 | C49: =IF('1-medicine use (input)'!D48="","",'1-medicine use (input)'!D48) -> 0 | E49: =IF(OR(AND(ISNONTEXT('3-TIER1 results'!E49),'3-TIER1 results'!E49>0.1),AND(ISNONTEXT('3-TIER1 results'!G49),'3-TIER1 results'!G49>0.1),AND(ISNONTEXT('3-TIER1 results'!I49),'3-TIER1 results'!I49>0.1),AND(ISNONTEXT('3-TIER1 results'!K49),'3-TIER1 results'!K49>0.1)),"Y","") | F49: =IF(E49="Y","UPDATE VALUES->","") | G49: =IF($E49="Y",99.99999,100) -> 100 | H49: =IF($E49="Y",99.99999,100) -> 100 | I49: =IF(E49="Y", IFERROR(VLOOKUP(B49,'D-search matrix Fwwtp'!D:G,4,FALSE),100), 100) -> 100
A50: ='1-medicine use (input)'!A49 -> 17 | B50: =IF('1-medicine use (input)'!C49="","",'1-medicine use (input)'!C49) -> 0 | C50: =IF('1-medicine use (input)'!D49="","",'1-medicine use (input)'!D49) -> 0 | E50: =IF(OR(AND(ISNONTEXT('3-TIER1 results'!E50),'3-TIER1 results'!E50>0.1),AND(ISNONTEXT('3-TIER1 results'!G50),'3-TIER1 results'!G50>0.1),AND(ISNONTEXT('3-TIER1 results'!I50),'3-TIER1 results'!I50>0.1),AND(ISNONTEXT('3-TIER1 results'!K50),'3-TIER1 results'!K50>0.1)),"Y","") | F50: =IF(E50="Y","UPDATE VALUES->","") | G50: =IF($E50="Y",99.99999,100) -> 100 | H50: =IF($E50="Y",99.99999,100) -> 100 | I50: =IF(E50="Y", IFERROR(VLOOKUP(B50,'D-search matrix Fwwtp'!D:G,4,FALSE),100), 100) -> 100
A51: ='1-medicine use (input)'!A50 -> 18 | B51: =IF('1-medicine use (input)'!C50="","",'1-medicine use (input)'!C50) -> 0 | C51: =IF('1-medicine use (input)'!D50="","",'1-medicine use (input)'!D50) -> 0 | E51: =IF(OR(AND(ISNONTEXT('3-TIER1 results'!E51),'3-TIER1 results'!E51>0.1),AND(ISNONTEXT('3-TIER1 results'!G51),'3-TIER1 results'!G51>0.1),AND(ISNONTEXT('3-TIER1 results'!I51),'3-TIER1 results'!I51>0.1),AND(ISNONTEXT('3-TIER1 results'!K51),'3-TIER1 results'!K51>0.1)),"Y","") | F51: =IF(E51="Y","UPDATE VALUES->","") | G51: =IF($E51="Y",99.99999,100) -> 100 | H51: =IF($E51="Y",99.99999,100) -> 100 | I51: =IF(E51="Y", IFERROR(VLOOKUP(B51,'D-search matrix Fwwtp'!D:G,4,FALSE),100), 100) -> 100
A52: ='1-medicine use (input)'!A51 -> 19 | B52: =IF('1-medicine use (input)'!C51="","",'1-medicine use (input)'!C51) -> 0 | C52: =IF('1-medicine use (input)'!D51="","",'1-medicine use (input)'!D51) -> 0 | E52: =IF(OR(AND(ISNONTEXT('3-TIER1 results'!E52),'3-TIER1 results'!E52>0.1),AND(ISNONTEXT('3-TIER1 results'!G52),'3-TIER1 results'!G52>0.1),AND(ISNONTEXT('3-TIER1 results'!I52),'3-TIER1 results'!I52>0.1),AND(ISNONTEXT('3-TIER1 results'!K52),'3-TIER1 results'!K52>0.1)),"Y","") | F52: =IF(E52="Y","UPDATE VALUES->","") | G52: =IF($E52="Y",99.99999,100) -> 100 | H52: =IF($E52="Y",99.99999,100) -> 100 | I52: =IF(E52="Y", IFERROR(VLOOKUP(B52,'D-search matrix Fwwtp'!D:G,4,FALSE),100), 100) -> 100
A53: ='1-medicine use (input)'!A52 -> 20 | B53: =IF('1-medicine use (input)'!C52="","",'1-medicine use (input)'!C52) -> 0 | C53: =IF('1-medicine use (input)'!D52="","",'1-medicine use (input)'!D52) -> 0 | E53: =IF(OR(AND(ISNONTEXT('3-TIER1 results'!E53),'3-TIER1 results'!E53>0.1),AND(ISNONTEXT('3-TIER1 results'!G53),'3-TIER1 results'!G53>0.1),AND(ISNONTEXT('3-TIER1 results'!I53),'3-TIER1 results'!I53>0.1),AND(ISNONTEXT('3-TIER1 results'!K53),'3-TIER1 results'!K53>0.1)),"Y","") | F53: =IF(E53="Y","UPDATE VALUES->","") | G53: =IF($E53="Y",99.99999,100) -> 100 | H53: =IF($E53="Y",99.99999,100) -> 100 | I53: =IF(E53="Y", IFERROR(VLOOKUP(B53,'D-search matrix Fwwtp'!D:G,4,FALSE),100), 100) -> 100
A54: ='1-medicine use (input)'!A53 -> 21 | B54: =IF('1-medicine use (input)'!C53="","",'1-medicine use (input)'!C53) -> 0 | C54: =IF('1-medicine use (input)'!D53="","",'1-medicine use (input)'!D53) -> 0 | E54: =IF(OR(AND(ISNONTEXT('3-TIER1 results'!E54),'3-TIER1 results'!E54>0.1),AND(ISNONTEXT('3-TIER1 results'!G54),'3-TIER1 results'!G54>0.1),AND(ISNONTEXT('3-TIER1 results'!I54),'3-TIER1 results'!I54>0.1),AND(ISNONTEXT('3-TIER1 results'!K54),'3-TIER1 results'!K54>0.1)),"Y","") | F54: =IF(E54="Y","UPDATE VALUES->","") | G54: =IF($E54="Y",99.99999,100) -> 100 | H54: =IF($E54="Y",99.99999,100) -> 100 | I54: =IF(E54="Y", IFERROR(VLOOKUP(B54,'D-search matrix Fwwtp'!D:G,4,FALSE),100), 100) -> 100
A55: ='1-medicine use (input)'!A54 -> 22 | B55: =IF('1-medicine use (input)'!C54="","",'1-medicine use (input)'!C54) -> 0 | C55: =IF('1-medicine use (input)'!D54="","",'1-medicine use (input)'!D54) -> 0 | E55: =IF(OR(AND(ISNONTEXT('3-TIER1 results'!E55),'3-TIER1 results'!E55>0.1),AND(ISNONTEXT('3-TIER1 results'!G55),'3-TIER1 results'!G55>0.1),AND(ISNONTEXT('3-TIER1 results'!I55),'3-TIER1 results'!I55>0.1),AND(ISNONTEXT('3-TIER1 results'!K55),'3-TIER1 results'!K55>0.1)),"Y","") | F55: =IF(E55="Y","UPDATE VALUES->","") | G55: 100 | H55: =IF($E55="Y",99.99999,100) -> 100 | I55: =IF(E55="Y", IFERROR(VLOOKUP(B55,'D-search matrix Fwwtp'!D:G,4,FALSE),100), 100) -> 100
A56: ='1-medicine use (input)'!A55 -> 23 | B56: =IF('1-medicine use (input)'!C55="","",'1-medicine use (input)'!C55) -> 0 | C56: =IF('1-medicine use (input)'!D55="","",'1-medicine use (input)'!D55) -> 0 | E56: =IF(OR(AND(ISNONTEXT('3-TIER1 results'!E56),'3-TIER1 results'!E56>0.1),AND(ISNONTEXT('3-TIER1 results'!G56),'3-TIER1 results'!G56>0.1),AND(ISNONTEXT('3-TIER1 results'!I56),'3-TIER1 results'!I56>0.1),AND(ISNONTEXT('3-TIER1 results'!K56),'3-TIER1 results'!K56>0.1)),"Y","") | F56: =IF(E56="Y","UPDATE VALUES->","") | G56: 100 | H56: =IF($E56="Y",99.99999,100) -> 100 | I56: =IF(E56="Y", IFERROR(VLOOKUP(B56,'D-search matrix Fwwtp'!D:G,4,FALSE),100), 100) -> 100
A57: ='1-medicine use (input)'!A56 -> 24 | B57: =IF('1-medicine use (input)'!C56="","",'1-medicine use (input)'!C56) -> 0 | C57: =IF('1-medicine use (input)'!D56="","",'1-medicine use (input)'!D56) -> 0 | E57: =IF(OR(AND(ISNONTEXT('3-TIER1 results'!E57),'3-TIER1 results'!E57>0.1),AND(ISNONTEXT('3-TIER1 results'!G57),'3-TIER1 results'!G57>0.1),AND(ISNONTEXT('3-TIER1 results'!I57),'3-TIER1 results'!I57>0.1),AND(ISNONTEXT('3-TIER1 results'!K57),'3-TIER1 results'!K57>0.1)),"Y","") | F57: =IF(E57="Y","UPDATE VALUES->","") | G57: =IF($E57="Y",99.99999,100) -> 100 | H57: =IF($E57="Y",99.99999,100) -> 100 | I57: =IF(E57="Y", IFERROR(VLOOKUP(B57,'D-search matrix Fwwtp'!D:G,4,FALSE),100), 100) -> 100
A58: ='1-medicine use (input)'!A57 -> 25 | B58: =IF('1-medicine use (input)'!C57="","",'1-medicine use (input)'!C57) -> 0 | C58: =IF('1-medicine use (input)'!D57="","",'1-medicine use (input)'!D57) -> 0 | E58: =IF(OR(AND(ISNONTEXT('3-TIER1 results'!E58),'3-TIER1 results'!E58>0.1),AND(ISNONTEXT('3-TIER1 results'!G58),'3-TIER1 results'!G58>0.1),AND(ISNONTEXT('3-TIER1 results'!I58),'3-TIER1 results'!I58>0.1),AND(ISNONTEXT('3-TIER1 results'!K58),'3-TIER1 results'!K58>0.1)),"Y","") | F58: =IF(E58="Y","UPDATE VALUES->","") | G58: =IF($E58="Y",99.99999,100) -> 100 | H58: =IF($E58="Y",99.99999,100) -> 100 | I58: =IF(E58="Y", IFERROR(VLOOKUP(B58,'D-search matrix Fwwtp'!D:G,4,FALSE),100), 100) -> 100
A59: ='1-medicine use (input)'!A58 -> 26 | B59: =IF('1-medicine use (input)'!C58="","",'1-medicine use (input)'!C58) -> 0 | C59: =IF('1-medicine use (input)'!D58="","",'1-medicine use (input)'!D58) -> 0 | E59: =IF(OR(AND(ISNONTEXT('3-TIER1 results'!E59),'3-TIER1 results'!E59>0.1),AND(ISNONTEXT('3-TIER1 results'!G59),'3-TIER1 results'!G59>0.1),AND(ISNONTEXT('3-TIER1 results'!I59),'3-TIER1 results'!I59>0.1),AND(ISNONTEXT('3-TIER1 results'!K59),'3-TIER1 results'!K59>0.1)),"Y","") | F59: =IF(E59="Y","UPDATE VALUES->","") | G59: =IF($E59="Y",99.99999,100) -> 100 | H59: =IF($E59="Y",99.99999,100) -> 100 | I59: =IF(E59="Y", IFERROR(VLOOKUP(B59,'D-search matrix Fwwtp'!D:G,4,FALSE),100), 100) -> 100
A60: ='1-medicine use (input)'!A59 -> 27 | B60: =IF('1-medicine use (input)'!C59="","",'1-medicine use (input)'!C59) -> 0 | C60: =IF('1-medicine use (input)'!D59="","",'1-medicine use (input)'!D59) -> 0 | E60: =IF(OR(AND(ISNONTEXT('3-TIER1 results'!E60),'3-TIER1 results'!E60>0.1),AND(ISNONTEXT('3-TIER1 results'!G60),'3-TIER1 results'!G60>0.1),AND(ISNONTEXT('3-TIER1 results'!I60),'3-TIER1 results'!I60>0.1),AND(ISNONTEXT('3-TIER1 results'!K60),'3-TIER1 results'!K60>0.1)),"Y","") | F60: =IF(E60="Y","UPDATE VALUES->","") | G60: 100 | H60: =IF($E60="Y",99.99999,100) -> 100 | I60: =IF(E60="Y", IFERROR(VLOOKUP(B60,'D-search matrix Fwwtp'!D:G,4,FALSE),100), 100) -> 100
A61: ='1-medicine use (input)'!A60 -> 28 | B61: =IF('1-medicine use (input)'!C60="","",'1-medicine use (input)'!C60) -> 0 | C61: =IF('1-medicine use (input)'!D60="","",'1-medicine use (input)'!D60) -> 0 | E61: =IF(OR(AND(ISNONTEXT('3-TIER1 results'!E61),'3-TIER1 results'!E61>0.1),AND(ISNONTEXT('3-TIER1 results'!G61),'3-TIER1 results'!G61>0.1),AND(ISNONTEXT('3-TIER1 results'!I61),'3-TIER1 results'!I61>0.1),AND(ISNONTEXT('3-TIER1 results'!K61),'3-TIER1 results'!K61>0.1)),"Y","") | F61: =IF(E61="Y","UPDATE VALUES->","") | G61: =IF($E61="Y",99.99999,100) -> 100 | H61: =IF($E61="Y",99.99999,100) -> 100 | I61: =IF(E61="Y", IFERROR(VLOOKUP(B61,'D-search matrix Fwwtp'!D:G,4,FALSE),100), 100) -> 100
A62: ='1-medicine use (input)'!A61 -> 29 | B62: =IF('1-medicine use (input)'!C61="","",'1-medicine use (input)'!C61) -> 0 | C62: =IF('1-medicine use (input)'!D61="","",'1-medicine use (input)'!D61) -> 0 | E62: =IF(OR(AND(ISNONTEXT('3-TIER1 results'!E62),'3-TIER1 results'!E62>0.1),AND(ISNONTEXT('3-TIER1 results'!G62),'3-TIER1 results'!G62>0.1),AND(ISNONTEXT('3-TIER1 results'!I62),'3-TIER1 results'!I62>0.1),AND(ISNONTEXT('3-TIER1 results'!K62),'3-TIER1 results'!K62>0.1)),"Y","") | F62: =IF(E62="Y","UPDATE VALUES->","") | G62: =IF($E62="Y",99.99999,100) -> 100 | H62: =IF($E62="Y",99.99999,100) -> 100 | I62: =IF(E62="Y", IFERROR(VLOOKUP(B62,'D-search matrix Fwwtp'!D:G,4,FALSE),100), 100) -> 100
A63: ='1-medicine use (input)'!A62 -> 30 | B63: =IF('1-medicine use (input)'!C62="","",'1-medicine use (input)'!C62) -> 0 | C63: =IF('1-medicine use (input)'!D62="","",'1-medicine use (input)'!D62) -> 0 | E63: =IF(OR(AND(ISNONTEXT('3-TIER1 results'!E63),'3-TIER1 results'!E63>0.1),AND(ISNONTEXT('3-TIER1 results'!G63),'3-TIER1 results'!G63>0.1),AND(ISNONTEXT('3-TIER1 results'!I63),'3-TIER1 results'!I63>0.1),AND(ISNONTEXT('3-TIER1 results'!K63),'3-TIER1 results'!K63>0.1)),"Y","") | F63: =IF(E63="Y","UPDATE VALUES->","") | G63: =IF($E63="Y",99.99999,100) -> 100 | H63: =IF($E63="Y",99.99999,100) -> 100 | I63: =IF(E63="Y", IFERROR(VLOOKUP(B63,'D-search matrix Fwwtp'!D:G,4,FALSE),100), 100) -> 100
A64: ='1-medicine use (input)'!A63 -> 31 | B64: =IF('1-medicine use (input)'!C63="","",'1-medicine use (input)'!C63) -> 0 | C64: =IF('1-medicine use (input)'!D63="","",'1-medicine use (input)'!D63) -> 0 | E64: =IF(OR(AND(ISNONTEXT('3-TIER1 results'!E64),'3-TIER1 results'!E64>0.1),AND(ISNONTEXT('3-TIER1 results'!G64),'3-TIER1 results'!G64>0.1),AND(ISNONTEXT('3-TIER1 results'!I64),'3-TIER1 results'!I64>0.1),AND(ISNONTEXT('3-TIER1 results'!K64),'3-TIER1 results'!K64>0.1)),"Y","") | F64: =IF(E64="Y","UPDATE VALUES->","") | G64: =IF($E64="Y",99.99999,100) -> 100 | H64: =IF($E64="Y",99.99999,100) -> 100 | I64: =IF(E64="Y", IFERROR(VLOOKUP(B64,'D-search matrix Fwwtp'!D:G,4,FALSE),100), 100) -> 100
A65: ='1-medicine use (input)'!A64 -> 32 | B65: =IF('1-medicine use (input)'!C64="","",'1-medicine use (input)'!C64) -> 0 | C65: =IF('1-medicine use (input)'!D64="","",'1-medicine use (input)'!D64) -> 0 | E65: =IF(OR(AND(ISNONTEXT('3-TIER1 results'!E65),'3-TIER1 results'!E65>0.1),AND(ISNONTEXT('3-TIER1 results'!G65),'3-TIER1 results'!G65>0.1),AND(ISNONTEXT('3-TIER1 results'!I65),'3-TIER1 results'!I65>0.1),AND(ISNONTEXT('3-TIER1 results'!K65),'3-TIER1 results'!K65>0.1)),"Y","") | F65: =IF(E65="Y","UPDATE VALUES->","") | G65: =IF($E65="Y",99.99999,100) -> 100 | H65: =IF($E65="Y",99.99999,100) -> 100 | I65: =IF(E65="Y", IFERROR(VLOOKUP(B65,'D-search matrix Fwwtp'!D:G,4,FALSE),100), 100) -> 100
A66: ='1-medicine use (input)'!A65 -> 33 | B66: =IF('1-medicine use (input)'!C65="","",'1-medicine use (input)'!C65) -> 0 | C66: =IF('1-medicine use (input)'!D65="","",'1-medicine use (input)'!D65) -> 0 | E66: =IF(OR(AND(ISNONTEXT('3-TIER1 results'!E66),'3-TIER1 results'!E66>0.1),AND(ISNONTEXT('3-TIER1 results'!G66),'3-TIER1 results'!G66>0.1),AND(ISNONTEXT('3-TIER1 results'!I66),'3-TIER1 results'!I66>0.1),AND(ISNONTEXT('3-TIER1 results'!K66),'3-TIER1 results'!K66>0.1)),"Y","") | F66: =IF(E66="Y","UPDATE VALUES->","") | G66: =IF($E66="Y",99.99999,100) -> 100 | H66: =IF($E66="Y",99.99999,100) -> 100 | I66: =IF(E66="Y", IFERROR(VLOOKUP(B66,'D-search matrix Fwwtp'!D:G,4,FALSE),100), 100) -> 100
A67: ='1-medicine use (input)'!A66 -> 34 | B67: =IF('1-medicine use (input)'!C66="","",'1-medicine use (input)'!C66) -> 0 | C67: =IF('1-medicine use (input)'!D66="","",'1-medicine use (input)'!D66) -> 0 | E67: =IF(OR(AND(ISNONTEXT('3-TIER1 results'!E67),'3-TIER1 results'!E67>0.1),AND(ISNONTEXT('3-TIER1 results'!G67),'3-TIER1 results'!G67>0.1),AND(ISNONTEXT('3-TIER1 results'!I67),'3-TIER1 results'!I67>0.1),AND(ISNONTEXT('3-TIER1 results'!K67),'3-TIER1 results'!K67>0.1)),"Y","") | F67: =IF(E67="Y","UPDATE VALUES->","") | G67: =IF($E67="Y",99.99999,100) -> 100 | H67: =IF($E67="Y",99.99999,100) -> 100 | I67: =IF(E67="Y", IFERROR(VLOOKUP(B67,'D-search matrix Fwwtp'!D:G,4,FALSE),100), 100) -> 100
A68: ='1-medicine use (input)'!A67 -> 35 | B68: =IF('1-medicine use (input)'!C67="","",'1-medicine use (input)'!C67) -> 0 | C68: =IF('1-medicine use (input)'!D67="","",'1-medicine use (input)'!D67) -> 0 | E68: =IF(OR(AND(ISNONTEXT('3-TIER1 results'!E68),'3-TIER1 results'!E68>0.1),AND(ISNONTEXT('3-TIER1 results'!G68),'3-TIER1 results'!G68>0.1),AND(ISNONTEXT('3-TIER1 results'!I68),'3-TIER1 results'!I68>0.1),AND(ISNONTEXT('3-TIER1 results'!K68),'3-TIER1 results'!K68>0.1)),"Y","") | F68: =IF(E68="Y","UPDATE VALUES->","") | G68: =IF($E68="Y",99.99999,100) -> 100 | H68: =IF($E68="Y",99.99999,100) -> 100 | I68: =IF(E68="Y", IFERROR(VLOOKUP(B68,'D-search matrix Fwwtp'!D:G,4,FALSE),100), 100) -> 100
A69: ='1-medicine use (input)'!A68 -> 36 | B69: =IF('1-medicine use (input)'!C68="","",'1-medicine use (input)'!C68) -> 0 | C69: =IF('1-medicine use (input)'!D68="","",'1-medicine use (input)'!D68) -> 0 | E69: =IF(OR(AND(ISNONTEXT('3-TIER1 results'!E69),'3-TIER1 results'!E69>0.1),AND(ISNONTEXT('3-TIER1 results'!G69),'3-TIER1 results'!G69>0.1),AND(ISNONTEXT('3-TIER1 results'!I69),'3-TIER1 results'!I69>0.1),AND(ISNONTEXT('3-TIER1 results'!K69),'3-TIER1 results'!K69>0.1)),"Y","") | F69: =IF(E69="Y","UPDATE VALUES->","") | G69: =IF($E69="Y",99.99999,100) -> 100 | H69: =IF($E69="Y",99.99999,100) -> 100 | I69: =IF(E69="Y", IFERROR(VLOOKUP(B69,'D-search matrix Fwwtp'!D:G,4,FALSE),100), 100) -> 100
A70: ='1-medicine use (input)'!A69 -> 37 | B70: =IF('1-medicine use (input)'!C69="","",'1-medicine use (input)'!C69) -> 0 | C70: =IF('1-medicine use (input)'!D69="","",'1-medicine use (input)'!D69) -> 0 | E70: =IF(OR(AND(ISNONTEXT('3-TIER1 results'!E70),'3-TIER1 results'!E70>0.1),AND(ISNONTEXT('3-TIER1 results'!G70),'3-TIER1 results'!G70>0.1),AND(ISNONTEXT('3-TIER1 results'!I70),'3-TIER1 results'!I70>0.1),AND(ISNONTEXT('3-TIER1 results'!K70),'3-TIER1 results'!K70>0.1)),"Y","") | F70: =IF(E70="Y","UPDATE VALUES->","") | G70: =IF($E70="Y",99.99999,100) -> 100 | H70: =IF($E70="Y",99.99999,100) -> 100 | I70: =IF(E70="Y", IFERROR(VLOOKUP(B70,'D-search matrix Fwwtp'!D:G,4,FALSE),100), 100) -> 100
A71: ='1-medicine use (input)'!A70 -> 38 | B71: =IF('1-medicine use (input)'!C70="","",'1-medicine use (input)'!C70) -> 0 | C71: =IF('1-medicine use (input)'!D70="","",'1-medicine use (input)'!D70) -> 0 | E71: =IF(OR(AND(ISNONTEXT('3-TIER1 results'!E71),'3-TIER1 results'!E71>0.1),AND(ISNONTEXT('3-TIER1 results'!G71),'3-TIER1 results'!G71>0.1),AND(ISNONTEXT('3-TIER1 results'!I71),'3-TIER1 results'!I71>0.1),AND(ISNONTEXT('3-TIER1 results'!K71),'3-TIER1 results'!K71>0.1)),"Y","") | F71: =IF(E71="Y","UPDATE VALUES->","") | G71: =IF($E71="Y",99.99999,100) -> 100 | H71: =IF($E71="Y",99.99999,100) -> 100 | I71: =IF(E71="Y", IFERROR(VLOOKUP(B71,'D-search matrix Fwwtp'!D:G,4,FALSE),100), 100) -> 100
A72: ='1-medicine use (input)'!A71 -> 39 | B72: =IF('1-medicine use (input)'!C71="","",'1-medicine use (input)'!C71) -> 0 | C72: =IF('1-medicine use (input)'!D71="","",'1-medicine use (input)'!D71) -> 0 | E72: =IF(OR(AND(ISNONTEXT('3-TIER1 results'!E72),'3-TIER1 results'!E72>0.1),AND(ISNONTEXT('3-TIER1 results'!G72),'3-TIER1 results'!G72>0.1),AND(ISNONTEXT('3-TIER1 results'!I72),'3-TIER1 results'!I72>0.1),AND(ISNONTEXT('3-TIER1 results'!K72),'3-TIER1 results'!K72>0.1)),"Y","") | F72: =IF(E72="Y","UPDATE VALUES->","") | G72: =IF($E72="Y",99.99999,100) -> 100 | H72: =IF($E72="Y",99.99999,100) -> 100 | I72: =IF(E72="Y", IFERROR(VLOOKUP(B72,'D-search matrix Fwwtp'!D:G,4,FALSE),100), 100) -> 100
... A74: ='1-medicine use (input)'!A73 -> 41 | B74: =IF('1-medicine use (input)'!C73="","",'1-medicine use (input)'!C73) -> 0 | C74: =IF('1-medicine use (input)'!D73="","",'1-medicine use (input)'!D73) -> 0 | E74: =IF(OR(AND(ISNONTEXT('3-TIER1 results'!E74),'3-TIER1 results'!E74>0.1),AND(ISNONTEXT('3-TIER1 results'!G74),'3-TIER1 results'!G74>0.1),AND(ISNONTEXT('3-TIER1 results'!I74),'3-TIER1 results'!I74>0.1),AND(ISNONTEXT('3-TIER1 results'!K74),'3-TIER1 results'!K74>0.1)),"Y","") | F74: =IF(E74="Y","UPDATE VALUES->","") | G74: =IF($E74="Y",99.99999,100) -> 100 | H74: =IF($E74="Y",99.99999,100) -> 100 | I74: =IF(E74="Y", IFERROR(VLOOKUP(B74,'D-search matrix Fwwtp'!D:G,4,FALSE),100), 100) -> 100
A75: ='1-medicine use (input)'!A74 -> 42 | B75: =IF('1-medicine use (input)'!C74="","",'1-medicine use (input)'!C74) -> 0 | C75: =IF('1-medicine use (input)'!D74="","",'1-medicine use (input)'!D74) -> 0 | E75: =IF(OR(AND(ISNONTEXT('3-TIER1 results'!E75),'3-TIER1 results'!E75>0.1),AND(ISNONTEXT('3-TIER1 results'!G75),'3-TIER1 results'!G75>0.1),AND(ISNONTEXT('3-TIER1 results'!I75),'3-TIER1 results'!I75>0.1),AND(ISNONTEXT('3-TIER1 results'!K75),'3-TIER1 results'!K75>0.1)),"Y","") | F75: =IF(E75="Y","UPDATE VALUES->","") | G75: 100 | H75: =IF($E75="Y",99.99999,100) -> 100 | I75: =IF(E75="Y", IFERROR(VLOOKUP(B75,'D-search matrix Fwwtp'!D:G,4,FALSE),100), 100) -> 100
A76: ='1-medicine use (input)'!A75 -> 43 | B76: =IF('1-medicine use (input)'!C75="","",'1-medicine use (input)'!C75) -> 0 | C76: =IF('1-medicine use (input)'!D75="","",'1-medicine use (input)'!D75) -> 0 | E76: =IF(OR(AND(ISNONTEXT('3-TIER1 results'!E76),'3-TIER1 results'!E76>0.1),AND(ISNONTEXT('3-TIER1 results'!G76),'3-TIER1 results'!G76>0.1),AND(ISNONTEXT('3-TIER1 results'!I76),'3-TIER1 results'!I76>0.1),AND(ISNONTEXT('3-TIER1 results'!K76),'3-TIER1 results'!K76>0.1)),"Y","") | F76: =IF(E76="Y","UPDATE VALUES->","") | G76: 100 | H76: =IF($E76="Y",99.99999,100) -> 100 | I76: =IF(E76="Y", IFERROR(VLOOKUP(B76,'D-search matrix Fwwtp'!D:G,4,FALSE),100), 100) -> 100
A77: ='1-medicine use (input)'!A76 -> 44 | B77: =IF('1-medicine use (input)'!C76="","",'1-medicine use (input)'!C76) -> 0 | C77: =IF('1-medicine use (input)'!D76="","",'1-medicine use (input)'!D76) -> 0 | E77: =IF(OR(AND(ISNONTEXT('3-TIER1 results'!E77),'3-TIER1 results'!E77>0.1),AND(ISNONTEXT('3-TIER1 results'!G77),'3-TIER1 results'!G77>0.1),AND(ISNONTEXT('3-TIER1 results'!I77),'3-TIER1 results'!I77>0.1),AND(ISNONTEXT('3-TIER1 results'!K77),'3-TIER1 results'!K77>0.1)),"Y","") | F77: =IF(E77="Y","UPDATE VALUES->","") | G77: =IF($E77="Y",99.99999,100) -> 100 | H77: =IF($E77="Y",99.99999,100) -> 100 | I77: =IF(E77="Y", IFERROR(VLOOKUP(B77,'D-search matrix Fwwtp'!D:G,4,FALSE),100), 100) -> 100
A78: ='1-medicine use (input)'!A77 -> 45 | B78: =IF('1-medicine use (input)'!C77="","",'1-medicine use (input)'!C77) -> 0 | C78: =IF('1-medicine use (input)'!D77="","",'1-medicine use (input)'!D77) -> 0 | E78: =IF(OR(AND(ISNONTEXT('3-TIER1 results'!E78),'3-TIER1 results'!E78>0.1),AND(ISNONTEXT('3-TIER1 results'!G78),'3-TIER1 results'!G78>0.1),AND(ISNONTEXT('3-TIER1 results'!I78),'3-TIER1 results'!I78>0.1),AND(ISNONTEXT('3-TIER1 results'!K78),'3-TIER1 results'!K78>0.1)),"Y","") | F78: =IF(E78="Y","UPDATE VALUES->","") | G78: =IF($E78="Y",99.99999,100) -> 100 | H78: =IF($E78="Y",99.99999,100) -> 100 | I78: =IF(E78="Y", IFERROR(VLOOKUP(B78,'D-search matrix Fwwtp'!D:G,4,FALSE),100), 100) -> 100
A79: ='1-medicine use (input)'!A78 -> 46 | B79: =IF('1-medicine use (input)'!C78="","",'1-medicine use (input)'!C78) -> 0 | C79: =IF('1-medicine use (input)'!D78="","",'1-medicine use (input)'!D78) -> 0 | E79: =IF(OR(AND(ISNONTEXT('3-TIER1 results'!E79),'3-TIER1 results'!E79>0.1),AND(ISNONTEXT('3-TIER1 results'!G79),'3-TIER1 results'!G79>0.1),AND(ISNONTEXT('3-TIER1 results'!I79),'3-TIER1 results'!I79>0.1),AND(ISNONTEXT('3-TIER1 results'!K79),'3-TIER1 results'!K79>0.1)),"Y","") | F79: =IF(E79="Y","UPDATE VALUES->","") | G79: =IF($E79="Y",99.99999,100) -> 100 | H79: =IF($E79="Y",99.99999,100) -> 100 | I79: =IF(E79="Y", IFERROR(VLOOKUP(B79,'D-search matrix Fwwtp'!D:G,4,FALSE),100), 100) -> 100
A80: ='1-medicine use (input)'!A79 -> 47 | B80: =IF('1-medicine use (input)'!C79="","",'1-medicine use (input)'!C79) -> 0 | C80: =IF('1-medicine use (input)'!D79="","",'1-medicine use (input)'!D79) -> 0 | E80: =IF(OR(AND(ISNONTEXT('3-TIER1 results'!E80),'3-TIER1 results'!E80>0.1),AND(ISNONTEXT('3-TIER1 results'!G80),'3-TIER1 results'!G80>0.1),AND(ISNONTEXT('3-TIER1 results'!I80),'3-TIER1 results'!I80>0.1),AND(ISNONTEXT('3-TIER1 results'!K80),'3-TIER1 results'!K80>0.1)),"Y","") | F80: =IF(E80="Y","UPDATE VALUES->","") | G80: =IF($E80="Y",99.99999,100) -> 100 | H80: =IF($E80="Y",99.99999,100) -> 100 | I80: =IF(E80="Y", IFERROR(VLOOKUP(B80,'D-search matrix Fwwtp'!D:G,4,FALSE),100), 100) -> 100
A81: ='1-medicine use (input)'!A80 -> 48 | B81: =IF('1-medicine use (input)'!C80="","",'1-medicine use (input)'!C80) -> 0 | C81: =IF('1-medicine use (input)'!D80="","",'1-medicine use (input)'!D80) -> 0 | E81: =IF(OR(AND(ISNONTEXT('3-TIER1 results'!E81),'3-TIER1 results'!E81>0.1),AND(ISNONTEXT('3-TIER1 results'!G81),'3-TIER1 results'!G81>0.1),AND(ISNONTEXT('3-TIER1 results'!I81),'3-TIER1 results'!I81>0.1),AND(ISNONTEXT('3-TIER1 results'!K81),'3-TIER1 results'!K81>0.1)),"Y","") | F81: =IF(E81="Y","UPDATE VALUES->","") | G81: =IF($E81="Y",99.99999,100) -> 100 | H81: =IF($E81="Y",99.99999,100) -> 100 | I81: =IF(E81="Y", IFERROR(VLOOKUP(B81,'D-search matrix Fwwtp'!D:G,4,FALSE),100), 100) -> 100
A82: ='1-medicine use (input)'!A81 -> 49 | B82: =IF('1-medicine use (input)'!C81="","",'1-medicine use (input)'!C81) -> 0 | C82: =IF('1-medicine use (input)'!D81="","",'1-medicine use (input)'!D81) -> 0 | E82: =IF(OR(AND(ISNONTEXT('3-TIER1 results'!E82),'3-TIER1 results'!E82>0.1),AND(ISNONTEXT('3-TIER1 results'!G82),'3-TIER1 results'!G82>0.1),AND(ISNONTEXT('3-TIER1 results'!I82),'3-TIER1 results'!I82>0.1),AND(ISNONTEXT('3-TIER1 results'!K82),'3-TIER1 results'!K82>0.1)),"Y","") | F82: =IF(E82="Y","UPDATE VALUES->","") | G82: 100 | H82: =IF($E82="Y",99.99999,100) -> 100 | I82: =IF(E82="Y", IFERROR(VLOOKUP(B82,'D-search matrix Fwwtp'!D:G,4,FALSE),100), 100) -> 100
A83: ='1-medicine use (input)'!A82 -> 50 | B83: =IF('1-medicine use (input)'!C82="","",'1-medicine use (input)'!C82) -> 0 | C83: =IF('1-medicine use (input)'!D82="","",'1-medicine use (input)'!D82) -> 0 | E83: =IF(OR(AND(ISNONTEXT('3-TIER1 results'!E83),'3-TIER1 results'!E83>0.1),AND(ISNONTEXT('3-TIER1 results'!G83),'3-TIER1 results'!G83>0.1),AND(ISNONTEXT('3-TIER1 results'!I83),'3-TIER1 results'!I83>0.1),AND(ISNONTEXT('3-TIER1 results'!K83),'3-TIER1 results'!K83>0.1)),"Y","") | F83: =IF(E83="Y","UPDATE VALUES->","") | G83: =IF($E83="Y",99.99999,100) -> 100 | H83: =IF($E83="Y",99.99999,100) -> 100 | I83: =IF(E83="Y", IFERROR(VLOOKUP(B83,'D-search matrix Fwwtp'!D:G,4,FALSE),100), 100) -> 100
A84: ='1-medicine use (input)'!A83 -> 51 | B84: =IF('1-medicine use (input)'!C83="","",'1-medicine use (input)'!C83) -> 0 | C84: =IF('1-medicine use (input)'!D83="","",'1-medicine use (input)'!D83) -> 0 | E84: =IF(OR(AND(ISNONTEXT('3-TIER1 results'!E84),'3-TIER1 results'!E84>0.1),AND(ISNONTEXT('3-TIER1 results'!G84),'3-TIER1 results'!G84>0.1),AND(ISNONTEXT('3-TIER1 results'!I84),'3-TIER1 results'!I84>0.1),AND(ISNONTEXT('3-TIER1 results'!K84),'3-TIER1 results'!K84>0.1)),"Y","") | F84: =IF(E84="Y","UPDATE VALUES->","") | G84: =IF($E84="Y",99.99999,100) -> 100 | H84: =IF($E84="Y",99.99999,100) -> 100 | I84: =IF(E84="Y", IFERROR(VLOOKUP(B84,'D-search matrix Fwwtp'!D:G,4,FALSE),100), 100) -> 100
A85: ='1-medicine use (input)'!A84 -> 52 | B85: =IF('1-medicine use (input)'!C84="","",'1-medicine use (input)'!C84) -> 0 | C85: =IF('1-medicine use (input)'!D84="","",'1-medicine use (input)'!D84) -> 0 | E85: =IF(OR(AND(ISNONTEXT('3-TIER1 results'!E85),'3-TIER1 results'!E85>0.1),AND(ISNONTEXT('3-TIER1 results'!G85),'3-TIER1 results'!G85>0.1),AND(ISNONTEXT('3-TIER1 results'!I85),'3-TIER1 results'!I85>0.1),AND(ISNONTEXT('3-TIER1 results'!K85),'3-TIER1 results'!K85>0.1)),"Y","") | F85: =IF(E85="Y","UPDATE VALUES->","") | G85: 100 | H85: =IF($E85="Y",99.99999,100) -> 100 | I85: =IF(E85="Y", IFERROR(VLOOKUP(B85,'D-search matrix Fwwtp'!D:G,4,FALSE),100), 100) -> 100
A86: ='1-medicine use (input)'!A85 -> 53 | B86: =IF('1-medicine use (input)'!C85="","",'1-medicine use (input)'!C85) -> 0 | C86: =IF('1-medicine use (input)'!D85="","",'1-medicine use (input)'!D85) -> 0 | E86: =IF(OR(AND(ISNONTEXT('3-TIER1 results'!E86),'3-TIER1 results'!E86>0.1),AND(ISNONTEXT('3-TIER1 results'!G86),'3-TIER1 results'!G86>0.1),AND(ISNONTEXT('3-TIER1 results'!I86),'3-TIER1 results'!I86>0.1),AND(ISNONTEXT('3-TIER1 results'!K86),'3-TIER1 results'!K86>0.1)),"Y","") | F86: =IF(E86="Y","UPDATE VALUES->","") | G86: 100 | H86: =IF($E86="Y",99.99999,100) -> 100 | I86: =IF(E86="Y", IFERROR(VLOOKUP(B86,'D-search matrix Fwwtp'!D:G,4,FALSE),100), 100) -> 100
A87: ='1-medicine use (input)'!A86 -> 54 | B87: =IF('1-medicine use (input)'!C86="","",'1-medicine use (input)'!C86) -> 0 | C87: =IF('1-medicine use (input)'!D86="","",'1-medicine use (input)'!D86) -> 0 | E87: =IF(OR(AND(ISNONTEXT('3-TIER1 results'!E87),'3-TIER1 results'!E87>0.1),AND(ISNONTEXT('3-TIER1 results'!G87),'3-TIER1 results'!G87>0.1),AND(ISNONTEXT('3-TIER1 results'!I87),'3-TIER1 results'!I87>0.1),AND(ISNONTEXT('3-TIER1 results'!K87),'3-TIER1 results'!K87>0.1)),"Y","") | F87: =IF(E87="Y","UPDATE VALUES->","") | G87: 100 | H87: =IF($E87="Y",99.99999,100) -> 100 | I87: =IF(E87="Y", IFERROR(VLOOKUP(B87,'D-search matrix Fwwtp'!D:G,4,FALSE),100), 100) -> 100
A88: ='1-medicine use (input)'!A87 -> 55 | B88: =IF('1-medicine use (input)'!C87="","",'1-medicine use (input)'!C87) -> 0 | C88: =IF('1-medicine use (input)'!D87="","",'1-medicine use (input)'!D87) -> 0 | E88: =IF(OR(AND(ISNONTEXT('3-TIER1 results'!E88),'3-TIER1 results'!E88>0.1),AND(ISNONTEXT('3-TIER1 results'!G88),'3-TIER1 results'!G88>0.1),AND(ISNONTEXT('3-TIER1 results'!I88),'3-TIER1 results'!I88>0.1),AND(ISNONTEXT('3-TIER1 results'!K88),'3-TIER1 results'!K88>0.1)),"Y","") | F88: =IF(E88="Y","UPDATE VALUES->","") | G88: 100 | H88: =IF($E88="Y",99.99999,100) -> 100 | I88: =IF(E88="Y", IFERROR(VLOOKUP(B88,'D-search matrix Fwwtp'!D:G,4,FALSE),100), 100) -> 100
A89: ='1-medicine use (input)'!A88 -> 56 | B89: =IF('1-medicine use (input)'!C88="","",'1-medicine use (input)'!C88) -> 0 | C89: =IF('1-medicine use (input)'!D88="","",'1-medicine use (input)'!D88) -> 0 | E89: =IF(OR(AND(ISNONTEXT('3-TIER1 results'!E89),'3-TIER1 results'!E89>0.1),AND(ISNONTEXT('3-TIER1 results'!G89),'3-TIER1 results'!G89>0.1),AND(ISNONTEXT('3-TIER1 results'!I89),'3-TIER1 results'!I89>0.1),AND(ISNONTEXT('3-TIER1 results'!K89),'3-TIER1 results'!K89>0.1)),"Y","") | F89: =IF(E89="Y","UPDATE VALUES->","") | G89: 100 | H89: =IF($E89="Y",99.99999,100) -> 100 | I89: =IF(E89="Y", IFERROR(VLOOKUP(B89,'D-search matrix Fwwtp'!D:G,4,FALSE),100), 100) -> 100
A90: ='1-medicine use (input)'!A89 -> 57 | B90: =IF('1-medicine use (input)'!C89="","",'1-medicine use (input)'!C89) -> 0 | C90: =IF('1-medicine use (input)'!D89="","",'1-medicine use (input)'!D89) -> 0 | E90: =IF(OR(AND(ISNONTEXT('3-TIER1 results'!E90),'3-TIER1 results'!E90>0.1),AND(ISNONTEXT('3-TIER1 results'!G90),'3-TIER1 results'!G90>0.1),AND(ISNONTEXT('3-TIER1 results'!I90),'3-TIER1 results'!I90>0.1),AND(ISNONTEXT('3-TIER1 results'!K90),'3-TIER1 results'!K90>0.1)),"Y","") | F90: =IF(E90="Y","UPDATE VALUES->","") | G90: 100 | H90: =IF($E90="Y",99.99999,100) -> 100 | I90: =IF(E90="Y", IFERROR(VLOOKUP(B90,'D-search matrix Fwwtp'!D:G,4,FALSE),100), 100) -> 100
A91: ='1-medicine use (input)'!A90 -> 58 | B91: =IF('1-medicine use (input)'!C90="","",'1-medicine use (input)'!C90) -> 0 | C91: =IF('1-medicine use (input)'!D90="","",'1-medicine use (input)'!D90) -> 0 | E91: =IF(OR(AND(ISNONTEXT('3-TIER1 results'!E91),'3-TIER1 results'!E91>0.1),AND(ISNONTEXT('3-TIER1 results'!G91),'3-TIER1 results'!G91>0.1),AND(ISNONTEXT('3-TIER1 results'!I91),'3-TIER1 results'!I91>0.1),AND(ISNONTEXT('3-TIER1 results'!K91),'3-TIER1 results'!K91>0.1)),"Y","") | F91: =IF(E91="Y","UPDATE VALUES->","") | G91: 100 | H91: =IF($E91="Y",99.99999,100) -> 100 | I91: =IF(E91="Y", IFERROR(VLOOKUP(B91,'D-search matrix Fwwtp'!D:G,4,FALSE),100), 100) -> 100
A92: ='1-medicine use (input)'!A91 -> 59 | B92: =IF('1-medicine use (input)'!C91="","",'1-medicine use (input)'!C91) -> 0 | C92: =IF('1-medicine use (input)'!D91="","",'1-medicine use (input)'!D91) -> 0 | E92: =IF(OR(AND(ISNONTEXT('3-TIER1 results'!E92),'3-TIER1 results'!E92>0.1),AND(ISNONTEXT('3-TIER1 results'!G92),'3-TIER1 results'!G92>0.1),AND(ISNONTEXT('3-TIER1 results'!I92),'3-TIER1 results'!I92>0.1),AND(ISNONTEXT('3-TIER1 results'!K92),'3-TIER1 results'!K92>0.1)),"Y","") | F92: =IF(E92="Y","UPDATE VALUES->","") | G92: 100 | H92: =IF($E92="Y",99.99999,100) -> 100 | I92: =IF(E92="Y", IFERROR(VLOOKUP(B92,'D-search matrix Fwwtp'!D:G,4,FALSE),100), 100) -> 100
A93: ='1-medicine use (input)'!A92 -> 60 | B93: =IF('1-medicine use (input)'!C92="","",'1-medicine use (input)'!C92) -> 0 | C93: =IF('1-medicine use (input)'!D92="","",'1-medicine use (input)'!D92) -> 0 | E93: =IF(OR(AND(ISNONTEXT('3-TIER1 results'!E93),'3-TIER1 results'!E93>0.1),AND(ISNONTEXT('3-TIER1 results'!G93),'3-TIER1 results'!G93>0.1),AND(ISNONTEXT('3-TIER1 results'!I93),'3-TIER1 results'!I93>0.1),AND(ISNONTEXT('3-TIER1 results'!K93),'3-TIER1 results'!K93>0.1)),"Y","") | F93: =IF(E93="Y","UPDATE VALUES->","") | G93: 100 | H93: =IF($E93="Y",99.99999,100) -> 100 | I93: =IF(E93="Y", IFERROR(VLOOKUP(B93,'D-search matrix Fwwtp'!D:G,4,FALSE),100), 100) -> 100
A94: ='1-medicine use (input)'!A93 -> 61 | B94: =IF('1-medicine use (input)'!C93="","",'1-medicine use (input)'!C93) -> 0 | C94: =IF('1-medicine use (input)'!D93="","",'1-medicine use (input)'!D93) -> 0 | E94: =IF(OR(AND(ISNONTEXT('3-TIER1 results'!E94),'3-TIER1 results'!E94>0.1),AND(ISNONTEXT('3-TIER1 results'!G94),'3-TIER1 results'!G94>0.1),AND(ISNONTEXT('3-TIER1 results'!I94),'3-TIER1 results'!I94>0.1),AND(ISNONTEXT('3-TIER1 results'!K94),'3-TIER1 results'!K94>0.1)),"Y","") | F94: =IF(E94="Y","UPDATE VALUES->","") | G94: 100 | H94: =IF($E94="Y",99.99999,100) -> 100 | I94: =IF(E94="Y", IFERROR(VLOOKUP(B94,'D-search matrix Fwwtp'!D:G,4,FALSE),100), 100) -> 100
A95: ='1-medicine use (input)'!A94 -> 62 | B95: =IF('1-medicine use (input)'!C94="","",'1-medicine use (input)'!C94) -> 0 | C95: =IF('1-medicine use (input)'!D94="","",'1-medicine use (input)'!D94) -> 0 | E95: =IF(OR(AND(ISNONTEXT('3-TIER1 results'!E95),'3-TIER1 results'!E95>0.1),AND(ISNONTEXT('3-TIER1 results'!G95),'3-TIER1 results'!G95>0.1),AND(ISNONTEXT('3-TIER1 results'!I95),'3-TIER1 results'!I95>0.1),AND(ISNONTEXT('3-TIER1 results'!K95),'3-TIER1 results'!K95>0.1)),"Y","") | F95: =IF(E95="Y","UPDATE VALUES->","") | G95: 100 | H95: =IF($E95="Y",99.99999,100) -> 100 | I95: =IF(E95="Y", IFERROR(VLOOKUP(B95,'D-search matrix Fwwtp'!D:G,4,FALSE),100), 100) -> 100
A96: ='1-medicine use (input)'!A95 -> 63 | B96: =IF('1-medicine use (input)'!C95="","",'1-medicine use (input)'!C95) -> 0 | C96: =IF('1-medicine use (input)'!D95="","",'1-medicine use (input)'!D95) -> 0 | E96: =IF(OR(AND(ISNONTEXT('3-TIER1 results'!E96),'3-TIER1 results'!E96>0.1),AND(ISNONTEXT('3-TIER1 results'!G96),'3-TIER1 results'!G96>0.1),AND(ISNONTEXT('3-TIER1 results'!I96),'3-TIER1 results'!I96>0.1),AND(ISNONTEXT('3-TIER1 results'!K96),'3-TIER1 results'!K96>0.1)),"Y","") | F96: =IF(E96="Y","UPDATE VALUES->","") | G96: 100 | H96: =IF($E96="Y",99.99999,100) -> 100 | I96: =IF(E96="Y", IFERROR(VLOOKUP(B96,'D-search matrix Fwwtp'!D:G,4,FALSE),100), 100) -> 100
... A133: ='1-medicine use (input)'!A132 -> 100 | B133: =IF('1-medicine use (input)'!C132="","",'1-medicine use (input)'!C132) -> 0 | C133: =IF('1-medicine use (input)'!D132="","",'1-medicine use (input)'!D132) -> 0 | E133: =IF(OR(AND(ISNONTEXT('3-TIER1 results'!E133),'3-TIER1 results'!E133>0.1),AND(ISNONTEXT('3-TIER1 results'!G133),'3-TIER1 results'!G133>0.1),AND(ISNONTEXT('3-TIER1 results'!I133),'3-TIER1 results'!I133>0.1),AND(ISNONTEXT('3-TIER1 results'!K133),'3-TIER1 results'!K133>0.1)),"Y","") | F133: =IF(E133="Y","UPDATE VALUES->","") | G133: 100 | H133: =IF($E133="Y",99.99999,100) -> 100 | I133: =IF(E133="Y", IFERROR(VLOOKUP(B133,'D-search matrix Fwwtp'!D:G,4,FALSE),100), 100) -> 100

Sheet 5-TIER2 results
D1: Risk for antimicrobial resistance | J1: Ecological risk
A2: own ID | B2: CAS nr. | C2: API | D2: PEChospital (µg/L) | E2: RQ(AMR)hospital | F2: PECwwtp (µg/L) | G2: RQ(AMR)wwtp | H2: PECriver (µg/L) | I2: RQ(AMR)river | J2: PECriver (µg/L) | K2: RQ(eco)river
A3: ='1-medicine use (input)'!A2 -> D01 | B3: =IF('1-medicine use (input)'!C2="","",'1-medicine use (input)'!C2) -> 657-24-9 | C3: ='1-medicine use (input)'!D2 -> Metformin | D3: ='3-TIER1 results'!D3*('4-TIER2 refinement'!G3/100)*('4-TIER2 refinement'!H3/100) -> 0 | E3: =IFERROR(IF('1-medicine use (input)'!F2="No Match","NA",D3/'1-medicine use (input)'!F2),"NA") -> NA | F3: ='3-TIER1 results'!F3*('4-TIER2 refinement'!G3/100)*('4-TIER2 refinement'!H3/100) -> 0 | G3: =IFERROR(IF('1-medicine use (input)'!F2="No Match","NA",F3/'1-medicine use (input)'!F2),"NA") -> NA | H3: ='3-TIER1 results'!H3*('4-TIER2 refinement'!G3/100)*('4-TIER2 refinement'!H3/100)*('4-TIER2 refinement'!I3/100) -> 0 | I3: =IFERROR(IF('1-medicine use (input)'!F2="No Match","NA",H3/'1-medicine use (input)'!F2),"NA") -> NA | J3: =H3 -> 0 | K3: =IFERROR(IF('1-medicine use (input)'!E2="No Match","NA",H3/'1-medicine use (input)'!E2),"NA") -> 0
A4: ='1-medicine use (input)'!A3 -> D02 | B4: =IF('1-medicine use (input)'!C3="","",'1-medicine use (input)'!C3) -> 58-93-5 | C4: ='1-medicine use (input)'!D3 -> Hydrochlorothiazide | D4: ='3-TIER1 results'!D4*('4-TIER2 refinement'!G4/100)*('4-TIER2 refinement'!H4/100) -> 0 | E4: =IFERROR(IF('1-medicine use (input)'!F3="No Match","NA",D4/'1-medicine use (input)'!F3),"NA") -> NA | F4: ='3-TIER1 results'!F4*('4-TIER2 refinement'!G4/100)*('4-TIER2 refinement'!H4/100) -> 0 | G4: =IFERROR(IF('1-medicine use (input)'!F3="No Match","NA",F4/'1-medicine use (input)'!F3),"NA") -> NA | H4: ='3-TIER1 results'!H4*('4-TIER2 refinement'!G4/100)*('4-TIER2 refinement'!H4/100)*('4-TIER2 refinement'!I4/100) -> 0 | I4: =IFERROR(IF('1-medicine use (input)'!F3="No Match","NA",H4/'1-medicine use (input)'!F3),"NA") -> NA | J4: =H4 -> 0 | K4: =IFERROR(IF('1-medicine use (input)'!E3="No Match","NA",H4/'1-medicine use (input)'!E3),"NA") -> 0
A5: ='1-medicine use (input)'!A4 -> D03 | B5: =IF('1-medicine use (input)'!C4="","",'1-medicine use (input)'!C4) -> 525-66-6 | C5: ='1-medicine use (input)'!D4 -> Propranolol | D5: ='3-TIER1 results'!D5*('4-TIER2 refinement'!G5/100)*('4-TIER2 refinement'!H5/100) -> 0 | E5: =IFERROR(IF('1-medicine use (input)'!F4="No Match","NA",D5/'1-medicine use (input)'!F4),"NA") -> NA | F5: ='3-TIER1 results'!F5*('4-TIER2 refinement'!G5/100)*('4-TIER2 refinement'!H5/100) -> 0 | G5: =IFERROR(IF('1-medicine use (input)'!F4="No Match","NA",F5/'1-medicine use (input)'!F4),"NA") -> NA | H5: ='3-TIER1 results'!H5*('4-TIER2 refinement'!G5/100)*('4-TIER2 refinement'!H5/100)*('4-TIER2 refinement'!I5/100) -> 0 | I5: =IFERROR(IF('1-medicine use (input)'!F4="No Match","NA",H5/'1-medicine use (input)'!F4),"NA") -> NA | J5: =H5 -> 0 | K5: =IFERROR(IF('1-medicine use (input)'!E4="No Match","NA",H5/'1-medicine use (input)'!E4),"NA") -> 0
A6: ='1-medicine use (input)'!A5 -> D04 | B6: =IF('1-medicine use (input)'!C5="","",'1-medicine use (input)'!C5) -> 51384-51-1 | C6: ='1-medicine use (input)'!D5 -> Metoprolol | D6: ='3-TIER1 results'!D6*('4-TIER2 refinement'!G6/100)*('4-TIER2 refinement'!H6/100) -> 0 | E6: =IFERROR(IF('1-medicine use (input)'!F5="No Match","NA",D6/'1-medicine use (input)'!F5),"NA") -> NA | F6: ='3-TIER1 results'!F6*('4-TIER2 refinement'!G6/100)*('4-TIER2 refinement'!H6/100) -> 0 | G6: =IFERROR(IF('1-medicine use (input)'!F5="No Match","NA",F6/'1-medicine use (input)'!F5),"NA") -> NA | H6: ='3-TIER1 results'!H6*('4-TIER2 refinement'!G6/100)*('4-TIER2 refinement'!H6/100)*('4-TIER2 refinement'!I6/100) -> 0 | I6: =IFERROR(IF('1-medicine use (input)'!F5="No Match","NA",H6/'1-medicine use (input)'!F5),"NA") -> NA | J6: =H6 -> 0 | K6: =IFERROR(IF('1-medicine use (input)'!E5="No Match","NA",H6/'1-medicine use (input)'!E5),"NA") -> 0
A7: ='1-medicine use (input)'!A6 -> D05 | B7: =IF('1-medicine use (input)'!C6="","",'1-medicine use (input)'!C6) -> 138402-11-6 | C7: ='1-medicine use (input)'!D6 -> Irbesartan | D7: ='3-TIER1 results'!D7*('4-TIER2 refinement'!G7/100)*('4-TIER2 refinement'!H7/100) -> 0 | E7: =IFERROR(IF('1-medicine use (input)'!F6="No Match","NA",D7/'1-medicine use (input)'!F6),"NA") -> NA | F7: ='3-TIER1 results'!F7*('4-TIER2 refinement'!G7/100)*('4-TIER2 refinement'!H7/100) -> 0 | G7: =IFERROR(IF('1-medicine use (input)'!F6="No Match","NA",F7/'1-medicine use (input)'!F6),"NA") -> NA | H7: ='3-TIER1 results'!H7*('4-TIER2 refinement'!G7/100)*('4-TIER2 refinement'!H7/100)*('4-TIER2 refinement'!I7/100) -> 0 | I7: =IFERROR(IF('1-medicine use (input)'!F6="No Match","NA",H7/'1-medicine use (input)'!F6),"NA") -> NA | J7: =H7 -> 0 | K7: =IFERROR(IF('1-medicine use (input)'!E6="No Match","NA",H7/'1-medicine use (input)'!E6),"NA") -> 0
A8: ='1-medicine use (input)'!A7 -> D06 | B8: =IF('1-medicine use (input)'!C7="","",'1-medicine use (input)'!C7) -> 139481-59-7 | C8: ='1-medicine use (input)'!D7 -> Candesartan | D8: ='3-TIER1 results'!D8*('4-TIER2 refinement'!G8/100)*('4-TIER2 refinement'!H8/100) -> 0 | E8: =IFERROR(IF('1-medicine use (input)'!F7="No Match","NA",D8/'1-medicine use (input)'!F7),"NA") -> NA | F8: ='3-TIER1 results'!F8*('4-TIER2 refinement'!G8/100)*('4-TIER2 refinement'!H8/100) -> 0 | G8: =IFERROR(IF('1-medicine use (input)'!F7="No Match","NA",F8/'1-medicine use (input)'!F7),"NA") -> NA | H8: ='3-TIER1 results'!H8*('4-TIER2 refinement'!G8/100)*('4-TIER2 refinement'!H8/100)*('4-TIER2 refinement'!I8/100) -> 0 | I8: =IFERROR(IF('1-medicine use (input)'!F7="No Match","NA",H8/'1-medicine use (input)'!F7),"NA") -> NA | J8: =H8 -> 0 | K8: =IFERROR(IF('1-medicine use (input)'!E7="No Match","NA",H8/'1-medicine use (input)'!E7),"NA") -> 0
A9: ='1-medicine use (input)'!A8 -> D07 | B9: =IF('1-medicine use (input)'!C8="","",'1-medicine use (input)'!C8) -> 23593-75-1 | C9: ='1-medicine use (input)'!D8 -> Clotrimazole | D9: ='3-TIER1 results'!D9*('4-TIER2 refinement'!G9/100)*('4-TIER2 refinement'!H9/100) -> 0 | E9: =IFERROR(IF('1-medicine use (input)'!F8="No Match","NA",D9/'1-medicine use (input)'!F8),"NA") -> NA | F9: ='3-TIER1 results'!F9*('4-TIER2 refinement'!G9/100)*('4-TIER2 refinement'!H9/100) -> 0 | G9: =IFERROR(IF('1-medicine use (input)'!F8="No Match","NA",F9/'1-medicine use (input)'!F8),"NA") -> NA | H9: ='3-TIER1 results'!H9*('4-TIER2 refinement'!G9/100)*('4-TIER2 refinement'!H9/100)*('4-TIER2 refinement'!I9/100) -> 0 | I9: =IFERROR(IF('1-medicine use (input)'!F8="No Match","NA",H9/'1-medicine use (input)'!F8),"NA") -> NA | J9: =H9 -> 0 | K9: =IFERROR(IF('1-medicine use (input)'!E8="No Match","NA",H9/'1-medicine use (input)'!E8),"NA") -> 0
A10: ='1-medicine use (input)'!A9 -> D08 | B10: =IF('1-medicine use (input)'!C9="","",'1-medicine use (input)'!C9) -> 57-63-6 | C10: ='1-medicine use (input)'!D9 -> 17Alpha-Ethinylestradiol | D10: ='3-TIER1 results'!D10*('4-TIER2 refinement'!G10/100)*('4-TIER2 refinement'!H10/100) -> 0 | E10: =IFERROR(IF('1-medicine use (input)'!F9="No Match","NA",D10/'1-medicine use (input)'!F9),"NA") -> NA | F10: ='3-TIER1 results'!F10*('4-TIER2 refinement'!G10/100)*('4-TIER2 refinement'!H10/100) -> 0 | G10: =IFERROR(IF('1-medicine use (input)'!F9="No Match","NA",F10/'1-medicine use (input)'!F9),"NA") -> NA | H10: ='3-TIER1 results'!H10*('4-TIER2 refinement'!G10/100)*('4-TIER2 refinement'!H10/100)*('4-TIER2 refinement'!I10/100) -> 0 | I10: =IFERROR(IF('1-medicine use (input)'!F9="No Match","NA",H10/'1-medicine use (input)'!F9),"NA") -> NA | J10: =H10 -> 0 | K10: =IFERROR(IF('1-medicine use (input)'!E9="No Match","NA",H10/'1-medicine use (input)'!E9),"NA") -> 0
A11: ='1-medicine use (input)'!A10 -> D09 | B11: =IF('1-medicine use (input)'!C10="","",'1-medicine use (input)'!C10) -> 4245-41-4 | C11: ='1-medicine use (input)'!D10 -> Estradiol | D11: ='3-TIER1 results'!D11*('4-TIER2 refinement'!G11/100)*('4-TIER2 refinement'!H11/100) -> 0 | E11: =IFERROR(IF('1-medicine use (input)'!F10="No Match","NA",D11/'1-medicine use (input)'!F10),"NA") -> NA | F11: ='3-TIER1 results'!F11*('4-TIER2 refinement'!G11/100)*('4-TIER2 refinement'!H11/100) -> 0 | G11: =IFERROR(IF('1-medicine use (input)'!F10="No Match","NA",F11/'1-medicine use (input)'!F10),"NA") -> NA | H11: ='3-TIER1 results'!H11*('4-TIER2 refinement'!G11/100)*('4-TIER2 refinement'!H11/100)*('4-TIER2 refinement'!I11/100) -> 0 | I11: =IFERROR(IF('1-medicine use (input)'!F10="No Match","NA",H11/'1-medicine use (input)'!F10),"NA") -> NA | J11: =H11 -> 0 | K11: =IFERROR(IF('1-medicine use (input)'!E10="No Match","NA",H11/'1-medicine use (input)'!E10),"NA") -> 0
A12: ='1-medicine use (input)'!A11 -> D10 | B12: =IF('1-medicine use (input)'!C11="","",'1-medicine use (input)'!C11) -> 53-16-7 | C12: ='1-medicine use (input)'!D11 -> Estrone | D12: ='3-TIER1 results'!D12*('4-TIER2 refinement'!G12/100)*('4-TIER2 refinement'!H12/100) -> 0 | E12: =IFERROR(IF('1-medicine use (input)'!F11="No Match","NA",D12/'1-medicine use (input)'!F11),"NA") -> NA | F12: ='3-TIER1 results'!F12*('4-TIER2 refinement'!G12/100)*('4-TIER2 refinement'!H12/100) -> 0 | G12: =IFERROR(IF('1-medicine use (input)'!F11="No Match","NA",F12/'1-medicine use (input)'!F11),"NA") -> NA | H12: ='3-TIER1 results'!H12*('4-TIER2 refinement'!G12/100)*('4-TIER2 refinement'!H12/100)*('4-TIER2 refinement'!I12/100) -> 0 | I12: =IFERROR(IF('1-medicine use (input)'!F11="No Match","NA",H12/'1-medicine use (input)'!F11),"NA") -> NA | J12: =H12 -> 0 | K12: =IFERROR(IF('1-medicine use (input)'!E11="No Match","NA",H12/'1-medicine use (input)'!E11),"NA") -> 0
A13: ='1-medicine use (input)'!A12 -> D11 | B13: =IF('1-medicine use (input)'!C12="","",'1-medicine use (input)'!C12) -> 79-57-2 | C13: ='1-medicine use (input)'!D12 -> Oxytetracycline | D13: ='3-TIER1 results'!D13*('4-TIER2 refinement'!G13/100)*('4-TIER2 refinement'!H13/100) -> 0 | E13: =IFERROR(IF('1-medicine use (input)'!F12="No Match","NA",D13/'1-medicine use (input)'!F12),"NA") -> 0 | F13: ='3-TIER1 results'!F13*('4-TIER2 refinement'!G13/100)*('4-TIER2 refinement'!H13/100) -> 0 | G13: =IFERROR(IF('1-medicine use (input)'!F12="No Match","NA",F13/'1-medicine use (input)'!F12),"NA") -> 0 | H13: ='3-TIER1 results'!H13*('4-TIER2 refinement'!G13/100)*('4-TIER2 refinement'!H13/100)*('4-TIER2 refinement'!I13/100) -> 0 | I13: =IFERROR(IF('1-medicine use (input)'!F12="No Match","NA",H13/'1-medicine use (input)'!F12),"NA") -> 0 | J13: =H13 -> 0 | K13: =IFERROR(IF('1-medicine use (input)'!E12="No Match","NA",H13/'1-medicine use (input)'!E12),"NA") -> 0
A14: ='1-medicine use (input)'!A13 -> D12 | B14: =IF('1-medicine use (input)'!C13="","",'1-medicine use (input)'!C13) -> 60-54-8 | C14: ='1-medicine use (input)'!D13 -> Tetracycline | D14: ='3-TIER1 results'!D14*('4-TIER2 refinement'!G14/100)*('4-TIER2 refinement'!H14/100) -> 0 | E14: =IFERROR(IF('1-medicine use (input)'!F13="No Match","NA",D14/'1-medicine use (input)'!F13),"NA") -> 0 | F14: ='3-TIER1 results'!F14*('4-TIER2 refinement'!G14/100)*('4-TIER2 refinement'!H14/100) -> 0 | G14: =IFERROR(IF('1-medicine use (input)'!F13="No Match","NA",F14/'1-medicine use (input)'!F13),"NA") -> 0 | H14: ='3-TIER1 results'!H14*('4-TIER2 refinement'!G14/100)*('4-TIER2 refinement'!H14/100)*('4-TIER2 refinement'!I14/100) -> 0 | I14: =IFERROR(IF('1-medicine use (input)'!F13="No Match","NA",H14/'1-medicine use (input)'!F13),"NA") -> 0 | J14: =H14 -> 0 | K14: =IFERROR(IF('1-medicine use (input)'!E13="No Match","NA",H14/'1-medicine use (input)'!E13),"NA") -> 0
... A133: ='1-medicine use (input)'!A132 -> 100 | B133: =IF('1-medicine use (input)'!C132="","",'1-medicine use (input)'!C132) -> 0 | C133: ='1-medicine use (input)'!D132 -> 0 | D133: ='3-TIER1 results'!D133*('4-TIER2 refinement'!G133/100)*('4-TIER2 refinement'!H133/100) -> 0 | E133: =IFERROR(IF('1-medicine use (input)'!F132="No Match","NA",D133/'1-medicine use (input)'!F132),"NA") -> NA | F133: ='3-TIER1 results'!F133*('4-TIER2 refinement'!G133/100)*('4-TIER2 refinement'!H133/100) -> 0 | G133: =IFERROR(IF('1-medicine use (input)'!F132="No Match","NA",F133/'1-medicine use (input)'!F132),"NA") -> NA | H133: ='3-TIER1 results'!H133*('4-TIER2 refinement'!G133/100)*('4-TIER2 refinement'!H133/100)*('4-TIER2 refinement'!I133/100) -> 0 | I133: =IFERROR(IF('1-medicine use (input)'!F132="No Match","NA",H133/'1-medicine use (input)'!F132),"NA") -> NA | J133: =H133 -> 0 | K133: =IFERROR(IF('1-medicine use (input)'!E132="No Match","NA",H133/'1-medicine use (input)'!E132),"NA") -> NA

Sheet 6-TIER3 measurements
A1: own ID | B1: CAS nr. | C1: API | D1: MEChospital (µg/L)
A2: ='1-medicine use (input)'!A2 -> D01 | B2: =IF('1-medicine use (input)'!C2="","",'1-medicine use (input)'!C2) -> 657-24-9 | C2: =IF('1-medicine use (input)'!D2="","",'1-medicine use (input)'!D2) -> Metformin
A3: ='1-medicine use (input)'!A3 -> D02 | B3: =IF('1-medicine use (input)'!C3="","",'1-medicine use (input)'!C3) -> 58-93-5 | C3: =IF('1-medicine use (input)'!D3="","",'1-medicine use (input)'!D3) -> Hydrochlorothiazide
A4: ='1-medicine use (input)'!A4 -> D03 | B4: =IF('1-medicine use (input)'!C4="","",'1-medicine use (input)'!C4) -> 525-66-6 | C4: =IF('1-medicine use (input)'!D4="","",'1-medicine use (input)'!D4) -> Propranolol
A5: ='1-medicine use (input)'!A5 -> D04 | B5: =IF('1-medicine use (input)'!C5="","",'1-medicine use (input)'!C5) -> 51384-51-1 | C5: =IF('1-medicine use (input)'!D5="","",'1-medicine use (input)'!D5) -> Metoprolol
A6: ='1-medicine use (input)'!A6 -> D05 | B6: =IF('1-medicine use (input)'!C6="","",'1-medicine use (input)'!C6) -> 138402-11-6 | C6: =IF('1-medicine use (input)'!D6="","",'1-medicine use (input)'!D6) -> Irbesartan
A7: ='1-medicine use (input)'!A7 -> D06 | B7: =IF('1-medicine use (input)'!C7="","",'1-medicine use (input)'!C7) -> 139481-59-7 | C7: =IF('1-medicine use (input)'!D7="","",'1-medicine use (input)'!D7) -> Candesartan
A8: ='1-medicine use (input)'!A8 -> D07 | B8: =IF('1-medicine use (input)'!C8="","",'1-medicine use (input)'!C8) -> 23593-75-1 | C8: =IF('1-medicine use (input)'!D8="","",'1-medicine use (input)'!D8) -> Clotrimazole
A9: ='1-medicine use (input)'!A9 -> D08 | B9: =IF('1-medicine use (input)'!C9="","",'1-medicine use (input)'!C9) -> 57-63-6 | C9: =IF('1-medicine use (input)'!D9="","",'1-medicine use (input)'!D9) -> 17Alpha-Ethinylestradiol
A10: ='1-medicine use (input)'!A10 -> D09 | B10: =IF('1-medicine use (input)'!C10="","",'1-medicine use (input)'!C10) -> 4245-41-4 | C10: =IF('1-medicine use (input)'!D10="","",'1-medicine use (input)'!D10) -> Estradiol
A11: ='1-medicine use (input)'!A11 -> D10 | B11: =IF('1-medicine use (input)'!C11="","",'1-medicine use (input)'!C11) -> 53-16-7 | C11: =IF('1-medicine use (input)'!D11="","",'1-medicine use (input)'!D11) -> Estrone
A12: ='1-medicine use (input)'!A12 -> D11 | B12: =IF('1-medicine use (input)'!C12="","",'1-medicine use (input)'!C12) -> 79-57-2 | C12: =IF('1-medicine use (input)'!D12="","",'1-medicine use (input)'!D12) -> Oxytetracycline
A13: ='1-medicine use (input)'!A13 -> D12 | B13: =IF('1-medicine use (input)'!C13="","",'1-medicine use (input)'!C13) -> 60-54-8 | C13: =IF('1-medicine use (input)'!D13="","",'1-medicine use (input)'!D13) -> Tetracycline
... A132: ='1-medicine use (input)'!A132 -> 100 | B132: =IF('1-medicine use (input)'!C132="","",'1-medicine use (input)'!C132) -> 0 | C132: =IF('1-medicine use (input)'!D132="","",'1-medicine use (input)'!D132) -> 0

Sheet 7-TIER3 results
E1: Risk for antimicrobial resistance | K1: Ecological risk
A2: own ID | B2: CAS nr. | C2: API | E2: MEChospital (µg/L) | F2: RQ(AMR)hospital | G2: PECwwtp,MEC (µg/L) | H2: RQ(AMR)wwtp | I2: PECriver,MEC (µg/L) | J2: RQ(AMR)river | K2: PECriver,MEC (µg/L) | L2: RQ(eco)river
A3: ='1-medicine use (input)'!A2 -> D01 | B3: =IF('1-medicine use (input)'!C2="","",'1-medicine use (input)'!C2) -> 657-24-9 | C3: ='1-medicine use (input)'!D2 -> Metformin | E3: =IF(ISBLANK('6-TIER3 measurements'!D2), "NA", '6-TIER3 measurements'!D2) -> NA | F3: =IFERROR(IF('1-medicine use (input)'!F2="No Match","NA",E3/'1-medicine use (input)'!F2),"NA") -> NA | G3: =IF(ISBLANK('6-TIER3 measurements'!D2), "NA", E3/'2-water flows (input) and DF'!$D$10) -> NA | H3: =IFERROR(IF('1-medicine use (input)'!F2="No Match","NA",G3/'1-medicine use (input)'!F2),"NA") -> NA | I3: =IF(ISBLANK('6-TIER3 measurements'!D2), "NA", E3/'2-water flows (input) and DF'!$D$9) -> NA | J3: =IFERROR(IF('1-medicine use (input)'!F2="No Match","NA",I3/'1-medicine use (input)'!F2),"NA") -> NA | K3: =I3 -> NA | L3: =IFERROR(IF('1-medicine use (input)'!E2="No Match","NA",I3/'1-medicine use (input)'!E2),"NA") -> NA
A4: ='1-medicine use (input)'!A3 -> D02 | B4: =IF('1-medicine use (input)'!C3="","",'1-medicine use (input)'!C3) -> 58-93-5 | C4: ='1-medicine use (input)'!D3 -> Hydrochlorothiazide | E4: =IF(ISBLANK('6-TIER3 measurements'!D3), "NA", '6-TIER3 measurements'!D3) -> NA | F4: =IFERROR(IF('1-medicine use (input)'!F3="No Match","NA",E4/'1-medicine use (input)'!F3),"NA") -> NA | G4: =IF(ISBLANK('6-TIER3 measurements'!D3), "NA", E4/'2-water flows (input) and DF'!$D$10) -> NA | H4: =IFERROR(IF('1-medicine use (input)'!F3="No Match","NA",G4/'1-medicine use (input)'!F3),"NA") -> NA | I4: =IF(ISBLANK('6-TIER3 measurements'!D3), "NA", E4/'2-water flows (input) and DF'!$D$9) -> NA | J4: =IFERROR(IF('1-medicine use (input)'!F3="No Match","NA",I4/'1-medicine use (input)'!F3),"NA") -> NA | K4: =I4 -> NA | L4: =IFERROR(IF('1-medicine use (input)'!E3="No Match","NA",I4/'1-medicine use (input)'!E3),"NA") -> NA
A5: ='1-medicine use (input)'!A4 -> D03 | B5: =IF('1-medicine use (input)'!C4="","",'1-medicine use (input)'!C4) -> 525-66-6 | C5: ='1-medicine use (input)'!D4 -> Propranolol | E5: =IF(ISBLANK('6-TIER3 measurements'!D4), "NA", '6-TIER3 measurements'!D4) -> NA | F5: =IFERROR(IF('1-medicine use (input)'!F4="No Match","NA",E5/'1-medicine use (input)'!F4),"NA") -> NA | G5: =IF(ISBLANK('6-TIER3 measurements'!D4), "NA", E5/'2-water flows (input) and DF'!$D$10) -> NA | H5: =IFERROR(IF('1-medicine use (input)'!F4="No Match","NA",G5/'1-medicine use (input)'!F4),"NA") -> NA | I5: =IF(ISBLANK('6-TIER3 measurements'!D4), "NA", E5/'2-water flows (input) and DF'!$D$9) -> NA | J5: =IFERROR(IF('1-medicine use (input)'!F4="No Match","NA",I5/'1-medicine use (input)'!F4),"NA") -> NA | K5: =I5 -> NA | L5: =IFERROR(IF('1-medicine use (input)'!E4="No Match","NA",I5/'1-medicine use (input)'!E4),"NA") -> NA
A6: ='1-medicine use (input)'!A5 -> D04 | B6: =IF('1-medicine use (input)'!C5="","",'1-medicine use (input)'!C5) -> 51384-51-1 | C6: ='1-medicine use (input)'!D5 -> Metoprolol | E6: =IF(ISBLANK('6-TIER3 measurements'!D5), "NA", '6-TIER3 measurements'!D5) -> NA | F6: =IFERROR(IF('1-medicine use (input)'!F5="No Match","NA",E6/'1-medicine use (input)'!F5),"NA") -> NA | G6: =IF(ISBLANK('6-TIER3 measurements'!D5), "NA", E6/'2-water flows (input) and DF'!$D$10) -> NA | H6: =IFERROR(IF('1-medicine use (input)'!F5="No Match","NA",G6/'1-medicine use (input)'!F5),"NA") -> NA | I6: =IF(ISBLANK('6-TIER3 measurements'!D5), "NA", E6/'2-water flows (input) and DF'!$D$9) -> NA | J6: =IFERROR(IF('1-medicine use (input)'!F5="No Match","NA",I6/'1-medicine use (input)'!F5),"NA") -> NA | K6: =I6 -> NA | L6: =IFERROR(IF('1-medicine use (input)'!E5="No Match","NA",I6/'1-medicine use (input)'!E5),"NA") -> NA
A7: ='1-medicine use (input)'!A6 -> D05 | B7: =IF('1-medicine use (input)'!C6="","",'1-medicine use (input)'!C6) -> 138402-11-6 | C7: ='1-medicine use (input)'!D6 -> Irbesartan | E7: =IF(ISBLANK('6-TIER3 measurements'!D6), "NA", '6-TIER3 measurements'!D6) -> NA | F7: =IFERROR(IF('1-medicine use (input)'!F6="No Match","NA",E7/'1-medicine use (input)'!F6),"NA") -> NA | G7: =IF(ISBLANK('6-TIER3 measurements'!D6), "NA", E7/'2-water flows (input) and DF'!$D$10) -> NA | H7: =IFERROR(IF('1-medicine use (input)'!F6="No Match","NA",G7/'1-medicine use (input)'!F6),"NA") -> NA | I7: =IF(ISBLANK('6-TIER3 measurements'!D6), "NA", E7/'2-water flows (input) and DF'!$D$9) -> NA | J7: =IFERROR(IF('1-medicine use (input)'!F6="No Match","NA",I7/'1-medicine use (input)'!F6),"NA") -> NA | K7: =I7 -> NA | L7: =IFERROR(IF('1-medicine use (input)'!E6="No Match","NA",I7/'1-medicine use (input)'!E6),"NA") -> NA
A8: ='1-medicine use (input)'!A7 -> D06 | B8: =IF('1-medicine use (input)'!C7="","",'1-medicine use (input)'!C7) -> 139481-59-7 | C8: ='1-medicine use (input)'!D7 -> Candesartan | E8: =IF(ISBLANK('6-TIER3 measurements'!D7), "NA", '6-TIER3 measurements'!D7) -> NA | F8: =IFERROR(IF('1-medicine use (input)'!F7="No Match","NA",E8/'1-medicine use (input)'!F7),"NA") -> NA | G8: =IF(ISBLANK('6-TIER3 measurements'!D7), "NA", E8/'2-water flows (input) and DF'!$D$10) -> NA | H8: =IFERROR(IF('1-medicine use (input)'!F7="No Match","NA",G8/'1-medicine use (input)'!F7),"NA") -> NA | I8: =IF(ISBLANK('6-TIER3 measurements'!D7), "NA", E8/'2-water flows (input) and DF'!$D$9) -> NA | J8: =IFERROR(IF('1-medicine use (input)'!F7="No Match","NA",I8/'1-medicine use (input)'!F7),"NA") -> NA | K8: =I8 -> NA | L8: =IFERROR(IF('1-medicine use (input)'!E7="No Match","NA",I8/'1-medicine use (input)'!E7),"NA") -> NA
A9: ='1-medicine use (input)'!A8 -> D07 | B9: =IF('1-medicine use (input)'!C8="","",'1-medicine use (input)'!C8) -> 23593-75-1 | C9: ='1-medicine use (input)'!D8 -> Clotrimazole | E9: =IF(ISBLANK('6-TIER3 measurements'!D8), "NA", '6-TIER3 measurements'!D8) -> NA | F9: =IFERROR(IF('1-medicine use (input)'!F8="No Match","NA",E9/'1-medicine use (input)'!F8),"NA") -> NA | G9: =IF(ISBLANK('6-TIER3 measurements'!D8), "NA", E9/'2-water flows (input) and DF'!$D$10) -> NA | H9: =IFERROR(IF('1-medicine use (input)'!F8="No Match","NA",G9/'1-medicine use (input)'!F8),"NA") -> NA | I9: =IF(ISBLANK('6-TIER3 measurements'!D8), "NA", E9/'2-water flows (input) and DF'!$D$9) -> NA | J9: =IFERROR(IF('1-medicine use (input)'!F8="No Match","NA",I9/'1-medicine use (input)'!F8),"NA") -> NA | K9: =I9 -> NA | L9: =IFERROR(IF('1-medicine use (input)'!E8="No Match","NA",I9/'1-medicine use (input)'!E8),"NA") -> NA
A10: ='1-medicine use (input)'!A9 -> D08 | B10: =IF('1-medicine use (input)'!C9="","",'1-medicine use (input)'!C9) -> 57-63-6 | C10: ='1-medicine use (input)'!D9 -> 17Alpha-Ethinylestradiol | E10: =IF(ISBLANK('6-TIER3 measurements'!D9), "NA", '6-TIER3 measurements'!D9) -> NA | F10: =IFERROR(IF('1-medicine use (input)'!F9="No Match","NA",E10/'1-medicine use (input)'!F9),"NA") -> NA | G10: =IF(ISBLANK('6-TIER3 measurements'!D9), "NA", E10/'2-water flows (input) and DF'!$D$10) -> NA | H10: =IFERROR(IF('1-medicine use (input)'!F9="No Match","NA",G10/'1-medicine use (input)'!F9),"NA") -> NA | I10: =IF(ISBLANK('6-TIER3 measurements'!D9), "NA", E10/'2-water flows (input) and DF'!$D$9) -> NA | J10: =IFERROR(IF('1-medicine use (input)'!F9="No Match","NA",I10/'1-medicine use (input)'!F9),"NA") -> NA | K10: =I10 -> NA | L10: =IFERROR(IF('1-medicine use (input)'!E9="No Match","NA",I10/'1-medicine use (input)'!E9),"NA") -> NA
A11: ='1-medicine use (input)'!A10 -> D09 | B11: =IF('1-medicine use (input)'!C10="","",'1-medicine use (input)'!C10) -> 4245-41-4 | C11: ='1-medicine use (input)'!D10 -> Estradiol | E11: =IF(ISBLANK('6-TIER3 measurements'!D10), "NA", '6-TIER3 measurements'!D10) -> NA | F11: =IFERROR(IF('1-medicine use (input)'!F10="No Match","NA",E11/'1-medicine use (input)'!F10),"NA") -> NA | G11: =IF(ISBLANK('6-TIER3 measurements'!D10), "NA", E11/'2-water flows (input) and DF'!$D$10) -> NA | H11: =IFERROR(IF('1-medicine use (input)'!F10="No Match","NA",G11/'1-medicine use (input)'!F10),"NA") -> NA | I11: =IF(ISBLANK('6-TIER3 measurements'!D10), "NA", E11/'2-water flows (input) and DF'!$D$9) -> NA | J11: =IFERROR(IF('1-medicine use (input)'!F10="No Match","NA",I11/'1-medicine use (input)'!F10),"NA") -> NA | K11: =I11 -> NA | L11: =IFERROR(IF('1-medicine use (input)'!E10="No Match","NA",I11/'1-medicine use (input)'!E10),"NA") -> NA
A12: ='1-medicine use (input)'!A11 -> D10 | B12: =IF('1-medicine use (input)'!C11="","",'1-medicine use (input)'!C11) -> 53-16-7 | C12: ='1-medicine use (input)'!D11 -> Estrone | E12: =IF(ISBLANK('6-TIER3 measurements'!D11), "NA", '6-TIER3 measurements'!D11) -> NA | F12: =IFERROR(IF('1-medicine use (input)'!F11="No Match","NA",E12/'1-medicine use (input)'!F11),"NA") -> NA | G12: =IF(ISBLANK('6-TIER3 measurements'!D11), "NA", E12/'2-water flows (input) and DF'!$D$10) -> NA | H12: =IFERROR(IF('1-medicine use (input)'!F11="No Match","NA",G12/'1-medicine use (input)'!F11),"NA") -> NA | I12: =IF(ISBLANK('6-TIER3 measurements'!D11), "NA", E12/'2-water flows (input) and DF'!$D$9) -> NA | J12: =IFERROR(IF('1-medicine use (input)'!F11="No Match","NA",I12/'1-medicine use (input)'!F11),"NA") -> NA | K12: =I12 -> NA | L12: =IFERROR(IF('1-medicine use (input)'!E11="No Match","NA",I12/'1-medicine use (input)'!E11),"NA") -> NA
A13: ='1-medicine use (input)'!A12 -> D11 | B13: =IF('1-medicine use (input)'!C12="","",'1-medicine use (input)'!C12) -> 79-57-2 | C13: ='1-medicine use (input)'!D12 -> Oxytetracycline | E13: =IF(ISBLANK('6-TIER3 measurements'!D12), "NA", '6-TIER3 measurements'!D12) -> NA | F13: =IFERROR(IF('1-medicine use (input)'!F12="No Match","NA",E13/'1-medicine use (input)'!F12),"NA") -> NA | G13: =IF(ISBLANK('6-TIER3 measurements'!D12), "NA", E13/'2-water flows (input) and DF'!$D$10) -> NA | H13: =IFERROR(IF('1-medicine use (input)'!F12="No Match","NA",G13/'1-medicine use (input)'!F12),"NA") -> NA | I13: =IF(ISBLANK('6-TIER3 measurements'!D12), "NA", E13/'2-water flows (input) and DF'!$D$9) -> NA | J13: =IFERROR(IF('1-medicine use (input)'!F12="No Match","NA",I13/'1-medicine use (input)'!F12),"NA") -> NA | K13: =I13 -> NA | L13: =IFERROR(IF('1-medicine use (input)'!E12="No Match","NA",I13/'1-medicine use (input)'!E12),"NA") -> NA
A14: ='1-medicine use (input)'!A13 -> D12 | B14: =IF('1-medicine use (input)'!C13="","",'1-medicine use (input)'!C13) -> 60-54-8 | C14: ='1-medicine use (input)'!D13 -> Tetracycline | E14: =IF(ISBLANK('6-TIER3 measurements'!D13), "NA", '6-TIER3 measurements'!D13) -> NA | F14: =IFERROR(IF('1-medicine use (input)'!F13="No Match","NA",E14/'1-medicine use (input)'!F13),"NA") -> NA | G14: =IF(ISBLANK('6-TIER3 measurements'!D13), "NA", E14/'2-water flows (input) and DF'!$D$10) -> NA | H14: =IFERROR(IF('1-medicine use (input)'!F13="No Match","NA",G14/'1-medicine use (input)'!F13),"NA") -> NA | I14: =IF(ISBLANK('6-TIER3 measurements'!D13), "NA", E14/'2-water flows (input) and DF'!$D$9) -> NA | J14: =IFERROR(IF('1-medicine use (input)'!F13="No Match","NA",I14/'1-medicine use (input)'!F13),"NA") -> NA | K14: =I14 -> NA | L14: =IFERROR(IF('1-medicine use (input)'!E13="No Match","NA",I14/'1-medicine use (input)'!E13),"NA") -> NA
... A133: ='1-medicine use (input)'!A132 -> 100 | B133: =IF('1-medicine use (input)'!C132="","",'1-medicine use (input)'!C132) -> 0 | C133: ='1-medicine use (input)'!D132 -> 0 | E133: =IF(ISBLANK('6-TIER3 measurements'!D132), "NA", '6-TIER3 measurements'!D132) -> NA | F133: =IFERROR(IF('1-medicine use (input)'!F132="No Match","NA",E133/'1-medicine use (input)'!F132),"NA") -> NA | G133: =IF(ISBLANK('6-TIER3 measurements'!D132), "NA", E133/'2-water flows (input) and DF'!$D$10) -> NA | H133: =IFERROR(IF('1-medicine use (input)'!F132="No Match","NA",G133/'1-medicine use (input)'!F132),"NA") -> NA | I133: =IF(ISBLANK('6-TIER3 measurements'!D132), "NA", E133/'2-water flows (input) and DF'!$D$9) -> NA | J133: =IFERROR(IF('1-medicine use (input)'!F132="No Match","NA",I133/'1-medicine use (input)'!F132),"NA") -> NA | K133: =I133 -> NA | L133: =IFERROR(IF('1-medicine use (input)'!E132="No Match","NA",I133/'1-medicine use (input)'!E132),"NA") -> NA

Sheet A-search matrix ATC-CAS
A1: Active substance | B1: ATC | C1: CAS | D1: PNEC NORMAN (µg/L)
A2: Sodium Fluoride | B2: A01AA01 | C2: x | D2: =IF(OR(C2=0,C2="x"), "No PNEC", IFERROR( _xlfn.XLOOKUP(C2,'C-search matrix PNEC NORMAN'!B:B,'C-search matrix PNEC NORMAN'!A:A), "No Match" ) ) -> No PNEC
A3: Combinations | B3: A01AA30 | C3: x | D3: =IF(OR(C3=0,C3="x"), "No PNEC", IFERROR( _xlfn.XLOOKUP(C3,'C-search matrix PNEC NORMAN'!B:B,'C-search matrix PNEC NORMAN'!A:A), "No Match" ) ) -> No PNEC
A4: Chlorhexidine | B4: A01AB03 | C4: 55-56-1 | D4: =IF(OR(C4=0,C4="x"), "No PNEC", IFERROR( _xlfn.XLOOKUP(C4,'C-search matrix PNEC NORMAN'!B:B,'C-search matrix PNEC NORMAN'!A:A), "No Match" ) ) -> 0.0068
A5: Miconazole | B5: A01AB09 | C5: 22916-47-8 | D5: =IF(OR(C5=0,C5="x"), "No PNEC", IFERROR( _xlfn.XLOOKUP(C5,'C-search matrix PNEC NORMAN'!B:B,'C-search matrix PNEC NORMAN'!A:A), "No Match" ) ) -> 0.02522
A6: Hexetidine | B6: A01AB12 | C6: 141-94-6 | D6: =IF(OR(C6=0,C6="x"), "No PNEC", IFERROR( _xlfn.XLOOKUP(C6,'C-search matrix PNEC NORMAN'!B:B,'C-search matrix PNEC NORMAN'!A:A), "No Match" ) ) -> 0.15972
A7: Various | B7: A01AD11 | C7: x | D7: =IF(OR(C7=0,C7="x"), "No PNEC", IFERROR( _xlfn.XLOOKUP(C7,'C-search matrix PNEC NORMAN'!B:B,'C-search matrix PNEC NORMAN'!A:A), "No Match" ) ) -> No PNEC
A8: Magnesium carbonate | B8: A02AA01 | C8: x | D8: =IF(OR(C8=0,C8="x"), "No PNEC", IFERROR( _xlfn.XLOOKUP(C8,'C-search matrix PNEC NORMAN'!B:B,'C-search matrix PNEC NORMAN'!A:A), "No Match" ) ) -> No PNEC
A9: Combinations | B9: A02AB10 | C9: x | D9: =IF(OR(C9=0,C9="x"), "No PNEC", IFERROR( _xlfn.XLOOKUP(C9,'C-search matrix PNEC NORMAN'!B:B,'C-search matrix PNEC NORMAN'!A:A), "No Match" ) ) -> No PNEC
A10: Calcium Carbonate,A02AA01 Magnesium Carbonate | B10: A02AC01 | C10: x | D10: =IF(OR(C10=0,C10="x"), "No PNEC", IFERROR( _xlfn.XLOOKUP(C10,'C-search matrix PNEC NORMAN'!B:B,'C-search matrix PNEC NORMAN'!A:A), "No Match" ) ) -> No PNEC
A11: Magaldrate | B11: A02AD02 | C11: x | D11: =IF(OR(C11=0,C11="x"), "No PNEC", IFERROR( _xlfn.XLOOKUP(C11,'C-search matrix PNEC NORMAN'!B:B,'C-search matrix PNEC NORMAN'!A:A), "No Match" ) ) -> No PNEC
A12: Antacids, Other Combinations | B12: A02AX | C12: x | D12: =IF(OR(C12=0,C12="x"), "No PNEC", IFERROR( _xlfn.XLOOKUP(C12,'C-search matrix PNEC NORMAN'!B:B,'C-search matrix PNEC NORMAN'!A:A), "No Match" ) ) -> No PNEC
A13: Cimetidine | B13: A02BA01 | C13: 51481-61-9 | D13: =IF(OR(C13=0,C13="x"), "No PNEC", IFERROR( _xlfn.XLOOKUP(C13,'C-search matrix PNEC NORMAN'!B:B,'C-search matrix PNEC NORMAN'!A:A), "No Match" ) ) -> 176
... A20: Esomeprazole | B20: A02BC05 | C20: 119141-88-7 | D20: =IF(OR(C20=0,C20="x"), "No PNEC", IFERROR( _xlfn.XLOOKUP(C20,'C-search matrix PNEC NORMAN'!B:B,'C-search matrix PNEC NORMAN'!A:A), "No Match" ) ) -> 100
A21: Bismuth Subcitrate, Tetracycline and Metronidazole | B21: A02BD08 | C21: 0 | D21: =IF(OR(C21=0,C21="x"), "No PNEC", IFERROR( _xlfn.XLOOKUP(C21,'C-search matrix PNEC NORMAN'!B:B,'C-search matrix PNEC NORMAN'!A:A), "No Match" ) ) -> No PNEC
A22: Other Drugs for Peptic Ulcer and Gastro-Oesophageal Reflux Disease (Gord) | B22: A02BX | C22: x | D22: =IF(OR(C22=0,C22="x"), "No PNEC", IFERROR( _xlfn.XLOOKUP(C22,'C-search matrix PNEC NORMAN'!B:B,'C-search matrix PNEC NORMAN'!A:A), "No Match" ) ) -> No PNEC
A23: Alginic Acid | B23: A02BX13 | C23: 9005-32-7 | D23: =IF(OR(C23=0,C23="x"), "No PNEC", IFERROR( _xlfn.XLOOKUP(C23,'C-search matrix PNEC NORMAN'!B:B,'C-search matrix PNEC NORMAN'!A:A), "No Match" ) ) -> 74.13316
A24: Drugs for Functional Gastrointestinal Disorders | B24: A03 | C24: x | D24: =IF(OR(C24=0,C24="x"), "No PNEC", IFERROR( _xlfn.XLOOKUP(C24,'C-search matrix PNEC NORMAN'!B:B,'C-search matrix PNEC NORMAN'!A:A), "No Match" ) ) -> No PNEC
A25: Drugs for Functional Gastrointestinal Disorders | B25: A03A | C25: x | D25: =IF(OR(C25=0,C25="x"), "No PNEC", IFERROR( _xlfn.XLOOKUP(C25,'C-search matrix PNEC NORMAN'!B:B,'C-search matrix PNEC NORMAN'!A:A), "No Match" ) ) -> No PNEC
A26: Mebeverine | B26: A03AA04 | C26: 3625-06-7 | D26: =IF(OR(C26=0,C26="x"), "No PNEC", IFERROR( _xlfn.XLOOKUP(C26,'C-search matrix PNEC NORMAN'!B:B,'C-search matrix PNEC NORMAN'!A:A), "No Match" ) ) -> 0.14406
A27: Glycopyrronium Bromide | B27: A03AB02 | C27: 596-51-0 | D27: =IF(OR(C27=0,C27="x"), "No PNEC", IFERROR( _xlfn.XLOOKUP(C27,'C-search matrix PNEC NORMAN'!B:B,'C-search matrix PNEC NORMAN'!A:A), "No Match" ) ) -> 75
A28: Otilonium Bromide | B28: A03AB06 | C28: 26095-59-0 | D28: =IF(OR(C28=0,C28="x"), "No PNEC", IFERROR( _xlfn.XLOOKUP(C28,'C-search matrix PNEC NORMAN'!B:B,'C-search matrix PNEC NORMAN'!A:A), "No Match" ) ) -> 0.037721393
A29: Papaverine | B29: A03AD01 | C29: 58-74-2 | D29: =IF(OR(C29=0,C29="x"), "No PNEC", IFERROR( _xlfn.XLOOKUP(C29,'C-search matrix PNEC NORMAN'!B:B,'C-search matrix PNEC NORMAN'!A:A), "No Match" ) ) -> 0.32342
A30: Other Drugs for Functional Gastrointestinal Disorders | B30: A03AX | C30: x | D30: =IF(OR(C30=0,C30="x"), "No PNEC", IFERROR( _xlfn.XLOOKUP(C30,'C-search matrix PNEC NORMAN'!B:B,'C-search matrix PNEC NORMAN'!A:A), "No Match" ) ) -> No PNEC
A31: Alverine | B31: A03AX08 | C31: 150-59-4 | D31: =IF(OR(C31=0,C31="x"), "No PNEC", IFERROR( _xlfn.XLOOKUP(C31,'C-search matrix PNEC NORMAN'!B:B,'C-search matrix PNEC NORMAN'!A:A), "No Match" ) ) -> 0.13411
A32: Silicones | B32: A03AX13 | C32: x | D32: =IF(OR(C32=0,C32="x"), "No PNEC", IFERROR( _xlfn.XLOOKUP(C32,'C-search matrix PNEC NORMAN'!B:B,'C-search matrix PNEC NORMAN'!A:A), "No Match" ) ) -> No PNEC
A33: Alverine, Combinations | B33: A03AX58 | C33: 150-59-4 | D33: =IF(OR(C33=0,C33="x"), "No PNEC", IFERROR( _xlfn.XLOOKUP(C33,'C-search matrix PNEC NORMAN'!B:B,'C-search matrix PNEC NORMAN'!A:A), "No Match" ) ) -> 0.13411
... A97: Racecadotril | B97: A07XA04 | C97: 81110-73-8 | D97: =IF(OR(C97=0,C97="x"), "No PNEC", IFERROR( _xlfn.XLOOKUP(C97,'C-search matrix PNEC NORMAN'!B:B,'C-search matrix PNEC NORMAN'!A:A), "No Match" ) ) -> 0.89417
A98: Bupropion and Naltrexone | B98: A08AA62 | C98: 0 | D98: =IF(OR(C98=0,C98="x"), "No PNEC", IFERROR( _xlfn.XLOOKUP(C98,'C-search matrix PNEC NORMAN'!B:B,'C-search matrix PNEC NORMAN'!A:A), "No Match" ) ) -> No PNEC
A99: Orlistat | B99: A08AB01 | C99: 96829-58-2 | D99: =IF(OR(C99=0,C99="x"), "No PNEC", IFERROR( _xlfn.XLOOKUP(C99,'C-search matrix PNEC NORMAN'!B:B,'C-search matrix PNEC NORMAN'!A:A), "No Match" ) ) -> 0.16
A100: Multienzymes (Lipase, Protease etc.) | B100: A09AA02 | C100: x | D100: =IF(OR(C100=0,C100="x"), "No PNEC", IFERROR( _xlfn.XLOOKUP(C100,'C-search matrix PNEC NORMAN'!B:B,'C-search matrix PNEC NORMAN'!A:A), "No Match" ) ) -> No PNEC
A101: Insulin (Human) | B101: A10AB01 | C101: x | D101: =IF(OR(C101=0,C101="x"), "No PNEC", IFERROR( _xlfn.XLOOKUP(C101,'C-search matrix PNEC NORMAN'!B:B,'C-search matrix PNEC NORMAN'!A:A), "No Match" ) ) -> No PNEC
A102: Insulin Lispro | B102: A10AB04 | C102: x | D102: =IF(OR(C102=0,C102="x"), "No PNEC", IFERROR( _xlfn.XLOOKUP(C102,'C-search matrix PNEC NORMAN'!B:B,'C-search matrix PNEC NORMAN'!A:A), "No Match" ) ) -> No PNEC
A103: Insulin Aspart | B103: A10AB05 | C103: x | D103: =IF(OR(C103=0,C103="x"), "No PNEC", IFERROR( _xlfn.XLOOKUP(C103,'C-search matrix PNEC NORMAN'!B:B,'C-search matrix PNEC NORMAN'!A:A), "No Match" ) ) -> No PNEC
A104: Insulin Glulisine | B104: A10AB06 | C104: x | D104: =IF(OR(C104=0,C104="x"), "No PNEC", IFERROR( _xlfn.XLOOKUP(C104,'C-search matrix PNEC NORMAN'!B:B,'C-search matrix PNEC NORMAN'!A:A), "No Match" ) ) -> No PNEC
A105: Insulin (Human) | B105: A10AC01 | C105: x | D105: =IF(OR(C105=0,C105="x"), "No PNEC", IFERROR( _xlfn.XLOOKUP(C105,'C-search matrix PNEC NORMAN'!B:B,'C-search matrix PNEC NORMAN'!A:A), "No Match" ) ) -> No PNEC
A106: Insulin Lispro | B106: A10AC04 | C106: x | D106: =IF(OR(C106=0,C106="x"), "No PNEC", IFERROR( _xlfn.XLOOKUP(C106,'C-search matrix PNEC NORMAN'!B:B,'C-search matrix PNEC NORMAN'!A:A), "No Match" ) ) -> No PNEC
A107: Insulin (Human) | B107: A10AD01 | C107: x | D107: =IF(OR(C107=0,C107="x"), "No PNEC", IFERROR( _xlfn.XLOOKUP(C107,'C-search matrix PNEC NORMAN'!B:B,'C-search matrix PNEC NORMAN'!A:A), "No Match" ) ) -> No PNEC
A108: Insulin Lispro | B108: A10AD04 | C108: x | D108: =IF(OR(C108=0,C108="x"), "No PNEC", IFERROR( _xlfn.XLOOKUP(C108,'C-search matrix PNEC NORMAN'!B:B,'C-search matrix PNEC NORMAN'!A:A), "No Match" ) ) -> No PNEC
A109: Insulin Aspart | B109: A10AD05 | C109: x | D109: =IF(OR(C109=0,C109="x"), "No PNEC", IFERROR( _xlfn.XLOOKUP(C109,'C-search matrix PNEC NORMAN'!B:B,'C-search matrix PNEC NORMAN'!A:A), "No Match" ) ) -> No PNEC
A110: Insulin Glargine | B110: A10AE04 | C110: x | D110: =IF(OR(C110=0,C110="x"), "No PNEC", IFERROR( _xlfn.XLOOKUP(C110,'C-search matrix PNEC NORMAN'!B:B,'C-search matrix PNEC NORMAN'!A:A), "No Match" ) ) -> No PNEC
... A121: Metformin and sulfonylureas | B121: A10BD02 | C121: 657-24-9 | D121: =IF(OR(C121=0,C121="x"), "No PNEC", IFERROR( _xlfn.XLOOKUP(C121,'C-search matrix PNEC NORMAN'!B:B,'C-search matrix PNEC NORMAN'!A:A), "No Match" ) ) -> 160
A122: Metformin and Sitagliptin | B122: A10BD07 | C122: 0 | D122: =IF(OR(C122=0,C122="x"), "No PNEC", IFERROR( _xlfn.XLOOKUP(C122,'C-search matrix PNEC NORMAN'!B:B,'C-search matrix PNEC NORMAN'!A:A), "No Match" ) ) -> No PNEC
A123: Metformin and Vildagliptin | B123: A10BD08 | C123: 0 | D123: =IF(OR(C123=0,C123="x"), "No PNEC", IFERROR( _xlfn.XLOOKUP(C123,'C-search matrix PNEC NORMAN'!B:B,'C-search matrix PNEC NORMAN'!A:A), "No Match" ) ) -> No PNEC
A124: Metformin and Linagliptin | B124: A10BD11 | C124: 0 | D124: =IF(OR(C124=0,C124="x"), "No PNEC", IFERROR( _xlfn.XLOOKUP(C124,'C-search matrix PNEC NORMAN'!B:B,'C-search matrix PNEC NORMAN'!A:A), "No Match" ) ) -> No PNEC
A125: Metformin and Alogliptin | B125: A10BD13 | C125: 0 | D125: =IF(OR(C125=0,C125="x"), "No PNEC", IFERROR( _xlfn.XLOOKUP(C125,'C-search matrix PNEC NORMAN'!B:B,'C-search matrix PNEC NORMAN'!A:A), "No Match" ) ) -> No PNEC
A126: Metformin and Dapagliflozin | B126: A10BD15 | C126: 0 | D126: =IF(OR(C126=0,C126="x"), "No PNEC", IFERROR( _xlfn.XLOOKUP(C126,'C-search matrix PNEC NORMAN'!B:B,'C-search matrix PNEC NORMAN'!A:A), "No Match" ) ) -> No PNEC
A127: Metformin and Empagliflozin | B127: A10BD20 | C127: 0 | D127: =IF(OR(C127=0,C127="x"), "No PNEC", IFERROR( _xlfn.XLOOKUP(C127,'C-search matrix PNEC NORMAN'!B:B,'C-search matrix PNEC NORMAN'!A:A), "No Match" ) ) -> No PNEC
A128: Acarbose | B128: A10BF01 | C128: 56180-94-0 | D128: =IF(OR(C128=0,C128="x"), "No PNEC", IFERROR( _xlfn.XLOOKUP(C128,'C-search matrix PNEC NORMAN'!B:B,'C-search matrix PNEC NORMAN'!A:A), "No Match" ) ) -> 1.11316
A129: Pioglitazone | B129: A10BG03 | C129: 111025-46-8 | D129: =IF(OR(C129=0,C129="x"), "No PNEC", IFERROR( _xlfn.XLOOKUP(C129,'C-search matrix PNEC NORMAN'!B:B,'C-search matrix PNEC NORMAN'!A:A), "No Match" ) ) -> 0.35165
A130: Sitagliptin | B130: A10BH01 | C130: 486460-32-6 | D130: =IF(OR(C130=0,C130="x"), "No PNEC", IFERROR( _xlfn.XLOOKUP(C130,'C-search matrix PNEC NORMAN'!B:B,'C-search matrix PNEC NORMAN'!A:A), "No Match" ) ) -> 84
A131: Vildagliptin | B131: A10BH02 | C131: 274901-16-5 | D131: =IF(OR(C131=0,C131="x"), "No PNEC", IFERROR( _xlfn.XLOOKUP(C131,'C-search matrix PNEC NORMAN'!B:B,'C-search matrix PNEC NORMAN'!A:A), "No Match" ) ) -> 560
A132: Saxagliptin | B132: A10BH03 | C132: 361442-04-8 | D132: =IF(OR(C132=0,C132="x"), "No PNEC", IFERROR( _xlfn.XLOOKUP(C132,'C-search matrix PNEC NORMAN'!B:B,'C-search matrix PNEC NORMAN'!A:A), "No Match" ) ) -> 950
A133: Alogliptin | B133: A10BH04 | C133: 850649-61-5 | D133: =IF(OR(C133=0,C133="x"), "No PNEC", IFERROR( _xlfn.XLOOKUP(C133,'C-search matrix PNEC NORMAN'!B:B,'C-search matrix PNEC NORMAN'!A:A), "No Match" ) ) -> 1000
A134: Linagliptin | B134: A10BH05 | C134: 668270-12-0 | D134: =IF(OR(C134=0,C134="x"), "No PNEC", IFERROR( _xlfn.XLOOKUP(C134,'C-search matrix PNEC NORMAN'!B:B,'C-search matrix PNEC NORMAN'!A:A), "No Match" ) ) -> 320
A135: Exenatide | B135: A10BJ01 | C135: x | D135: =IF(OR(C135=0,C135="x"), "No PNEC", IFERROR( _xlfn.XLOOKUP(C135,'C-search matrix PNEC NORMAN'!B:B,'C-search matrix PNEC NORMAN'!A:A), "No Match" ) ) -> No PNEC
A136: Liraglutide | B136: A10BJ02 | C136: x | D136: =IF(OR(C136=0,C136="x"), "No PNEC", IFERROR( _xlfn.XLOOKUP(C136,'C-search matrix PNEC NORMAN'!B:B,'C-search matrix PNEC NORMAN'!A:A), "No Match" ) ) -> No PNEC
A137: Dulaglutide | B137: A10BJ05 | C137: x | D137: =IF(OR(C137=0,C137="x"), "No PNEC", IFERROR( _xlfn.XLOOKUP(C137,'C-search matrix PNEC NORMAN'!B:B,'C-search matrix PNEC NORMAN'!A:A), "No Match" ) ) -> No PNEC
A138: Semaglutide | B138: A10BJ06 | C138: x | D138: =IF(OR(C138=0,C138="x"), "No PNEC", IFERROR( _xlfn.XLOOKUP(C138,'C-search matrix PNEC NORMAN'!B:B,'C-search matrix PNEC NORMAN'!A:A), "No Match" ) ) -> No PNEC
A139: Dapagliflozin | B139: A10BK01 | C139: 461432-26-8 | D139: =IF(OR(C139=0,C139="x"), "No PNEC", IFERROR( _xlfn.XLOOKUP(C139,'C-search matrix PNEC NORMAN'!B:B,'C-search matrix PNEC NORMAN'!A:A), "No Match" ) ) -> 100
... A151: Thiamine (Vit B1) | B151: A11DA01 | C151: 70-16-6 | D151: =IF(OR(C151=0,C151="x"), "No PNEC", IFERROR( _xlfn.XLOOKUP(C151,'C-search matrix PNEC NORMAN'!B:B,'C-search matrix PNEC NORMAN'!A:A), "No Match" ) ) -> 15.39252
A152: Vitamin B1 In Combination with Vitamin B6 and/Or Vitamin B12 | B152: A11DB | C152: 0 | D152: =IF(OR(C152=0,C152="x"), "No PNEC", IFERROR( _xlfn.XLOOKUP(C152,'C-search matrix PNEC NORMAN'!B:B,'C-search matrix PNEC NORMAN'!A:A), "No Match" ) ) -> No PNEC
A153: Vitamin B-Complex, Incl. Combinations | B153: A11E | C153: 0 | D153: =IF(OR(C153=0,C153="x"), "No PNEC", IFERROR( _xlfn.XLOOKUP(C153,'C-search matrix PNEC NORMAN'!B:B,'C-search matrix PNEC NORMAN'!A:A), "No Match" ) ) -> No PNEC
A154: Vitamin B-Complex with Minerals,A11EB Vitamin B-Complex with Vitamin C | B154: A11EC | C154: 0 | D154: =IF(OR(C154=0,C154="x"), "No PNEC", IFERROR( _xlfn.XLOOKUP(C154,'C-search matrix PNEC NORMAN'!B:B,'C-search matrix PNEC NORMAN'!A:A), "No Match" ) ) -> No PNEC
A155: Vitamin B-Complex, Other Combinations | B155: A11EX | C155: 0 | D155: =IF(OR(C155=0,C155="x"), "No PNEC", IFERROR( _xlfn.XLOOKUP(C155,'C-search matrix PNEC NORMAN'!B:B,'C-search matrix PNEC NORMAN'!A:A), "No Match" ) ) -> No PNEC
A156: Ascorbic Acid (Vit C) | B156: A11GA01 | C156: 50-81-7 | D156: =IF(OR(C156=0,C156="x"), "No PNEC", IFERROR( _xlfn.XLOOKUP(C156,'C-search matrix PNEC NORMAN'!B:B,'C-search matrix PNEC NORMAN'!A:A), "No Match" ) ) -> 10200
A157: Nicotinamide | B157: A11HA01 | C157: 98-92-0 | D157: =IF(OR(C157=0,C157="x"), "No PNEC", IFERROR( _xlfn.XLOOKUP(C157,'C-search matrix PNEC NORMAN'!B:B,'C-search matrix PNEC NORMAN'!A:A), "No Match" ) ) -> 10000
A158: Pyridoxine (Vit B6) | B158: A11HA02 | C158: 65-23-6 | D158: =IF(OR(C158=0,C158="x"), "No PNEC", IFERROR( _xlfn.XLOOKUP(C158,'C-search matrix PNEC NORMAN'!B:B,'C-search matrix PNEC NORMAN'!A:A), "No Match" ) ) -> 47.58276
A159: Tocopherol | B159: A11HA03 | C159: 1406-66-2 | D159: =IF(OR(C159=0,C159="x"), "No PNEC", IFERROR( _xlfn.XLOOKUP(C159,'C-search matrix PNEC NORMAN'!B:B,'C-search matrix PNEC NORMAN'!A:A), "No Match" ) ) -> 0.01281
A160: Riboflavin | B160: A11HA04 | C160: 83-88-5 | D160: =IF(OR(C160=0,C160="x"), "No PNEC", IFERROR( _xlfn.XLOOKUP(C160,'C-search matrix PNEC NORMAN'!B:B,'C-search matrix PNEC NORMAN'!A:A), "No Match" ) ) -> 0.46333
A161: Calcium Carbonate | B161: A12AA04 | C161: 471-34-1 | D161: =IF(OR(C161=0,C161="x"), "No PNEC", IFERROR( _xlfn.XLOOKUP(C161,'C-search matrix PNEC NORMAN'!B:B,'C-search matrix PNEC NORMAN'!A:A), "No Match" ) ) -> 1385.4921
A162: Calcium Chloride | B162: A12AA07 | C162: x | D162: =IF(OR(C162=0,C162="x"), "No PNEC", IFERROR( _xlfn.XLOOKUP(C162,'C-search matrix PNEC NORMAN'!B:B,'C-search matrix PNEC NORMAN'!A:A), "No Match" ) ) -> No PNEC
A163: Calcium Citrate | B163: A12AA13 | C163: x | D163: =IF(OR(C163=0,C163="x"), "No PNEC", IFERROR( _xlfn.XLOOKUP(C163,'C-search matrix PNEC NORMAN'!B:B,'C-search matrix PNEC NORMAN'!A:A), "No Match" ) ) -> No PNEC
A164: Calcium, Combinations with Vitamin D And/Or Other Drugs | B164: A12AX | C164: x | D164: =IF(OR(C164=0,C164="x"), "No PNEC", IFERROR( _xlfn.XLOOKUP(C164,'C-search matrix PNEC NORMAN'!B:B,'C-search matrix PNEC NORMAN'!A:A), "No Match" ) ) -> No PNEC
A165: Potassium Chlorate | B165: A12BA01 | C165: x | D165: =IF(OR(C165=0,C165="x"), "No PNEC", IFERROR( _xlfn.XLOOKUP(C165,'C-search matrix PNEC NORMAN'!B:B,'C-search matrix PNEC NORMAN'!A:A), "No Match" ) ) -> No PNEC
A166: Potassium Gluconate | B166: A12BA05 | C166: 299-27-4 | D166: =IF(OR(C166=0,C166="x"), "No PNEC", IFERROR( _xlfn.XLOOKUP(C166,'C-search matrix PNEC NORMAN'!B:B,'C-search matrix PNEC NORMAN'!A:A), "No Match" ) ) -> 1127.4788
A167: Potassium (Different Salts in Combination) | B167: A12BA30 | C167: x | D167: =IF(OR(C167=0,C167="x"), "No PNEC", IFERROR( _xlfn.XLOOKUP(C167,'C-search matrix PNEC NORMAN'!B:B,'C-search matrix PNEC NORMAN'!A:A), "No Match" ) ) -> No PNEC
... A408: Atenolol and Other Diuretics | B408: C07CB03 | C408: 29122-68-7 | D408: =IF(OR(C408=0,C408="x"), "No PNEC", IFERROR( _xlfn.XLOOKUP(C408,'C-search matrix PNEC NORMAN'!B:B,'C-search matrix PNEC NORMAN'!A:A), "No Match" ) ) -> 150
A409: Metoprolol and Felodipine | B409: C07FB02 | C409: 0 | D409: =IF(OR(C409=0,C409="x"), "No PNEC", IFERROR( _xlfn.XLOOKUP(C409,'C-search matrix PNEC NORMAN'!B:B,'C-search matrix PNEC NORMAN'!A:A), "No Match" ) ) -> No PNEC
A410: Amlodipine | B410: C08CA01 | C410: 88150-42-9 | D410: =IF(OR(C410=0,C410="x"), "No PNEC", IFERROR( _xlfn.XLOOKUP(C410,'C-search matrix PNEC NORMAN'!B:B,'C-search matrix PNEC NORMAN'!A:A), "No Match" ) ) -> 0.23
A411: Felodipine | B411: C08CA02 | C411: 72509-76-3 | D411: =IF(OR(C411=0,C411="x"), "No PNEC", IFERROR( _xlfn.XLOOKUP(C411,'C-search matrix PNEC NORMAN'!B:B,'C-search matrix PNEC NORMAN'!A:A), "No Match" ) ) -> 2
A412: Isradipine | B412: C08CA03 | C412: 75695-93-1 | D412: =IF(OR(C412=0,C412="x"), "No PNEC", IFERROR( _xlfn.XLOOKUP(C412,'C-search matrix PNEC NORMAN'!B:B,'C-search matrix PNEC NORMAN'!A:A), "No Match" ) ) -> 0.0014
A413: Nicardipine | B413: C08CA04 | C413: 55985-32-5 | D413: =IF(OR(C413=0,C413="x"), "No PNEC", IFERROR( _xlfn.XLOOKUP(C413,'C-search matrix PNEC NORMAN'!B:B,'C-search matrix PNEC NORMAN'!A:A), "No Match" ) ) -> 0.01218
A414: Nifedipine | B414: C08CA05 | C414: 21829-25-4 | D414: =IF(OR(C414=0,C414="x"), "No PNEC", IFERROR( _xlfn.XLOOKUP(C414,'C-search matrix PNEC NORMAN'!B:B,'C-search matrix PNEC NORMAN'!A:A), "No Match" ) ) -> 0.00899
A415: Nimodipine | B415: C08CA06 | C415: 66085-59-4 | D415: =IF(OR(C415=0,C415="x"), "No PNEC", IFERROR( _xlfn.XLOOKUP(C415,'C-search matrix PNEC NORMAN'!B:B,'C-search matrix PNEC NORMAN'!A:A), "No Match" ) ) -> 0.0031691254
A416: Nisoldipine | B416: C08CA07 | C416: 63675-72-9 | D416: =IF(OR(C416=0,C416="x"), "No PNEC", IFERROR( _xlfn.XLOOKUP(C416,'C-search matrix PNEC NORMAN'!B:B,'C-search matrix PNEC NORMAN'!A:A), "No Match" ) ) -> 0.00204
A417: Nitrendipine | B417: C08CA08 | C417: 39562-70-4 | D417: =IF(OR(C417=0,C417="x"), "No PNEC", IFERROR( _xlfn.XLOOKUP(C417,'C-search matrix PNEC NORMAN'!B:B,'C-search matrix PNEC NORMAN'!A:A), "No Match" ) ) -> 0.00917
A418: Lacidipine | B418: C08CA09 | C418: 103890-78-4 | D418: =IF(OR(C418=0,C418="x"), "No PNEC", IFERROR( _xlfn.XLOOKUP(C418,'C-search matrix PNEC NORMAN'!B:B,'C-search matrix PNEC NORMAN'!A:A), "No Match" ) ) -> 0.00049
A419: Barnidipine | B419: C08CA12 | C419: 104713-75-9 | D419: =IF(OR(C419=0,C419="x"), "No PNEC", IFERROR( _xlfn.XLOOKUP(C419,'C-search matrix PNEC NORMAN'!B:B,'C-search matrix PNEC NORMAN'!A:A), "No Match" ) ) -> 0.0042428961
A420: Lercanidipine | B420: C08CA13 | C420: 100427-26-7 | D420: =IF(OR(C420=0,C420="x"), "No PNEC", IFERROR( _xlfn.XLOOKUP(C420,'C-search matrix PNEC NORMAN'!B:B,'C-search matrix PNEC NORMAN'!A:A), "No Match" ) ) -> 0.00303
A421: Clevidipine | B421: C08CA16 | C421: 167221-71-8 | D421: =IF(OR(C421=0,C421="x"), "No PNEC", IFERROR( _xlfn.XLOOKUP(C421,'C-search matrix PNEC NORMAN'!B:B,'C-search matrix PNEC NORMAN'!A:A), "No Match" ) ) -> 0.00104
... A440: Cilazapril and Diuretics | B440: C09BA08 | C440: 88768-40-5 | D440: =IF(OR(C440=0,C440="x"), "No PNEC", IFERROR( _xlfn.XLOOKUP(C440,'C-search matrix PNEC NORMAN'!B:B,'C-search matrix PNEC NORMAN'!A:A), "No Match" ) ) -> 8.77471
A441: Enalapril and lercanidipine | B441: C09BB02 | C441: 0 | D441: =IF(OR(C441=0,C441="x"), "No PNEC", IFERROR( _xlfn.XLOOKUP(C441,'C-search matrix PNEC NORMAN'!B:B,'C-search matrix PNEC NORMAN'!A:A), "No Match" ) ) -> No PNEC
A442: Perindopril and Amlodipine | B442: C09BB04 | C442: 0 | D442: =IF(OR(C442=0,C442="x"), "No PNEC", IFERROR( _xlfn.XLOOKUP(C442,'C-search matrix PNEC NORMAN'!B:B,'C-search matrix PNEC NORMAN'!A:A), "No Match" ) ) -> No PNEC
A443: Ramipril and Felodipine | B443: C09BB05 | C443: 0 | D443: =IF(OR(C443=0,C443="x"), "No PNEC", IFERROR( _xlfn.XLOOKUP(C443,'C-search matrix PNEC NORMAN'!B:B,'C-search matrix PNEC NORMAN'!A:A), "No Match" ) ) -> No PNEC
A444: Ramipril and Amlodipine | B444: C09BB07 | C444: 0 | D444: =IF(OR(C444=0,C444="x"), "No PNEC", IFERROR( _xlfn.XLOOKUP(C444,'C-search matrix PNEC NORMAN'!B:B,'C-search matrix PNEC NORMAN'!A:A), "No Match" ) ) -> No PNEC
A445: Perindopril, Amlodipine and Indapamide | B445: C09BX01 | C445: 0 | D445: =IF(OR(C445=0,C445="x"), "No PNEC", IFERROR( _xlfn.XLOOKUP(C445,'C-search matrix PNEC NORMAN'!B:B,'C-search matrix PNEC NORMAN'!A:A), "No Match" ) ) -> No PNEC
A446: Perindopril and Bisoprolol | B446: C09BX02 | C446: 0 | D446: =IF(OR(C446=0,C446="x"), "No PNEC", IFERROR( _xlfn.XLOOKUP(C446,'C-search matrix PNEC NORMAN'!B:B,'C-search matrix PNEC NORMAN'!A:A), "No Match" ) ) -> No PNEC
A447: Losartan | B447: C09CA01 | C447: 114798-26-4 | D447: =IF(OR(C447=0,C447="x"), "No PNEC", IFERROR( _xlfn.XLOOKUP(C447,'C-search matrix PNEC NORMAN'!B:B,'C-search matrix PNEC NORMAN'!A:A), "No Match" ) ) -> 78
A448: Eprosartan | B448: C09CA02 | C448: 133040-01-4 | D448: =IF(OR(C448=0,C448="x"), "No PNEC", IFERROR( _xlfn.XLOOKUP(C448,'C-search matrix PNEC NORMAN'!B:B,'C-search matrix PNEC NORMAN'!A:A), "No Match" ) ) -> 0.14269
...

Sheet B-search matrix PNEC MIC
A1: CAS_NR | B1: Substance Name | C1: PNECmic (µg/L)
A2: 37517-28-5 | B2: Amikacin | C2: 16
A3: 26787-78-0 | B3: Amoxicillin | C3: 0.25
A4: 1397-89-3 | B4: Amphotericin B | C4: 0.02
A5: 69-53-4 | B5: Ampicillin | C5: 0.25
A6: 11051-71-1 | B6: Anidulafungin | C6: 0.02
A7: 11051-71-1 | B7: Avilamycin | C7: 8
A8: 83905-01-5 | B8: Azithromycin | C8: 0.25
A9: 78110-38-0 | B9: Aztreonam | C9: 0.5
A10: 1405-87-4 | B10: Bacitracin | C10: 8
A11: 61-33-6 | B11: Benzylpenicillin | C11: 0.25
A12: 11003-38-6 | B12: Capreomycin | C12: 2
A13: 53994-73-3 | B13: Cefaclor | C13: 0.5
... A108: 11006-76-1 | B108: Virginiamycin | C108: 2

Sheet C-search matrix PNEC NORMAN
A1: Lowest PNEC Freshwater [µg//l] | B1: Cas No.
A2: 16.36462 | B2: 999-97-3
A3: 0.81231 | B3: 99996-65-3
A4: 0.02074 | B4: 99994-22-6
A5: 15.853 | B5: 99992-19-5
A6: 11.30252 | B6: 99-99-0
A7: 6.35529 | B7: 99-98-9
A8: 10 | B8: 999-81-5
A9: 11.80795 | B9: 99-97-8
A10: 9.06322 | B10: 999-72-4
A11: 39.37189 | B11: 99-96-7
A12: 6.70245 | B12: 999-65-5
A13: 0.41115128 | B13: 999-64-4
... A437: 4.24874 | B437: 98-07-7
A438: - | B438: 98072-94-7
A439: 0.0057721179 | B439: 98072-26-5
A440: 544.78247 | B440: 98072-25-4
A441: 8.2533487 | B441: 98072-24-3
A442: 8.0834308 | B442: 98072-23-2
A443: 0.011209962 | B443: 98072-21-0
A444: 0.14946748 | B444: 98072-18-5
A445: 21.396165 | B445: 98072-14-1
A446: 343.6703 | B446: 98072-12-9
A447: 0.14946748 | B447: 98072-11-8
A448: 0.96954295 | B448: 98072-10-7
A449: 3.2344539 | B449: 98072-08-3
A450: 1179.2916 | B450: 98072-05-0
... A1562: 9.338144 | B1562: 94667-47-7
A1563: - | B1563: 94667-33-1
A1564: 2.1417237 | B1564: 94-66-6
A1565: 2.07035 | B1565: 94659-47-9
A1566: 11.4 | B1566: 946578-00-3
A1567: 6.6530012 | B1567: 94-65-5
A1568: 13.542038 | B1568: 946-49-6
A1569: 22.81865 | B1569: 94-64-4
A1570: 38.339361 | B1570: 946-43-0
A1571: 3.0266498 | B1571: 946396-92-5
A1572: 3.5477015 | B1572: 946-33-8
A1573: 28.535396 | B1573: 94-63-3
A1574: 2.3208 | B1574: 946-31-6
A1575: 0.38132996 | B1575: 946-30-5
... A6093: 10.09712 | B6093: 934-00-9
A6094: - | B6094: 933999-84-9
A6095: 2.4083786 | B6095: 933-98-2
A6096: 0.0046488791 | B6096: 93393-77-2
A6097: 1.01666 | B6097: 93390-81-9
A6098: 17.40109 | B6098: 933-90-4
A6099: 7.95536 | B6099: 933-88-0
A6100: 4.8469061 | B6100: 93384-78-2
A6101: 125.20004 | B6101: 93379-54-5
A6102: 9.4777024 | B6102: 93379-37-4
A6103: 0.6 | B6103: 933-78-8
A6104: 0.018811394 | B6104: 933786-58-4
A6105: 1.96006 | B6105: 93-37-8
A6106: 0.94 | B6106: 933-75-5
... A6467: 15.06045 | B6467: 92-48-8
A6468: - | B6468: 92484-48-5
A6469: 0.00252 | B6469: 92484-07-6
A6470: 8.05841 | B6470: 924-83-4
A6471: 15.8831 | B6471: 92-47-7
A6472: 8.1832081 | B6472: 924726-92-1
A6473: 1.49193 | B6473: 924663-38-7
A6474: 8.34464 | B6474: 924-50-5
A6475: 238.10071 | B6475: 924-49-2
A6476: 1.5390302 | B6476: 92446-57-6
A6477: 47.742357 | B6477: 92446-30-5
A6478: 26.47999 | B6478: 924-44-7
A6479: 2.75746 | B6479: 92-44-4
A6480: 8.8120493 | B6480: 924-43-6
... A6700: 0.07293 | B6700: 91-76-9
A6701: - | B6701: 917-61-3
A6702: 0.60852 | B6702: 91-75-8
A6703: 0.0060530654 | B6703: 91745-35-6
A6704: 0.0352 | B6704: 917392-54-2
A6705: 0.091951404 | B6705: 917389-32-3
A6706: 0.0319 | B6706: 91-73-6
A6707: 7.47939 | B6707: 917344-75-3
A6708: 1.2256789 | B6708: 91731-99-6
A6709: 0.52503 | B6709: 91-72-5
A6710: 0.00025 | B6710: 917-23-7
A6711: 1.02391 | B6711: 91714-94-2
A6712: 0.0018965543 | B6712: 917-13-5
A6713: 0.3359 | B6713: 916975-92-3
... A6938: 3.1967297 | B6938: 908020-52-0
A6939: - | B6939: 90-80-2
A6940: 44.74488 | B6940: 90801-18-6
A6941: 1.15991 | B6941: 90799-56-7
A6942: 0.54468167 | B6942: 90791-28-9
A6943: 0.01478 | B6943: 90779-69-4
A6944: 2.4443187 | B6944: 90774-69-9
A6945: 0.016216555 | B6945: 9076-44-2
A6946: 0.77318689 | B6946: 907607-08-3
A6947: 4.1168432 | B6947: 907607-07-2
A6948: 59.307942 | B6948: 90-74-4
A6949: 0.16581 | B6949: 90736-23-5
A6950: 0.16995 | B6950: 90736-22-4
A6951: 25 | B6951: 90729-43-4
... A7021: 16.69792 | B7021: 90529-78-5
A7022: - | B7022: 90529-77-4
A7023: 3.61656 | B7023: 90-51-7
...

Sheet D-search matrix Fwwtp
A1: ID | B1: SMILES | C1: Compound | D1: CAS | E1: Breakthrough (%) | F1: Confidence 0-1 | G1: Fwwtp
A2: 0 | B2: COc1cc2n[nH]nc2cc1C(=O)NCC3CCCN3CC=C | C2: Alizapride Hydrochloride | D2: 59338-93-1 | E2: 7.2 | F2: 0.01 | G2: =IF(OR(F2<0.4,F2=""),100,MIN(E2,100)) -> 100
A3: 1 | B3: CC(C)(Oc1ccc(cc1)C2CC2(Cl)Cl)C(O)=O | C3: Ciprofibrate | D3: 52214-84-3 | E3: 89.4 | F3: 0.74 | G3: =IF(OR(F3<0.4,F3=""),100,MIN(E3,100)) -> 89.4
A4: 2 | B4: CC(C(O)=O)c1cccc(c1)C(=O)c2ccccc2 | C4: Ketoprofen | D4: 22071-15-4 | E4: 29.7 | F4: 0.48 | G4: =IF(OR(F4<0.4,F4=""),100,MIN(E4,100)) -> 29.7
A5: 3 | B5: N[S](=O)(=O)c1cc(C(O)=O)c(NCc2occc2)cc1Cl | C5: Furosemide | D5: 54-31-9 | E5: 52.3 | F5: 0.45 | G5: =IF(OR(F5<0.4,F5=""),100,MIN(E5,100)) -> 52.3
A6: 4 | B6: CC1Cc2ccccc2N1NC(=O)c3ccc(Cl)c(c3)[S](N)(=O)=O | C6: Indapamide | D6: 26807-65-8 | E6: 38 | F6: 0.56 | G6: =IF(OR(F6<0.4,F6=""),100,MIN(E6,100)) -> 38
A7: 5 | B7: Cc1ccc(cc1)c2cc(nn2c3ccc(cc3)[S](N)(=O)=O)C(F)(F)F | C7: Celecoxib | D7: 169590-42-5 | E7: 74.4 | F7: 0.79 | G7: =IF(OR(F7<0.4,F7=""),100,MIN(E7,100)) -> 74.4
A8: 6 | B8: [Cl-].C[C@@H](NCCCc1cccc(c1)C(F)(F)F)c2cccc3ccccc23.[H+] | C8: Cinacalcet Hydrochloride | D8: 226256-56-0 | E8: 106.5 | F8: 0.71 | G8: =IF(OR(F8<0.4,F8=""),100,MIN(E8,100)) -> 100
A9: 7 | B9: CNCC[C@H](Oc1cccc2ccccc12)c3sccc3 | C9: Duloxetine Hydrochloride | D9: 116539-59-4 | E9: 22.6 | F9: 0.45 | G9: =IF(OR(F9<0.4,F9=""),100,MIN(E9,100)) -> 22.6
A10: 8 | B10: CCOC(=O)[C@H](CCc1ccccc1)N[C@@H](C)C(=O)N2[C@H]3CCC[C@H]3C[C@H]2C(O)=O | C10: Ramipril | D10: 87333-19-5 | E10: 2.8 | F10: 0.06 | G10: =IF(OR(F10<0.4,F10=""),100,MIN(E10,100)) -> 100
A11: 9 | B11: COc1nc(C)nc(Cl)c1NC2=NCCN2 | C11: Moxonidine | D11: 75438-57-2 | E11: 30.3 | F11: 0.3 | G11: =IF(OR(F11<0.4,F11=""),100,MIN(E11,100)) -> 100
A12: 10 | B12: CN(C)CCc1c[nH]c2ccc(C[C@@H]3COC(=O)N3)cc12 | C12: Zolmitriptan | D12: 139264-17-8 | E12: 15.1 | F12: 0 | G12: =IF(OR(F12<0.4,F12=""),100,MIN(E12,100)) -> 100
A13: 11 | B13: OCCOCCN1CCN(CC1)C2=Nc3ccccc3Sc4ccccc24 | C13: Quetiapine Fumarate | D13: 111974-69-7 | E13: 24 | F13: 0.26 | G13: =IF(OR(F13<0.4,F13=""),100,MIN(E13,100)) -> 100
... A120: 118 | B120: CC(=O)OC1=CC2=C(CCN(C2)C(C(=O)C2CC2)C2=CC=CC=C2F)S1 | C120: Prasugrel Hydrochloride | D120: 150322-43-3 | E120: 80.5 | F120: 0.86 | G120: =IF(OR(F120<0.4,F120=""),100,MIN(E120,100)) -> 80.5
A121: 119 | B121: Oc1ccc2c(Oc3cc(O)ccc3C24OC(=O)c5ccccc45)c1 | C121: Fluorescein Sodium | D121: 153954 | E121: 18.3 | F121: 0.26 | G121: =IF(OR(F121<0.4,F121=""),100,MIN(E121,100)) -> 100
A122: 120 | B122: CC1COc2c(N3CCN(C)CC3)c(F)cc4C(=O)C(=CN1c24)C(O)=O | C122: Ofloxacin | D122: 82419-36-1 | E122: 72.8 | F122: 0.67 | G122: =IF(OR(F122<0.4,F122=""),100,MIN(E122,100)) -> 72.8
A123: 121 | B123: CCC(=O)N(c1ccccc1)C2(CCN(CCc3sccc3)CC2)COC | C123: Sufentanil Citrate | D123: 56030-54-7 | E123: 29.5 | F123: 0.15 | G123: =IF(OR(F123<0.4,F123=""),100,MIN(E123,100)) -> 100
A124: 122 | B124: [H][C@@]12CC(=C)[C@]([H])(CC[C@@]3([H])C[C@@H](C)C(=C)[C@@]([H])(C[C@]4([H])O[C@H](C[C@H](O)CN)[C@H](OC)[C@@]4([H])CC(=O)C[C@@]4([H])CC[C@]5([H])O[C@@]6([H])[C@H]7O[C@@]8(C[C@]7([H])O[C@@]6([H])[C@@]([H])(O8)[C@@]5([H])O4)CC1)O3)O2 | C124: Eribulin Mesylate | D124: 253128-41-5 | E124: 11.8 | F124: 0 | G124: =IF(OR(F124<0.4,F124=""),100,MIN(E124,100)) -> 100
A125: 123 | B125: CN1CCN(CC2=CC=C(C=C2)C(=O)NC2=CC(NC3=NC=CC(=N3)C3=CN=CC=C3)=C(C)C=C2)CC1 | C125: Imatinib Mesilate | D125: 152459-95-5 | E125: 57.4 | F125: 0.47 | G125: =IF(OR(F125<0.4,F125=""),100,MIN(E125,100)) -> 57.4
A126: 124 | B126: CNCCC1=CC=CC=N1 | C126: Betahistine Dihydrochloride | D126: 5638-76-6 | E126: 5 | F126: 0.11 | G126: =IF(OR(F126<0.4,F126=""),100,MIN(E126,100)) -> 100
A127: 125 | B127: COC(=O)[C@@H](N1CCc2sccc2C1)c3ccccc3Cl | C127: Clopidogrel Besilate | D127: 113665-84-2 | E127: 81.6 | F127: 0.86 | G127: =IF(OR(F127<0.4,F127=""),100,MIN(E127,100)) -> 81.6
A128: 126 | B128: [Cl-].CN(C)[C@@H](CCOc1cccc2ccccc12)c3ccccc3.[H+] | C128: Dapoxetine Hydrochloride | D128: 119356-77-3 | E128: 97.1 | F128: 0.77 | G128: =IF(OR(F128<0.4,F128=""),100,MIN(E128,100)) -> 97.1
A129: 127 | B129: NC1=CC(=NC(=N)N1O)N2CCCCC2 | C129: Minoxidil | D129: 38304-91-5 | E129: 30.3 | F129: 0.15 | G129: =IF(OR(F129<0.4,F129=""),100,MIN(E129,100)) -> 100
A130: 128 | B130: COc1ccc2nc([nH]c2c1)[S](=O)Cc3ncc(C)c(OC)c3C | C130: Omeprazole | D130: 73590-58-6 | E130: 13.8 | F130: 0 | G130: =IF(OR(F130<0.4,F130=""),100,MIN(E130,100)) -> 100
A131: 129 | B131: [H+].[H+].[Cl-].[Cl-].OC(=O)COCCN1CCN(CC1)C(c2ccccc2)c3ccc(Cl)cc3 | C131: Cetirizine Dihydrochloride | D131: 83881-51-0 | E131: 115.3 | F131: 0.78 | G131: =IF(OR(F131<0.4,F131=""),100,MIN(E131,100)) -> 100
A132: 130 | B132: [H][C@@]12OC3=C4C(C[C@@]5([H])N(CC6CC6)CC[C@@]14[C@@]5(O)CC(C(=O)NC(C)(C)C1=NC(=NO1)C1=CC=CC=C1)=C2O)=CC=C3O | C132: Naldemedine Tosylate | D132: 916072-89-4 | E132: 9.1 | F132: 0 | G132: =IF(OR(F132<0.4,F132=""),100,MIN(E132,100)) -> 100
A133: 131 | B133: [H+].[Cl-].CC(N)(C1CCCCC1)c2cc(Br)cc(Br)c2N | C133: Bromhexine Hydrochloride | D133: 3572-43-8 | E133: 30.9 | F133: 0.54 | G133: =IF(OR(F133<0.4,F133=""),100,MIN(E133,100)) -> 30.9
... A284: 282 | B284: [H+].O.[Cl-].CCN1N=NN(CCN2CCC(CC2)(COC)N(C(=O)CC)c3ccccc3)C1=O | C284: Alfentanil Hydrochloride | D284: 71195-58-9 | E284: 118.7 | F284: 0.75 | G284: =IF(OR(F284<0.4,F284=""),100,MIN(E284,100)) -> 100
A285: 283 | B285: [H+].[Cl-].CCN(CCCCOC(=O)c1ccc(OC)c(OC)c1)C(C)Cc2ccc(OC)cc2 | C285: Mebeverine Hydrochloride | D285: 630203 | E285: 104.8 | F285: 0.83 | G285: =IF(OR(F285<0.4,F285=""),100,MIN(E285,100)) -> 100
A286: 284 | B286: CCC1=CC2CN(C1)Cc3c([nH]c4ccccc34)[C@@](C2)(C(=O)OC)c5cc6c(cc5OC)N(C)[C@H]7[C@](O)([C@H](OC(C)=O)[C@]8(CC)C=CCN9CC[C@]67[C@H]89)C(=O)OC | C286: Vinorelbine Tartrate | D286: 71486-22-1 | E286: 18.2 | F286: 0.2 | G286: =IF(OR(F286<0.4,F286=""),100,MIN(E286,100)) -> 100
A287: 285 | B287: CO/N=C(C(=O)N[C@H]1[C@H]2SCC(=C(N2C1=O)C([O-])=O)C[N+]3(C)CCCC3)/c4csc(N)n4 | C287: Cefepime Dihydrochloride Monohydrate | D287: 88040-23-7 | E287: 8.8 | F287: 0 | G287: =IF(OR(F287<0.4,F287=""),100,MIN(E287,100)) -> 100
A288: 286 | B288: C[C@@H](O[C@@H]1OCCN(CC2=NC(=O)NN2)[C@@H]1c3ccc(F)cc3)c4cc(cc(c4)C(F)(F)F)C(F)(F)F | C288: Aprepitant | D288: 170729-80-3 | E288: 33.2 | F288: 0.42 | G288: =IF(OR(F288<0.4,F288=""),100,MIN(E288,100)) -> 33.2
A289: 287 | B289: [Cl-].CC1OC(CC(N)C1O)O[C@H]2C[C@@](O)(Cc3c(O)c4C(=O)c5ccccc5C(=O)c4c(O)c23)C(C)=O.[H+] | C289: Idarubicin Hydrochloride | D289: 58957-92-9 | E289: 52.2 | F289: 0.54 | G289: =IF(OR(F289<0.4,F289=""),100,MIN(E289,100)) -> 52.2
A290: 288 | B290: C[C@H](O)[C@H](C)[C@@H]1O[C@H]1C[C@H]2CO[C@@H](C\C(C)=C\C(=O)OCCCCCCCCC(O)=O)[C@H](O)[C@@H]2O | C290: Mupirocin | D290: 12650-69-0 | E290: 15.5 | F290: 0.17 | G290: =IF(OR(F290<0.4,F290=""),100,MIN(E290,100)) -> 100
A291: 289 | B291: [Gd+3].CC(O)CN1CCN(CCN(CCN(CC1)CC([O-])=O)CC([O-])=O)CC([O-])=O | C291: Gadoteridol | D291: 120066-54-8 | E291: 11.9 | F291: 0.34 | G291: =IF(OR(F291<0.4,F291=""),100,MIN(E291,100)) -> 100
A292: 290 | B292: Cn1cnc(c1Sc2ncnc3nc[nH]c23)[N+]([O-])=O | C292: Azathioprine | D292: 446-86-6 | E292: 6.1 | F292: 0.09 | G292: =IF(OR(F292<0.4,F292=""),100,MIN(E292,100)) -> 100
A293: 291 | B293: [Cl-].CCCC[S](=O)(=O)N[C@@H](Cc1ccc(OCCCCC2CCNCC2)cc1)C(O)=O.[H+] | C293: Tirofiban Hydrochloride | D293: 144494-65-5 | E293: 50.4 | F293: 0.45 | G293: =IF(OR(F293<0.4,F293=""),100,MIN(E293,100)) -> 50.4
A294: 292 | B294: OC(=O)Cc1ccccc1Nc2c(Cl)cccc2Cl | C294: Diclofenac Diethylamine | D294: 15307-86-5 | E294: 25.9 | F294: 0.53 | G294: =IF(OR(F294<0.4,F294=""),100,MIN(E294,100)) -> 25.9
A295: 293 | B295: [Cl-].CCCOc1ccc(cc1N)C(=O)OCC[NH+](CC)CC | C295: Proxymetacaine Hydrochloride | D295: 499-67-2 | E295: 22.4 | F295: 0.48 | G295: =IF(OR(F295<0.4,F295=""),100,MIN(E295,100)) -> 22.4
A296: 294 | B296: NC1=NC(=O)N(C=C1)[C@@H]2CS[C@H](CO)O2 | C296: Lamivudine | D296: 134678-17-4 | E296: 14.2 | F296: 0.18 | G296: =IF(OR(F296<0.4,F296=""),100,MIN(E296,100)) -> 100
A297: 295 | B297: C[C@@H](O)[C@@H]1[C@H]2[C@@H](C)C(=C(N2C1=O)C(O)=O)S[C@H]3CC[C@H](N3)C(=O)N(C)C | C297: Meropenem Trihydrate | D297: 96036-03-2 | E297: 6.6 | F297: 0 | G297: =IF(OR(F297<0.4,F297=""),100,MIN(E297,100)) -> 100
... A347: 345 | B347: CCOC1=CC=C(CC2=C(Cl)C=CC(=C2)[C@@H]2O[C@H](CO)[C@@H](O)[C@H](O)[C@H]2O)C=C1 | C347: Dapagliflozin Propanediol Monohydrate | D347: 461432-26-8 | E347: 49.7 | F347: 0.43 | G347: =IF(OR(F347<0.4,F347=""),100,MIN(E347,100)) -> 49.7
A348: 346 | B348: C[C@@H]1[C@H](O)CC[C@@]2(C)[C@H]1CC[C@@]3(C)[C@H]2[C@H](O)C[C@H]4\C([C@H](C[C@]34C)OC(C)=O)=C(/CCC=C(C)C)C(O)=O | C348: Fusidic Acid | D348: 1859240 | E348: 1 | F348: 0.11 | G348: =IF(OR(F348<0.4,F348=""),100,MIN(E348,100)) -> 100
A349: 347 | B349: CC(=O)SCC(Cc1ccccc1)C(=O)NCC(=O)OCc2ccccc2 | C349: Racecadotril | D349: 81110-73-8 | E349: 16.9 | F349: 0.24 | G349: =IF(OR(F349<0.4,F349=""),100,MIN(E349,100)) -> 100
A350: 348 | B350: C[N+]1(C)CCC(C1)OC(=O)C(O)(C1CCCC1)C1=CC=CC=C1 | C350: Glycopyrronium | D350: 740028-90-4 | E350: 18.6 | F350: 0.08 | G350: =IF(OR(F350<0.4,F350=""),100,MIN(E350,100)) -> 100
A351: 349 | B351: CC(C)(Oc1ccc(CCNC(=O)c2ccc(Cl)cc2)cc1)C(O)=O | C351: Bezafibrate | D351: 41859-67-0 | E351: 78.6 | F351: 0.65 | G351: =IF(OR(F351<0.4,F351=""),100,MIN(E351,100)) -> 78.6
A352: 350 | B352: CC[C@]12CC(=C)[C@H]3[C@@H](CCC4=CCCC[C@H]34)[C@@H]1CC[C@@]2(O)C#C | C352: Desogestrel | D352: 54024-22-5 | E352: 8.4 | F352: 0.14 | G352: =IF(OR(F352<0.4,F352=""),100,MIN(E352,100)) -> 100
A353: 351 | B353: [H][C@@]12CC3=C(F)C=C(NC(=O)CN4CCCC4)C(O)=C3C(=O)C1=C(O)[C@]1(O)C(=O)C(C(N)=O)=C(O)[C@@H](N(C)C)[C@]1([H])C2 | C353: Eravacycline | D353: 1207283-85-9 | E353: 45 | F353: 0.48 | G353: =IF(OR(F353<0.4,F353=""),100,MIN(E353,100)) -> 45
A354: 352 | B354: [H+].[H+].[Cl-].[Cl-].CCN(CC)CCN1C(=O)CN=C(c2ccccc2F)c3cc(Cl)ccc13 | C354: Flurazepam Monohydrochloride | D354: 17617-23-1 | E354: 140.4 | F354: 0.68 | G354: =IF(OR(F354<0.4,F354=""),100,MIN(E354,100)) -> 100
A355: 353 | B355: [H+].[Cl-].NC(N)=NC(=O)Cc1c(Cl)cccc1Cl | C355: Guanfacine Hydrochloride | D355: 29110-47-2 | E355: 44.5 | F355: 0.42 | G355: =IF(OR(F355<0.4,F355=""),100,MIN(E355,100)) -> 44.5
A356: 354 | B356: C[S](=O)(=O)OCCCCO[S](C)(=O)=O | C356: Busulfan | D356: 55-98-1 | E356: 26.5 | F356: 0.25 | G356: =IF(OR(F356<0.4,F356=""),100,MIN(E356,100)) -> 100
A357: 355 | B357: CC(C)OC(=O)C(C)(C)Oc1ccc(cc1)C(=O)c2ccc(Cl)cc2 | C357: Fenofibrate | D357: 49562-28-9 | E357: 118 | F357: 0.84 | G357: =IF(OR(F357<0.4,F357=""),100,MIN(E357,100)) -> 100
A358: 356 | B358: Clc1ccc2N(CC3CC3)C(=O)CN=C(c4ccccc4)c2c1 | C358: Prazepam | D358: 2955-38-6 | E358: 151.8 | F358: 0.7 | G358: =IF(OR(F358<0.4,F358=""),100,MIN(E358,100)) -> 100
A359: 357 | B359: CC[C@]12CC[C@H]3[C@@H](CCC4=CC(=O)CC[C@H]34)[C@@H]1CC[C@@]2(O)C#C | C359: Levonorgestrel | D359: 797-63-7 | E359: 9.5 | F359: 0.16 | G359: =IF(OR(F359<0.4,F359=""),100,MIN(E359,100)) -> 100
A360: 358 | B360: [H+].[Cl-].CN1CCN2C(C1)c3ccccc3Cc4ccccc24 | C360: Mianserin Hydrochloride | D360: 24219-97-4 | E360: 98.1 | F360: 0.69 | G360: =IF(OR(F360<0.4,F360=""),100,MIN(E360,100)) -> 98.1
... A543: 541 | B543: CCOc1ccccc1O[C@H]([C@@H]2CNCCO2)c3ccccc3 | C543: Reboxetine Mesilate | D543: 98769-81-4 | E543: 30.3 | F543: 0.32 | G543: =IF(OR(F543<0.4,F543=""),100,MIN(E543,100)) -> 100
A544: 542 | B544: CN(C)N\N=C/1N=CN=C1C(N)=O | C544: Dacarbazine Citrate | D544: 891986 | E544: 17.3 | F544: 0.08 | G544: =IF(OR(F544<0.4,F544=""),100,MIN(E544,100)) -> 100
A545: 543 | B545: [Gd+3].CNC[C@H](O)[C@@H](O)[C@H](O)[C@H](O)CO.CNC[C@H](O)[C@@H](O)[C@H](O)[C@H](O)CO.[H+].[H+].[O-]C(=O)CN(CCN(CC([O-])=O)CC([O-])=O)CCN(CC([O-])=O)C(COCc1ccccc1)C([O-])=O | C545: Gadobenate Dimeglumine | D545: 127000-20-8 | E545: 8.8 | F545: 0 | G545: =IF(OR(F545<0.4,F545=""),100,MIN(E545,100)) -> 100
A546: 544 | B546: COCCCOc1ccnc(C[S](=O)c2[nH]c3ccccc3n2)c1C | C546: Rabeprazole Sodium | D546: 117976-89-3 | E546: 24.8 | F546: 0.26 | G546: =IF(OR(F546<0.4,F546=""),100,MIN(E546,100)) -> 100
A547: 545 | B547: CN1C=CC(=O)C(=C1C)O | C547: Deferiprone | D547: 30652-11-0 | E547: 19.3 | F547: 0.49 | G547: =IF(OR(F547<0.4,F547=""),100,MIN(E547,100)) -> 19.3
A548: 546 | B548: NC1=NC(=O)c2ncn(COC(CO)CO)c2N1 | C548: Ganciclovir | D548: 82410-32-0 | E548: 11.8 | F548: 0.35 | G548: =IF(OR(F548<0.4,F548=""),100,MIN(E548,100)) -> 100
A549: 547 | B549: Oc1ccc(cc1)c2sc3cc(O)ccc3c2C(=O)c4ccc(OCCN5CCCCC5)cc4 | C549: Raloxifene Hydrochloride | D549: 84449-90-1 | E549: 13.5 | F549: 0.22 | G549: =IF(OR(F549<0.4,F549=""),100,MIN(E549,100)) -> 100
A550: 548 | B550: Clc1ccccc1CN2CCc3sccc3C2 | C550: Ticlopidine Hydrochloride | D550: 55142-85-3 | E550: 97.3 | F550: 0.76 | G550: =IF(OR(F550<0.4,F550=""),100,MIN(E550,100)) -> 97.3
A551: 549 | B551: [K+].[I-] | C551: Potassium Iodide | D551: 7681-11-0 | E551: 77.2 | F551: 0.74 | G551: =IF(OR(F551<0.4,F551=""),100,MIN(E551,100)) -> 77.2
A552: 550 | B552: CC#C[C@]1(O)CC[C@H]2[C@@H]3CCC4=CC(=O)CCC4=C3[C@H](C[C@]12C)c5ccc(cc5)N(C)C | C552: Mifepristone | D552: 84371-65-3 | E552: 5.1 | F552: 0.02 | G552: =IF(OR(F552<0.4,F552=""),100,MIN(E552,100)) -> 100
A553: 551 | B553: CCN[C@H]1C[C@H](C)[S](=O)(=O)c2sc(cc12)[S](N)(=O)=O | C553: Dorzolamide Hydrochloride | D553: 120279-96-1 | E553: 8.1 | F553: 0 | G553: =IF(OR(F553<0.4,F553=""),100,MIN(E553,100)) -> 100
A554: 552 | B554: CN(C)CCc1c[nH]c2ccc(C[S](=O)(=O)N3CCCC3)cc12 | C554: Almotriptan D,L-Hydrogen Malate | D554: 154323-57-6 | E554: 25.4 | F554: 0 | G554: =IF(OR(F554<0.4,F554=""),100,MIN(E554,100)) -> 100
A555: 553 | B555: [Cl-].C[C@H](Cc1ccccc1)N(C)CC#C.[H+] | C555: Selegiline Hydrochloride | D555: 14611-51-9 | E555: 86.3 | F555: 0.77 | G555: =IF(OR(F555<0.4,F555=""),100,MIN(E555,100)) -> 86.3
A556: 554 | B556: Cc1cc2c(cc1C(=C)c3ccc(cc3)C(O)=O)C(C)(C)CCC2(C)C | C556: Bexarotene | D556: 153559-49-0 | E556: 17.3 | F556: 0.29 | G556: =IF(OR(F556<0.4,F556=""),100,MIN(E556,100)) -> 100
... A628: 626 | B628: C[C@]12CC[C@H]3[C@@H](CCC4=CC(=O)CC[C@]34C)[C@@H]1CC[C@@H]2O | C628: Testosterone | D628: 58-22-0 | E628: 3.3 | F628: 0.15 | G628: =IF(OR(F628<0.4,F628=""),100,MIN(E628,100)) -> 100
A629: 627 | B629: CC(C)N(CCC(C(N)=O)(c1ccccc1)c2ccccn2)C(C)C.O[P](O)(O)=O | C629: Disopyramide Phosphate | D629: 671200 | E629: 44.7 | F629: 0.41 | G629: =IF(OR(F629<0.4,F629=""),100,MIN(E629,100)) -> 44.7
A630: 628 | B630: CCC(C)CCCC(=O)N[C@@H](CCN)C(=O)N[C@@H]([C@@H](C)O)C(=O)N[C@@H](CCN)C(=O)N[C@H]1CCNC(=O)[C@@H](NC(=O)[C@H](CCN)NC(=O)[C@H](CCN)NC(=O)[C@H](CC(C)C)NC(=O)[C@@H](CC(C)C)NC(=O)[C@H](CCN)NC1=O)[C@@H](C)O | C630: Colistimethate Sodium | D630: 1066-17-7 | E630: 7.9 | F630: 0.09 | G630: =IF(OR(F630<0.4,F630=""),100,MIN(E630,100)) -> 100
A631: 629 | B631: [H+].[Cl-].NC1=NCC2N1c3ccccc3Cc4ccccc24 | C631: Epinastine Hydrochloride | D631: 80012-43-7 | E631: 110.6 | F631: 0.65 | G631: =IF(OR(F631<0.4,F631=""),100,MIN(E631,100)) -> 100
A632: 630 | B632: [Zn].CCC(C)C(N)C1=NC(CS1)C(=O)NC(CC(C)C)C(=O)NC(CCC(O)=O)C(=O)NC(C(C)CC)C(=O)NC2CCCCNC(=O)C(CC(N)=O)NC(=O)C(CC(O)=O)NC(=O)C(CC3C=NC=N3)NC(=O)C(Cc4ccccc4)NC(=O)C(NC(=O)C(CCCN)NC2=O)C(C)CC | C632: Bacitracin,Polymyxin B Sulfate | D632: 1405-87-4 | E632: 6.8 | F632: 0.01 | G632: =IF(OR(F632<0.4,F632=""),100,MIN(E632,100)) -> 100
A633: 631 | B633: [Cl-].CC(C[N+](C)(C)C)OC(N)=O | C633: Bethanechol Chloride | D633: 674-38-4 | E633: 82.9 | F633: 0.31 | G633: =IF(OR(F633<0.4,F633=""),100,MIN(E633,100)) -> 100
A634: 632 | B634: CC(C)c1nnc(C)n1C2C[C@H]3CC[C@@H](C2)N3CC[C@H](NC(=O)C4CCC(F)(F)CC4)c5ccccc5 | C634: Maraviroc | D634: 376348-65-1 | E634: 72.5 | F634: 0.53 | G634: =IF(OR(F634<0.4,F634=""),100,MIN(E634,100)) -> 72.5
A635: 633 | B635: O=C1CCC(N2C(=O)c3ccccc3C2=O)C(=O)N1 | C635: Thalidomide | D635: 50-35-1 | E635: 2.1 | F635: 0.12 | G635: =IF(OR(F635<0.4,F635=""),100,MIN(E635,100)) -> 100
A636: 634 | B636: CC(C)C[C@H](NC(=O)[C@@H](Cc1ccc(NC(N)=O)cc1)NC(=O)[C@H](Cc2ccc(NC(=O)[C@@H]3CC(=O)NC(=O)N3)cc2)NC(=O)[C@H](CO)NC(=O)[C@@H](Cc4cccnc4)NC(=O)[C@@H](Cc5ccc(Cl)cc5)NC(=O)[C@@H](Cc6ccc7ccccc7c6)NC(C)=O)C(=O)N[C@@H](CCCCNC(C)C)C(=O)N8CCC[C@H]8C(=O)N[C@H](C)C(N)=O.CC(O)=O | C636: Degarelix Acetate | D636: 214766-78-6 | E636: 29.1 | F636: 0.48 | G636: =IF(OR(F636<0.4,F636=""),100,MIN(E636,100)) -> 29.1
A637: 635 | B637: CCCN(CCc1sccc1)C2CCc3c(O)cccc3C2 | C637: Rotigotine | D637: 99755-59-6 | E637: 16.7 | F637: 0.17 | G637: =IF(OR(F637<0.4,F637=""),100,MIN(E637,100)) -> 100
A638: 636 | B638: O.NC1=NC(=O)c2ncn(C3C[C@H](O)[C@@H](CO)C3=C)c2N1 | C638: Entecavir Monohydrate | D638: 209216-23-9 | E638: 3.9 | F638: 0.59 | G638: =IF(OR(F638<0.4,F638=""),100,MIN(E638,100)) -> 3.9
A639: 637 | B639: CC(C)(C)C(O)/C=C/c1ccc2OCOc2c1 | C639: Stiripentol | D639: 49763-96-4 | E639: 22.6 | F639: 0.14 | G639: =IF(OR(F639<0.4,F639=""),100,MIN(E639,100)) -> 100
A640: 638 | B640: NC(=O)c1cn(Cc2c(F)cccc2F)nn1 | C640: Rufinamide | D640: 106308-44-5 | E640: 133.7 | F640: 0.78 | G640: =IF(OR(F640<0.4,F640=""),100,MIN(E640,100)) -> 100
A641: 639 | B641: C[N+](C)(C)CC([O-])=O | C641: Betaine Monohydrate | D641: 107-43-7 | E641: 2.4 | F641: 0.24 | G641: =IF(OR(F641<0.4,F641=""),100,MIN(E641,100)) -> 100
... A742: 740 | B742: NC[C@@H]1OC(O[C@H]2[C@@H](O)[C@H](O[C@@H]3[C@@H](O)[C@H](N)C[C@H](N)[C@H]3O[C@H]3O[C@H](CN)[C@@H](O)[C@H](O)[C@H]3N)O[C@@H]2CO)[C@H](N)[C@@H](O)[C@@H]1O.O=S(=O)(O)O | C742: Neomycin | D742: 1404-04-2 | E742: 25.2 | F742: 0.33 | G742: =IF(OR(F742<0.4,F742=""),100,MIN(E742,100)) -> 100
A743: 741 | B743: CCC(=O)OCC(=O)[C@@]1(OC(=O)CC)[C@@H](C)C[C@H]2[C@@H]3CCC4=CC(=O)C=C[C@]4(C)[C@@]3(Cl)[C@@H](O)C[C@@]21C | C743: Beclometasone | D743: 1327543 | E743: 137.7 | F743: 0.8 | G743: =IF(OR(F743<0.4,F743=""),100,MIN(E743,100)) -> 100
A744: 742 | B744: Nc1ccc(O)c(C(=O)O)c1 | C744: Mesalazine | D744: 89-57-6 | E744: 19 | F744: 0.59 | G744: =IF(OR(F744<0.4,F744=""),100,MIN(E744,100)) -> 19
A745: 743 | B745: COc1ccc(Cl)cc1C(=O)NCCc1ccc(S(=O)(=O)NC(=O)NC2CCCCC2)cc1 | C745: Glibenclamide | D745: 10238-21-8 | E745: 48.8 | F745: 0.55 | G745: =IF(OR(F745<0.4,F745=""),100,MIN(E745,100)) -> 48.8
A746: 744 | B746: Cc1cnc(C(=O)NCCc2ccc(S(=O)(=O)NC(=O)NC3CCCCC3)cc2)cn1 | C746: Glipizide | D746: 29094-61-9 | E746: 17.9 | F746: 0 | G746: =IF(OR(F746<0.4,F746=""),100,MIN(E746,100)) -> 100
A747: 745 | B747: C[C@H]1O[C@H](O[C@H]2[C@H](O)[C@@H](O)[C@@H](O[C@H]3[C@H](O)[C@@H](O)[C@H](O)O[C@@H]3CO)O[C@@H]2CO)[C@H](O)[C@@H](O)[C@@H]1N[C@H]1C=C(CO)[C@H](O)[C@H](O)[C@H]1O | C747: Acarbose | D747: 56180-94-0 | E747: 28.2 | F747: 0.34 | G747: =IF(OR(F747<0.4,F747=""),100,MIN(E747,100)) -> 100
A748: 746 | B748: CCOc1ccc(Cc2cc([C@]34OC[C@](CO)(O3)[C@@H](O)[C@H](O)[C@H]4O)ccc2Cl)cc1 | C748: Ertugliflozin | D748: 1210344-57-2 | E748: 65.6 | F748: 0.5 | G748: =IF(OR(F748<0.4,F748=""),100,MIN(E748,100)) -> 65.6
A749: 747 | B749: C=C1CC[C@H](O)C/C1=C\C=C1/CCC[C@]2(C)[C@@H]([C@H](C)CCCC(C)C)CC[C@@H]12 | C749: Colecalciferol | D749: 67-97-0 | E749: 3.6 | F749: 0.04 | G749: =IF(OR(F749<0.4,F749=""),100,MIN(E749,100)) -> 100
A750: 748 | B750: Cc1ncc(C[n+]2csc(CCO)c2C)c(N)n1 | C750: Thiamine (Vit B1) | D750: 70-16-6 | E750: 14 | F750: 0.18 | G750: =IF(OR(F750<0.4,F750=""),100,MIN(E750,100)) -> 100
A751: 749 | B751: O=C1C(O)=C(O)OC1C(O)CO | C751: Ascorbic Acid (Vit C) | D751: 50-81-7 | E751: 5.6 | F751: 0.44 | G751: =IF(OR(F751<0.4,F751=""),100,MIN(E751,100)) -> 5.6
A752: 750 | B752: NC(=O)c1cccnc1 | C752: Nicotinamide | D752: 98-92-0 | E752: 28.8 | F752: 0.57 | G752: =IF(OR(F752<0.4,F752=""),100,MIN(E752,100)) -> 28.8
A753: 751 | B753: Cc1ncc(CO)c(CO)c1O | C753: Pyridoxine (Vit B6) | D753: 65-23-6 | E753: 32.7 | F753: 0.4 | G753: =IF(OR(F753<0.4,F753=""),100,MIN(E753,100)) -> 32.7
A754: 752 | B754: Cc1c(O)cc2c(c1C)OC(C)(CCCC(C)CCCC(C)CCCC(C)C)CC2 | C754: Tocopherol | D754: 1406-66-2 | E754: 9 | F754: 0 | G754: =IF(OR(F754<0.4,F754=""),100,MIN(E754,100)) -> 100
A755: 753 | B755: Cc1cc2nc3c(=O)[nH]c(=O)nc-3n(CC(O)C(O)C(O)CO)c2cc1C | C755: Riboflavin | D755: 83-88-5 | E755: 3.1 | F755: 0 | G755: =IF(OR(F755<0.4,F755=""),100,MIN(E755,100)) -> 100
... A771: 769 | B771: CO[C@H]1[C@@H](O)C[C@H](O[C@H]2[C@@H](O)C[C@H](O[C@H]3[C@@H](O)C[C@H](O[C@H]4CC[C@@]5(C)[C@H](CC[C@@H]6[C@@H]5C[C@@H](O)[C@]5(C)C(C7=CC(=O)OC7)CC[C@]65O)C4)O[C@@H]3C)O[C@@H]2C)O[C@@H]1C | C771: Metildigoxin | D771: 30685-43-9 | E771: 5.4 | F771: 0 | G771: =IF(OR(F771<0.4,F771=""),100,MIN(E771,100)) -> 100
A772: 770 | B772: CC[C@H]1[C@@H]2C[C@H]3[C@@H]4N(C)c5ccccc5[C@]45C[C@@H](C2C5O)N3[C@@H]1O | C772: Ajmaline | D772: 898839 | E772: 6.3 | F772: 0 | G772: =IF(OR(F772<0.4,F772=""),100,MIN(E772,100)) -> 100
A773: 771 | B773: c1ccc(C2(c3ccccc3)CC2C2=NCCN2)cc1 | C773: Cibenzoline | D773: 53267-01-9 | E773: 44.5 | F773: 0.04 | G773: =IF(OR(F773<0.4,F773=""),100,MIN(E773,100)) -> 100
...

Sheet E-search matrix Flemish WWTP
A1: RWZI nr. | B1: RWZI | C1: Ontwerpcapaciteit (IE) | D1: 5% ontwerpcapaciteit (m³/d) | E1: Q_wwtp effluent (m³/d) | F1: Industriële uitlaat | G1: Q10 pegase (m³/s) | H1: Q50 PEGASE (m³/s) | I1: Q90 PEGASE (m³/s) | J1: Q10 pegase (m³/d) | K1: df (wwtp-river) | L1: Q10 consensus (m³/s) | M1: comment
A2: 18 | B2: Brugge | C2: =265000-25000 -> 240000 | D2: =C2*0.05*0.15 -> 1800 | E2: =D2*20 -> 36000 | F2: https://geoserver.vmm.be/geoserver/wms?VERSION=1.1.1&FORMAT=image%2Fpng&LAYERS=pegase%3Aindutl&SERVICE=WMS&REQUEST=GetFeatureInfo&STYLES=&EXCEPTIONS=application%2Fvnd.ogc.se_xml&TRANSPARENT=TRUE&SRS=EPSG%3A31370&BBOX=68193.912389%2C216215.823621%2C70015.632559%2C216954.54369&X=1181&Y=179&INFO_FORMAT=text%2Fhtml&QUERY_LAYERS=pegase%3Aindutl&FEATURE_COUNT=50&WIDTH=1598&HEIGHT=648 | G2: 0.5441 | J2: =G2*86400 -> 47010.24 | K2: =J2/E2 -> 1.30584 | L2: =IF(COUNTIF(RWZI!$A$3:$A$455,A2)=0,"",IF(COUNTIF(RWZI!$A$3:$A$455,A2)>1,"multiple matches",IF(_xlfn.XLOOKUP(A2,RWZI!$A$3:$A$455,RWZI!$S$3:$S$455,"")="","blank",_xlfn.XLOOKUP(A2,RWZI!$A$3:$A$455,RWZI!$S$3:$S$455,"")))) -> ???
A3: 20 | B3: Gent | C3: 230000 | D3: =C3*0.05*0.15 -> 1725 | E3: =D3*20 -> 34500 | F3: https://geoserver.vmm.be/geoserver/wms?VERSION=1.1.1&FORMAT=image%2Fpng&LAYERS=pegase%3Apegase_debieten%2Cpegase%3Aindutl&SERVICE=WMS&REQUEST=GetFeatureInfo&STYLES=&EXCEPTIONS=application%2Fvnd.ogc.se_xml&TRANSPARENT=TRUE&SRS=EPSG%3A31370&BBOX=101566.15776%2C193969.072604%2C102420.061445%2C194315.336427&X=859&Y=337&INFO_FORMAT=text%2Fhtml&QUERY_LAYERS=pegase%3Apegase_debieten%2Cpegase%3Aindutl&FEATURE_COUNT=50&WIDTH=1598&HEIGHT=648 | G3: 4.8109 | J3: =G3*86400 -> 415661.76 | K3: =J3/E3 -> 12.048167 | L3: =IF(COUNTIF(RWZI!$A$3:$A$455,A3)=0,"",IF(COUNTIF(RWZI!$A$3:$A$455,A3)>1,"multiple matches",IF(_xlfn.XLOOKUP(A3,RWZI!$A$3:$A$455,RWZI!$S$3:$S$455,"")="","blank",_xlfn.XLOOKUP(A3,RWZI!$A$3:$A$455,RWZI!$S$3:$S$455,"")))) -> 13.375
A4: 53 | B4: Deurne | C4: 215000 | D4: =C4*0.05*0.15 -> 1612.5 | E4: =D4*20 -> 32250 | F4: https://geoserver.vmm.be/geoserver/wms?VERSION=1.1.1&FORMAT=image%2Fpng&LAYERS=pegase%3Aowl_l_pegase%2Cpegase%3Apegase_debieten%2Cpegase%3Aindutl&SERVICE=WMS&REQUEST=GetFeatureInfo&STYLES=&EXCEPTIONS=application%2Fvnd.ogc.se_xml&TRANSPARENT=TRUE&SRS=EPSG%3A31370&BBOX=154234.177714%2C212698.018045%2C156055.897883%2C213436.738113&X=657&Y=144&INFO_FORMAT=text%2Fhtml&QUERY_LAYERS=pegase%3Aowl_l_pegase%2Cpegase%3Apegase_debieten%2Cpegase%3Aindutl&FEATURE_COUNT=50&WIDTH=1598&HEIGHT=648 | G4: 6.5 | J4: =G4*86400 -> 561600 | K4: =J4/E4 -> 17.413953 | L4: =IF(COUNTIF(RWZI!$A$3:$A$455,A4)=0,"",IF(COUNTIF(RWZI!$A$3:$A$455,A4)>1,"multiple matches",IF(_xlfn.XLOOKUP(A4,RWZI!$A$3:$A$455,RWZI!$S$3:$S$455,"")="","blank",_xlfn.XLOOKUP(A4,RWZI!$A$3:$A$455,RWZI!$S$3:$S$455,"")))) -> 13.6
A5: 50 | B5: Antwerpen-Zuid | C5: 190000 | D5: =C5*0.05*0.15 -> 1425 | E5: =D5*20 -> 28500 | F5: https://geoserver.vmm.be/geoserver/wms?VERSION=1.1.1&FORMAT=image%2Fpng&LAYERS=pegase%3Aowl_l_pegase%2Cpegase%3Apegase_debieten%2Cpegase%3Aindutl&SERVICE=WMS&REQUEST=GetFeatureInfo&STYLES=&EXCEPTIONS=application%2Fvnd.ogc.se_xml&TRANSPARENT=TRUE&SRS=EPSG%3A31370&BBOX=148229.782541%2C209042.427634%2C152116.244716%2C210618.414799&X=734&Y=113&INFO_FORMAT=text%2Fhtml&QUERY_LAYERS=pegase%3Aowl_l_pegase%2Cpegase%3Apegase_debieten%2Cpegase%3Aindutl&FEATURE_COUNT=50&WIDTH=1598&HEIGHT=648 | G5: 32.271 | J5: =G5*86400 -> 2788214.4 | K5: =J5/E5 -> 97.832084 | L5: =IF(COUNTIF(RWZI!$A$3:$A$455,A5)=0,"",IF(COUNTIF(RWZI!$A$3:$A$455,A5)>1,"multiple matches",IF(_xlfn.XLOOKUP(A5,RWZI!$A$3:$A$455,RWZI!$S$3:$S$455,"")="","blank",_xlfn.XLOOKUP(A5,RWZI!$A$3:$A$455,RWZI!$S$3:$S$455,"")))) -> 46.171
A6: 14 | B6: Oostende | C6: =220000-55000 -> 165000 | D6: =C6*0.05*0.15 -> 1237.5 | E6: =D6*20 -> 24750 | F6: https://geoserver.vmm.be/geoserver/wms?VERSION=1.1.1&FORMAT=image%2Fpng&LAYERS=pegase%3Aowl_l_pegase%2Cpegase%3Apegase_debieten%2Cpegase%3Aindutl&SERVICE=WMS&REQUEST=GetFeatureInfo&STYLES=&EXCEPTIONS=application%2Fvnd.ogc.se_xml&TRANSPARENT=TRUE&SRS=EPSG%3A31370&BBOX=48657.303499%2C211905.373842%2C52543.765674%2C213481.361007&X=1171&Y=134&INFO_FORMAT=text%2Fhtml&QUERY_LAYERS=pegase%3Aowl_l_pegase%2Cpegase%3Apegase_debieten%2Cpegase%3Aindutl&FEATURE_COUNT=50&WIDTH=1598&HEIGHT=648 | G6: 3.4031 | J6: =G6*86400 -> 294027.84 | K6: =J6/E6 -> 11.879913 | L6: =IF(COUNTIF(RWZI!$A$3:$A$455,A6)=0,"",IF(COUNTIF(RWZI!$A$3:$A$455,A6)>1,"multiple matches",IF(_xlfn.XLOOKUP(A6,RWZI!$A$3:$A$455,RWZI!$S$3:$S$455,"")="","blank",_xlfn.XLOOKUP(A6,RWZI!$A$3:$A$455,RWZI!$S$3:$S$455,"")))) -> multiple matches
A7: 89 | B7: Leuven | C7: 150000 | D7: =C7*0.05*0.15 -> 1125 | E7: =D7*20 -> 22500 | F7: https://geoserver.vmm.be/geoserver/wms?VERSION=1.1.1&FORMAT=image%2Fpng&LAYERS=pegase%3Apegase_debieten%2Cpegase%3Aindutl&SERVICE=WMS&REQUEST=GetFeatureInfo&STYLES=&EXCEPTIONS=application%2Fvnd.ogc.se_xml&TRANSPARENT=TRUE&SRS=EPSG%3A31370&BBOX=172954.445648%2C176643.613307%2C174776.165817%2C177382.333376&X=889&Y=465&INFO_FORMAT=text%2Fhtml&QUERY_LAYERS=pegase%3Apegase_debieten%2Cpegase%3Aindutl&FEATURE_COUNT=50&WIDTH=1598&HEIGHT=648 | G7: 26.8042 | J7: =G7*86400 -> 2315882.9 | K7: =J7/E7 -> 102.92813 | L7: =IF(COUNTIF(RWZI!$A$3:$A$455,A7)=0,"",IF(COUNTIF(RWZI!$A$3:$A$455,A7)>1,"multiple matches",IF(_xlfn.XLOOKUP(A7,RWZI!$A$3:$A$455,RWZI!$S$3:$S$455,"")="","blank",_xlfn.XLOOKUP(A7,RWZI!$A$3:$A$455,RWZI!$S$3:$S$455,"")))) -> 4.568
A8: 12 | B8: Harelbeke | C8: 129000 | D8: =C8*0.05*0.15 -> 967.5 | E8: =D8*20 -> 19350 | F8: https://geoserver.vmm.be/geoserver/wms?VERSION=1.1.1&FORMAT=image%2Fpng&LAYERS=pegase%3Apegase_debieten%2Cpegase%3Aindutl&SERVICE=WMS&REQUEST=GetFeatureInfo&STYLES=&EXCEPTIONS=application%2Fvnd.ogc.se_xml&TRANSPARENT=TRUE&SRS=EPSG%3A31370&BBOX=73127.33294%2C170588.787515%2C74949.053109%2C171327.507583&X=808&Y=78&INFO_FORMAT=text%2Fhtml&QUERY_LAYERS=pegase%3Apegase_debieten%2Cpegase%3Aindutl&FEATURE_COUNT=50&WIDTH=1598&HEIGHT=648 | G8: 6.442 | J8: =G8*86400 -> 556588.8 | K8: =J8/E8 -> 28.764279 | L8: =IF(COUNTIF(RWZI!$A$3:$A$455,A8)=0,"",IF(COUNTIF(RWZI!$A$3:$A$455,A8)>1,"multiple matches",IF(_xlfn.XLOOKUP(A8,RWZI!$A$3:$A$455,RWZI!$S$3:$S$455,"")="","blank",_xlfn.XLOOKUP(A8,RWZI!$A$3:$A$455,RWZI!$S$3:$S$455,"")))) -> 10.065
A9: 55 | B9: Antwerpen-Noord | C9: 105000 | D9: =C9*0.05*0.15 -> 787.5 | E9: =D9*20 -> 15750 | F9: https://geoserver.vmm.be/geoserver/wms?VERSION=1.1.1&FORMAT=image%2Fpng&LAYERS=pegase%3Apegase_debieten%2Cpegase%3Aindutl&SERVICE=WMS&REQUEST=GetFeatureInfo&STYLES=&EXCEPTIONS=application%2Fvnd.ogc.se_xml&TRANSPARENT=TRUE&SRS=EPSG%3A31370&BBOX=145952.485186%2C221037.522788%2C149838.947362%2C222613.509953&X=1086&Y=425&INFO_FORMAT=text%2Fhtml&QUERY_LAYERS=pegase%3Apegase_debieten%2Cpegase%3Aindutl&FEATURE_COUNT=50&WIDTH=1598&HEIGHT=648 | G9: 0.7705 | J9: =G9*86400 -> 66571.2 | K9: =J9/E9 -> 4.2267429 | L9: =IF(COUNTIF(RWZI!$A$3:$A$455,A9)=0,"",IF(COUNTIF(RWZI!$A$3:$A$455,A9)>1,"multiple matches",IF(_xlfn.XLOOKUP(A9,RWZI!$A$3:$A$455,RWZI!$S$3:$S$455,"")="","blank",_xlfn.XLOOKUP(A9,RWZI!$A$3:$A$455,RWZI!$S$3:$S$455,"")))) -> 2.18
A10: 27 | B10: Aalst | C10: 100000 | D10: =C10*0.05*0.15 -> 750 | E10: =D10*20 -> 15000 | F10: https://geoserver.vmm.be/geoserver/wms?VERSION=1.1.1&FORMAT=image%2Fpng&LAYERS=pegase%3Apegase_debieten%2Cpegase%3Aindutl&SERVICE=WMS&REQUEST=GetFeatureInfo&STYLES=&EXCEPTIONS=application%2Fvnd.ogc.se_xml&TRANSPARENT=TRUE&SRS=EPSG%3A31370&BBOX=126433.357963%2C184077.054842%2C128255.078133%2C184815.774911&X=995&Y=191&INFO_FORMAT=text%2Fhtml&QUERY_LAYERS=pegase%3Apegase_debieten%2Cpegase%3Aindutl&FEATURE_COUNT=50&WIDTH=1598&HEIGHT=648 | G10: 0.001 | J10: =G10*86400 -> 86.4 | K10: =J10/E10 -> 0.00576 | L10: =IF(COUNTIF(RWZI!$A$3:$A$455,A10)=0,"",IF(COUNTIF(RWZI!$A$3:$A$455,A10)>1,"multiple matches",IF(_xlfn.XLOOKUP(A10,RWZI!$A$3:$A$455,RWZI!$S$3:$S$455,"")="","blank",_xlfn.XLOOKUP(A10,RWZI!$A$3:$A$455,RWZI!$S$3:$S$455,"")))) -> ???
A11: 182 | B11: Grimbergen | C11: 100000 | D11: =C11*0.05*0.15 -> 750 | E11: =D11*20 -> 15000 | F11: https://geoserver.vmm.be/geoserver/wms?VERSION=1.1.1&FORMAT=image%2Fpng&LAYERS=pegase%3Apegase_debieten%2Cpegase%3Aindutl&SERVICE=WMS&REQUEST=GetFeatureInfo&STYLES=&EXCEPTIONS=application%2Fvnd.ogc.se_xml&TRANSPARENT=TRUE&SRS=EPSG%3A31370&BBOX=152514.02623%2C181777.67452%2C154335.7464%2C182516.394589&X=1024&Y=436&INFO_FORMAT=text%2Fhtml&QUERY_LAYERS=pegase%3Apegase_debieten%2Cpegase%3Aindutl&FEATURE_COUNT=50&WIDTH=1598&HEIGHT=648 | G11: 0.0011 | J11: =G11*86400 -> 95.04 | K11: =J11/E11 -> 0.006336 | L11: =IF(COUNTIF(RWZI!$A$3:$A$455,A11)=0,"",IF(COUNTIF(RWZI!$A$3:$A$455,A11)>1,"multiple matches",IF(_xlfn.XLOOKUP(A11,RWZI!$A$3:$A$455,RWZI!$S$3:$S$455,"")="","blank",_xlfn.XLOOKUP(A11,RWZI!$A$3:$A$455,RWZI!$S$3:$S$455,"")))) -> 0.05
A12: 174 | B12: Liedekerke | C12: 95000 | D12: =C12*0.05*0.15 -> 712.5 | E12: =D12*20 -> 14250 | F12: https://geoserver.vmm.be/geoserver/wms?VERSION=1.1.1&FORMAT=image%2Fpng&LAYERS=pegase%3Apegase_debieten%2Cpegase%3Aindutl&SERVICE=WMS&REQUEST=GetFeatureInfo&STYLES=&EXCEPTIONS=application%2Fvnd.ogc.se_xml&TRANSPARENT=TRUE&SRS=EPSG%3A31370&BBOX=129858.334214%2C175058.883515%2C130712.237899%2C175405.147338&X=997&Y=99&INFO_FORMAT=text%2Fhtml&QUERY_LAYERS=pegase%3Apegase_debieten%2Cpegase%3Aindutl&FEATURE_COUNT=50&WIDTH=1598&HEIGHT=648 | G12: 1.1487 | J12: =G12*86400 -> 99247.68 | K12: =J12/E12 -> 6.9647495 | L12: =IF(COUNTIF(RWZI!$A$3:$A$455,A12)=0,"",IF(COUNTIF(RWZI!$A$3:$A$455,A12)>1,"multiple matches",IF(_xlfn.XLOOKUP(A12,RWZI!$A$3:$A$455,RWZI!$S$3:$S$455,"")="","blank",_xlfn.XLOOKUP(A12,RWZI!$A$3:$A$455,RWZI!$S$3:$S$455,"")))) -> 1.593
A13: 39 | B13: Mechelen-Noord | C13: 90000 | D13: =C13*0.05*0.15 -> 675 | E13: =D13*20 -> 13500 | F13: https://geoserver.vmm.be/geoserver/wms?VERSION=1.1.1&FORMAT=image%2Fpng&LAYERS=pegase%3Apegase_debieten%2Cpegase%3Aindutl&SERVICE=WMS&REQUEST=GetFeatureInfo&STYLES=&EXCEPTIONS=application%2Fvnd.ogc.se_xml&TRANSPARENT=TRUE&SRS=EPSG%3A31370&BBOX=154922.227555%2C192629.364213%2C156743.947725%2C193368.084282&X=519&Y=353&INFO_FORMAT=text%2Fhtml&QUERY_LAYERS=pegase%3Apegase_debieten%2Cpegase%3Aindutl&FEATURE_COUNT=50&WIDTH=1598&HEIGHT=648 | G13: 8.7736 | J13: =G13*86400 -> 758039.04 | K13: =J13/E13 -> 56.15104 | L13: =IF(COUNTIF(RWZI!$A$3:$A$455,A13)=0,"",IF(COUNTIF(RWZI!$A$3:$A$455,A13)>1,"multiple matches",IF(_xlfn.XLOOKUP(A13,RWZI!$A$3:$A$455,RWZI!$S$3:$S$455,"")="","blank",_xlfn.XLOOKUP(A13,RWZI!$A$3:$A$455,RWZI!$S$3:$S$455,"")))) -> 15.063
A14: 26 | B14: Dendermonde | C14: 80000 | D14: =C14*0.05*0.15 -> 600 | E14: =D14*20 -> 12000 | F14: https://geoserver.vmm.be/geoserver/wms?VERSION=1.1.1&FORMAT=image%2Fpng&LAYERS=pegase%3Aindutl%2Cpegase%3Amow&SERVICE=WMS&REQUEST=GetFeatureInfo&STYLES=&EXCEPTIONS=application%2Fvnd.ogc.se_xml&TRANSPARENT=TRUE&SRS=EPSG%3A31370&BBOX=132761.146337%2C189934.207836%2C134582.866506%2C191071.927942&X=893&Y=448&INFO_FORMAT=text%2Fhtml&QUERY_LAYERS=pegase%3Aindutl%2Cpegase%3Amow&FEATURE_COUNT=50&WIDTH=1598&HEIGHT=998 | G14: 0.1849 | J14: =G14*86400 -> 15975.36 | K14: =J14/E14 -> 1.33128 | L14: =IF(COUNTIF(RWZI!$A$3:$A$455,A14)=0,"",IF(COUNTIF(RWZI!$A$3:$A$455,A14)>1,"multiple matches",IF(_xlfn.XLOOKUP(A14,RWZI!$A$3:$A$455,RWZI!$S$3:$S$455,"")="","blank",_xlfn.XLOOKUP(A14,RWZI!$A$3:$A$455,RWZI!$S$3:$S$455,"")))) -> ???
A15: 152 | B15: Waregem | C15: 80000 | D15: =C15*0.05*0.15 -> 600 | E15: =D15*20 -> 12000 | F15: https://geoserver.vmm.be/geoserver/wms?VERSION=1.1.1&FORMAT=image%2Fpng&LAYERS=pegase%3Apegase_debieten%2Cpegase%3Aindutl%2Cpegase%3Amow&SERVICE=WMS&REQUEST=GetFeatureInfo&STYLES=&EXCEPTIONS=application%2Fvnd.ogc.se_xml&TRANSPARENT=TRUE&SRS=EPSG%3A31370&BBOX=83490.027246%2C176344.153146%2C84343.930932%2C176877.442182&X=554&Y=280&INFO_FORMAT=text%2Fhtml&QUERY_LAYERS=pegase%3Apegase_debieten%2Cpegase%3Aindutl%2Cpegase%3Amow&FEATURE_COUNT=50&WIDTH=1598&HEIGHT=998 | G15: 0.0165 | J15: =G15*86400 -> 1425.6 | K15: =J15/E15 -> 0.1188 | L15: =IF(COUNTIF(RWZI!$A$3:$A$455,A15)=0,"",IF(COUNTIF(RWZI!$A$3:$A$455,A15)>1,"multiple matches",IF(_xlfn.XLOOKUP(A15,RWZI!$A$3:$A$455,RWZI!$S$3:$S$455,"")="","blank",_xlfn.XLOOKUP(A15,RWZI!$A$3:$A$455,RWZI!$S$3:$S$455,"")))) -> 0.123
A16: 141 | B16: Roeselare | C16: 73000 | D16: =C16*0.05*0.15 -> 547.5 | E16: =D16*20 -> 10950 | F16: https://geoserver.vmm.be/geoserver/wms?VERSION=1.1.1&FORMAT=image%2Fpng&LAYERS=pegase%3Apegase_debieten%2Cpegase%3Aindutl%2Cpegase%3Amow&SERVICE=WMS&REQUEST=GetFeatureInfo&STYLES=&EXCEPTIONS=application%2Fvnd.ogc.se_xml&TRANSPARENT=TRUE&SRS=EPSG%3A31370&BBOX=65452.722803%2C180940.114429%2C65852.977197%2C181190.085571&X=466&Y=142&INFO_FORMAT=text%2Fhtml&QUERY_LAYERS=pegase%3Apegase_debieten%2Cpegase%3Aindutl%2Cpegase%3Amow&FEATURE_COUNT=50&WIDTH=1598&HEIGHT=998 | G16: 0.001 | J16: =G16*86400 -> 86.4 | K16: =J16/E16 -> 0.007890411 | L16: =IF(COUNTIF(RWZI!$A$3:$A$455,A16)=0,"",IF(COUNTIF(RWZI!$A$3:$A$455,A16)>1,"multiple matches",IF(_xlfn.XLOOKUP(A16,RWZI!$A$3:$A$455,RWZI!$S$3:$S$455,"")="","blank",_xlfn.XLOOKUP(A16,RWZI!$A$3:$A$455,RWZI!$S$3:$S$455,"")))) -> 0.089
A17: 92 | B17: Beersel | C17: 72000 | D17: =C17*0.05*0.15 -> 540 | E17: =D17*20 -> 10800 | F17: https://geoserver.vmm.be/geoserver/wms?VERSION=1.1.1&FORMAT=image%2Fpng&LAYERS=pegase%3Apegase_debieten%2Cpegase%3Aindutl%2Cpegase%3Amow&SERVICE=WMS&REQUEST=GetFeatureInfo&STYLES=&EXCEPTIONS=application%2Fvnd.ogc.se_xml&TRANSPARENT=TRUE&SRS=EPSG%3A31370&BBOX=144125.541016%2C162220.167197%2C144979.444701%2C162753.456233&X=1068&Y=757&INFO_FORMAT=text%2Fhtml&QUERY_LAYERS=pegase%3Apegase_debieten%2Cpegase%3Aindutl%2Cpegase%3Amow&FEATURE_COUNT=50&WIDTH=1598&HEIGHT=998 | G17: 0.8769 | J17: =G17*86400 -> 75764.16 | K17: =J17/E17 -> 7.0152 | L17: =IF(COUNTIF(RWZI!$A$3:$A$455,A17)=0,"",IF(COUNTIF(RWZI!$A$3:$A$455,A17)>1,"multiple matches",IF(_xlfn.XLOOKUP(A17,RWZI!$A$3:$A$455,RWZI!$S$3:$S$455,"")="","blank",_xlfn.XLOOKUP(A17,RWZI!$A$3:$A$455,RWZI!$S$3:$S$455,"")))) -> 1.774
A18: 105 | B18: Genk | C18: 70000 | D18: =C18*0.05*0.15 -> 525 | E18: =D18*20 -> 10500 | F18: https://geoserver.vmm.be/geoserver/wms?VERSION=1.1.1&FORMAT=image%2Fpng&LAYERS=pegase%3Apegase_debieten%2Cpegase%3Aindutl%2Cpegase%3Amow&SERVICE=WMS&REQUEST=GetFeatureInfo&STYLES=&EXCEPTIONS=application%2Fvnd.ogc.se_xml&TRANSPARENT=TRUE&SRS=EPSG%3A31370&BBOX=225622.072803%2C182022.324429%2C226022.327197%2C182272.295571&X=1273&Y=722&INFO_FORMAT=text%2Fhtml&QUERY_LAYERS=pegase%3Apegase_debieten%2Cpegase%3Aindutl%2Cpegase%3Amow&FEATURE_COUNT=50&WIDTH=1598&HEIGHT=998 | G18: 0.0562 | J18: =G18*86400 -> 4855.68 | K18: =J18/E18 -> 0.46244571 | L18: =IF(COUNTIF(RWZI!$A$3:$A$455,A18)=0,"",IF(COUNTIF(RWZI!$A$3:$A$455,A18)>1,"multiple matches",IF(_xlfn.XLOOKUP(A18,RWZI!$A$3:$A$455,RWZI!$S$3:$S$455,"")="","blank",_xlfn.XLOOKUP(A18,RWZI!$A$3:$A$455,RWZI!$S$3:$S$455,"")))) -> 0.04
A19: 3 | B19: Wulpen | C19: =136000-68000 -> 68000 | D19: =C19*0.05*0.15 -> 510 | E19: =D19*20 -> 10200 | F19: https://geoserver.vmm.be/geoserver/wms?VERSION=1.1.1&FORMAT=image%2Fpng&LAYERS=pegase%3Apegase_debieten%2Cpegase%3Aindutl%2Cpegase%3Amow&SERVICE=WMS&REQUEST=GetFeatureInfo&STYLES=&EXCEPTIONS=application%2Fvnd.ogc.se_xml&TRANSPARENT=TRUE&SRS=EPSG%3A31370&BBOX=31512.912803%2C199737.334429%2C31913.167197%2C199987.305571&X=885&Y=698&INFO_FORMAT=text%2Fhtml&QUERY_LAYERS=pegase%3Apegase_debieten%2Cpegase%3Aindutl%2Cpegase%3Amow&FEATURE_COUNT=50&WIDTH=1598&HEIGHT=998 | G19: 0.172 | J19: =G19*86400 -> 14860.8 | K19: =J19/E19 -> 1.4569412 | L19: =IF(COUNTIF(RWZI!$A$3:$A$455,A19)=0,"",IF(COUNTIF(RWZI!$A$3:$A$455,A19)>1,"multiple matches",IF(_xlfn.XLOOKUP(A19,RWZI!$A$3:$A$455,RWZI!$S$3:$S$455,"")="","blank",_xlfn.XLOOKUP(A19,RWZI!$A$3:$A$455,RWZI!$S$3:$S$455,"")))) -> multiple matches
A20: 204 | B20: Destelbergen | C20: 66000 | D20: =C20*0.05*0.15 -> 495 | E20: =D20*20 -> 9900 | F20: https://geoserver.vmm.be/geoserver/wms?VERSION=1.1.1&FORMAT=image%2Fpng&LAYERS=pegase%3Apegase_debieten%2Cpegase%3Aindutl%2Cpegase%3Amow&SERVICE=WMS&REQUEST=GetFeatureInfo&STYLES=&EXCEPTIONS=application%2Fvnd.ogc.se_xml&TRANSPARENT=TRUE&SRS=EPSG%3A31370&BBOX=107934.976384%2C193426.853312%2C108788.88007%2C193960.142347&X=773&Y=870&INFO_FORMAT=text%2Fhtml&QUERY_LAYERS=pegase%3Apegase_debieten%2Cpegase%3Aindutl%2Cpegase%3Amow&FEATURE_COUNT=50&WIDTH=1598&HEIGHT=998 | G20: 0.6021 | J20: =G20*86400 -> 52021.44 | K20: =J20/E20 -> 5.2546909 | L20: =IF(COUNTIF(RWZI!$A$3:$A$455,A20)=0,"",IF(COUNTIF(RWZI!$A$3:$A$455,A20)>1,"multiple matches",IF(_xlfn.XLOOKUP(A20,RWZI!$A$3:$A$455,RWZI!$S$3:$S$455,"")="","blank",_xlfn.XLOOKUP(A20,RWZI!$A$3:$A$455,RWZI!$S$3:$S$455,"")))) -> 0.022
A21: 214 | B21: Menen | C21: 66000 | D21: =C21*0.05*0.15 -> 495 | E21: =D21*20 -> 9900 | F21: https://geoserver.vmm.be/geoserver/wms?VERSION=1.1.1&FORMAT=image%2Fpng&LAYERS=pegase%3Apegase_debieten%2Cpegase%3Aindutl%2Cpegase%3Amow&SERVICE=WMS&REQUEST=GetFeatureInfo&STYLES=&EXCEPTIONS=application%2Fvnd.ogc.se_xml&TRANSPARENT=TRUE&SRS=EPSG%3A31370&BBOX=63315.752803%2C165605.404429%2C63716.007197%2C165855.375571&X=777&Y=815&INFO_FORMAT=text%2Fhtml&QUERY_LAYERS=pegase%3Apegase_debieten%2Cpegase%3Aindutl%2Cpegase%3Amow&FEATURE_COUNT=50&WIDTH=1598&HEIGHT=998 | G21: 5.4511 | J21: =G21*86400 -> 470975.04 | K21: =J21/E21 -> 47.573236 | L21: =IF(COUNTIF(RWZI!$A$3:$A$455,A21)=0,"",IF(COUNTIF(RWZI!$A$3:$A$455,A21)>1,"multiple matches",IF(_xlfn.XLOOKUP(A21,RWZI!$A$3:$A$455,RWZI!$S$3:$S$455,"")="","blank",_xlfn.XLOOKUP(A21,RWZI!$A$3:$A$455,RWZI!$S$3:$S$455,"")))) -> 9.336
A22: 110 | B22: Hasselt | C22: 65000 | D22: =C22*0.05*0.15 -> 487.5 | E22: =D22*20 -> 9750 | F22: https://geoserver.vmm.be/geoserver/wms?VERSION=1.1.1&FORMAT=image%2Fpng&LAYERS=pegase%3Apegase_debieten%2Cpegase%3Aindutl%2Cpegase%3Amow&SERVICE=WMS&REQUEST=GetFeatureInfo&STYLES=&EXCEPTIONS=application%2Fvnd.ogc.se_xml&TRANSPARENT=TRUE&SRS=EPSG%3A31370&BBOX=214875.655531%2C182939.183486%2C215729.559217%2C183472.472521&X=692&Y=252&INFO_FORMAT=text%2Fhtml&QUERY_LAYERS=pegase%3Apegase_debieten%2Cpegase%3Aindutl%2Cpegase%3Amow&FEATURE_COUNT=50&WIDTH=1598&HEIGHT=998 | G22: 0.7626 | J22: =G22*86400 -> 65888.64 | K22: =J22/E22 -> 6.7578092 | L22: =IF(COUNTIF(RWZI!$A$3:$A$455,A22)=0,"",IF(COUNTIF(RWZI!$A$3:$A$455,A22)>1,"multiple matches",IF(_xlfn.XLOOKUP(A22,RWZI!$A$3:$A$455,RWZI!$S$3:$S$455,"")="","blank",_xlfn.XLOOKUP(A22,RWZI!$A$3:$A$455,RWZI!$S$3:$S$455,"")))) -> 1.103
A23: 76 | B23: Mol | C23: 61000 | D23: =C23*0.05*0.15 -> 457.5 | E23: =D23*20 -> 9150 | F23: https://geoserver.vmm.be/geoserver/wms?VERSION=1.1.1&FORMAT=image%2Fpng&LAYERS=pegase%3Apegase_debieten%2Cpegase%3Aindutl%2Cpegase%3Amow&SERVICE=WMS&REQUEST=GetFeatureInfo&STYLES=&EXCEPTIONS=application%2Fvnd.ogc.se_xml&TRANSPARENT=TRUE&SRS=EPSG%3A31370&BBOX=201379.793365%2C207601.295418%2C201780.047759%2C207851.266561&X=256&Y=720&INFO_FORMAT=text%2Fhtml&QUERY_LAYERS=pegase%3Apegase_debieten%2Cpegase%3Aindutl%2Cpegase%3Amow&FEATURE_COUNT=50&WIDTH=1598&HEIGHT=998 | G23: 0.1635 | J23: =G23*86400 -> 14126.4 | K23: =J23/E23 -> 1.5438689 | L23: =IF(COUNTIF(RWZI!$A$3:$A$455,A23)=0,"",IF(COUNTIF(RWZI!$A$3:$A$455,A23)>1,"multiple matches",IF(_xlfn.XLOOKUP(A23,RWZI!$A$3:$A$455,RWZI!$S$3:$S$455,"")="","blank",_xlfn.XLOOKUP(A23,RWZI!$A$3:$A$455,RWZI!$S$3:$S$455,"")))) -> 0.211
A24: 46 | B24: Aartselaar | C24: 60000 | D24: =C24*0.05*0.15 -> 450 | E24: =D24*20 -> 9000 | F24: https://geoserver.vmm.be/geoserver/wms?VERSION=1.1.1&FORMAT=image%2Fpng&LAYERS=pegase%3Apegase_debieten%2Cpegase%3Aindutl%2Cpegase%3Amow&SERVICE=WMS&REQUEST=GetFeatureInfo&STYLES=&EXCEPTIONS=application%2Fvnd.ogc.se_xml&TRANSPARENT=TRUE&SRS=EPSG%3A31370&BBOX=150205.149649%2C203816.438399%2C151059.053334%2C204349.727434&X=541&Y=810&INFO_FORMAT=text%2Fhtml&QUERY_LAYERS=pegase%3Apegase_debieten%2Cpegase%3Aindutl%2Cpegase%3Amow&FEATURE_COUNT=50&WIDTH=1598&HEIGHT=998 | G24: 0.071 | J24: =G24*86400 -> 6134.4 | K24: =J24/E24 -> 0.6816 | L24: =IF(COUNTIF(RWZI!$A$3:$A$455,A24)=0,"",IF(COUNTIF(RWZI!$A$3:$A$455,A24)>1,"multiple matches",IF(_xlfn.XLOOKUP(A24,RWZI!$A$3:$A$455,RWZI!$S$3:$S$455,"")="","blank",_xlfn.XLOOKUP(A24,RWZI!$A$3:$A$455,RWZI!$S$3:$S$455,"")))) -> 0.212
A25: 120 | B25: Oudenaarde | C25: 60000 | D25: =C25*0.05*0.15 -> 450 | E25: =D25*20 -> 9000 | F25: https://geoserver.vmm.be/geoserver/wms?VERSION=1.1.1&FORMAT=image%2Fpng&LAYERS=pegase%3Apegase_debieten%2Cpegase%3Aindutl%2Cpegase%3Amow&SERVICE=WMS&REQUEST=GetFeatureInfo&STYLES=&EXCEPTIONS=application%2Fvnd.ogc.se_xml&TRANSPARENT=TRUE&SRS=EPSG%3A31370&BBOX=97447.172803%2C172635.654429%2C97847.427197%2C172885.625571&X=1205&Y=214&INFO_FORMAT=text%2Fhtml&QUERY_LAYERS=pegase%3Apegase_debieten%2Cpegase%3Aindutl%2Cpegase%3Amow&FEATURE_COUNT=50&WIDTH=1598&HEIGHT=998 | G25: 9.0028 | J25: =G25*86400 -> 777841.92 | K25: =J25/E25 -> 86.42688 | L25: =IF(COUNTIF(RWZI!$A$3:$A$455,A25)=0,"",IF(COUNTIF(RWZI!$A$3:$A$455,A25)>1,"multiple matches",IF(_xlfn.XLOOKUP(A25,RWZI!$A$3:$A$455,RWZI!$S$3:$S$455,"")="","blank",_xlfn.XLOOKUP(A25,RWZI!$A$3:$A$455,RWZI!$S$3:$S$455,"")))) -> 14.231
A26: 215 | B26: Ingelmunster | C26: 58000 | D26: =C26*0.05*0.15 -> 435 | E26: =D26*20 -> 8700 | F26: https://geoserver.vmm.be/geoserver/wms?VERSION=1.1.1&FORMAT=image%2Fpng&LAYERS=pegase%3Apegase_debieten%2Cpegase%3Aindutl%2Cpegase%3Amow&SERVICE=WMS&REQUEST=GetFeatureInfo&STYLES=&EXCEPTIONS=application%2Fvnd.ogc.se_xml&TRANSPARENT=TRUE&SRS=EPSG%3A31370&BBOX=72643.899515%2C178669.826385%2C73497.803201%2C179203.11542&X=748&Y=392&INFO_FORMAT=text%2Fhtml&QUERY_LAYERS=pegase%3Apegase_debieten%2Cpegase%3Aindutl%2Cpegase%3Amow&FEATURE_COUNT=50&WIDTH=1598&HEIGHT=998 | G26: 0.3179 | J26: =G26*86400 -> 27466.56 | K26: =J26/E26 -> 3.1570759 | L26: =IF(COUNTIF(RWZI!$A$3:$A$455,A26)=0,"",IF(COUNTIF(RWZI!$A$3:$A$455,A26)>1,"multiple matches",IF(_xlfn.XLOOKUP(A26,RWZI!$A$3:$A$455,RWZI!$S$3:$S$455,"")="","blank",_xlfn.XLOOKUP(A26,RWZI!$A$3:$A$455,RWZI!$S$3:$S$455,"")))) -> 0.578
A27: 199 | B27: Beveren | C27: 50000 | D27: =C27*0.05*0.15 -> 375 | E27: =D27*20 -> 7500 | F27: https://geoserver.vmm.be/geoserver/wms?VERSION=1.1.1&FORMAT=image%2Fpng&LAYERS=pegase%3Apegase_debieten%2Cpegase%3Aindutl&SERVICE=WMS&REQUEST=GetFeatureInfo&STYLES=&EXCEPTIONS=application%2Fvnd.ogc.se_xml&TRANSPARENT=TRUE&SRS=EPSG%3A31370&BBOX=138721.902803%2C212325.244429%2C139122.157197%2C212575.215571&X=387&Y=186&INFO_FORMAT=text%2Fhtml&QUERY_LAYERS=pegase%3Apegase_debieten%2Cpegase%3Aindutl&FEATURE_COUNT=50&WIDTH=1598&HEIGHT=998 | G27: 0.0426 | J27: =G27*86400 -> 3680.64 | K27: =J27/E27 -> 0.490752 | L27: =IF(COUNTIF(RWZI!$A$3:$A$455,A27)=0,"",IF(COUNTIF(RWZI!$A$3:$A$455,A27)>1,"multiple matches",IF(_xlfn.XLOOKUP(A27,RWZI!$A$3:$A$455,RWZI!$S$3:$S$455,"")="","blank",_xlfn.XLOOKUP(A27,RWZI!$A$3:$A$455,RWZI!$S$3:$S$455,"")))) -> 0.087
A28: 54 | B28: Merksem | C28: 50000 | D28: =C28*0.05*0.15 -> 375 | E28: =D28*20 -> 7500 | F28: https://geoserver.vmm.be/geoserver/wms?VERSION=1.1.1&FORMAT=image%2Fpng&LAYERS=pegase%3Apegase_debieten%2Cpegase%3Aindutl%2Cpegase%3Amow&SERVICE=WMS&REQUEST=GetFeatureInfo&STYLES=&EXCEPTIONS=application%2Fvnd.ogc.se_xml&TRANSPARENT=TRUE&SRS=EPSG%3A31370&BBOX=153971.662803%2C214116.704429%2C154371.917197%2C214366.675571&X=911&Y=395&INFO_FORMAT=text%2Fhtml&QUERY_LAYERS=pegase%3Apegase_debieten%2Cpegase%3Aindutl%2Cpegase%3Amow&FEATURE_COUNT=50&WIDTH=1598&HEIGHT=998 | G28: 1.56 | J28: =G28*86400 -> 134784 | K28: =J28/E28 -> 17.9712 | L28: =IF(COUNTIF(RWZI!$A$3:$A$455,A28)=0,"",IF(COUNTIF(RWZI!$A$3:$A$455,A28)>1,"multiple matches",IF(_xlfn.XLOOKUP(A28,RWZI!$A$3:$A$455,RWZI!$S$3:$S$455,"")="","blank",_xlfn.XLOOKUP(A28,RWZI!$A$3:$A$455,RWZI!$S$3:$S$455,"")))) -> 13.6
A29: 36 | B29: Sint-Niklaas | C29: 50000 | D29: =C29*0.05*0.15 -> 375 | E29: =D29*20 -> 7500 | F29: https://geoserver.vmm.be/geoserver/wms?VERSION=1.1.1&FORMAT=image%2Fpng&LAYERS=pegase%3Apegase_debieten%2Cpegase%3Aindutl%2Cpegase%3Amow&SERVICE=WMS&REQUEST=GetFeatureInfo&STYLES=&EXCEPTIONS=application%2Fvnd.ogc.se_xml&TRANSPARENT=TRUE&SRS=EPSG%3A31370&BBOX=132212.608273%2C206851.631539%2C133066.511959%2C207384.920574&X=497&Y=839&INFO_FORMAT=text%2Fhtml&QUERY_LAYERS=pegase%3Apegase_debieten%2Cpegase%3Aindutl%2Cpegase%3Amow&FEATURE_COUNT=50&WIDTH=1598&HEIGHT=998 | G29: 0.1501 | J29: =G29*86400 -> 12968.64 | K29: =J29/E29 -> 1.729152 | L29: =IF(COUNTIF(RWZI!$A$3:$A$455,A29)=0,"",IF(COUNTIF(RWZI!$A$3:$A$455,A29)>1,"multiple matches",IF(_xlfn.XLOOKUP(A29,RWZI!$A$3:$A$455,RWZI!$S$3:$S$455,"")="","blank",_xlfn.XLOOKUP(A29,RWZI!$A$3:$A$455,RWZI!$S$3:$S$455,"")))) -> ???
A30: 34 | B30: Lokeren | C30: 48000 | D30: =C30*0.05*0.15 -> 360 | E30: =D30*20 -> 7200 | F30: https://geoserver.vmm.be/geoserver/wms?VERSION=1.1.1&FORMAT=image%2Fpng&LAYERS=pegase%3Apegase_debieten%2Cpegase%3Aindutl&SERVICE=WMS&REQUEST=GetFeatureInfo&STYLES=&EXCEPTIONS=application%2Fvnd.ogc.se_xml&TRANSPARENT=TRUE&SRS=EPSG%3A31370&BBOX=124351.406168%2C198397.987772%2C125205.309853%2C198931.276807&X=1040&Y=191&INFO_FORMAT=text%2Fhtml&QUERY_LAYERS=pegase%3Apegase_debieten%2Cpegase%3Aindutl&FEATURE_COUNT=50&WIDTH=1598&HEIGHT=998 | G30: 0.0033 | J30: =G30*86400 -> 285.12 | K30: =J30/E30 -> 0.0396 | L30: =IF(COUNTIF(RWZI!$A$3:$A$455,A30)=0,"",IF(COUNTIF(RWZI!$A$3:$A$455,A30)>1,"multiple matches",IF(_xlfn.XLOOKUP(A30,RWZI!$A$3:$A$455,RWZI!$S$3:$S$455,"")="","blank",_xlfn.XLOOKUP(A30,RWZI!$A$3:$A$455,RWZI!$S$3:$S$455,"")))) -> 0.098
A31: 83 | B31: Morkhoven | C31: 48000 | D31: =C31*0.05*0.15 -> 360 | E31: =D31*20 -> 7200 | F31: https://geoserver.vmm.be/geoserver/wms?VERSION=1.1.1&FORMAT=image%2Fpng&LAYERS=pegase%3Apegase_debieten%2Cpegase%3Aindutl&SERVICE=WMS&REQUEST=GetFeatureInfo&STYLES=&EXCEPTIONS=application%2Fvnd.ogc.se_xml&TRANSPARENT=TRUE&SRS=EPSG%3A31370&BBOX=180569.632803%2C200250.054429%2C180969.887197%2C200500.025571&X=447&Y=859&INFO_FORMAT=text%2Fhtml&QUERY_LAYERS=pegase%3Apegase_debieten%2Cpegase%3Aindutl&FEATURE_COUNT=50&WIDTH=1598&HEIGHT=998 | G31: 0.4503 | J31: =G31*86400 -> 38905.92 | K31: =J31/E31 -> 5.4036 | L31: =IF(COUNTIF(RWZI!$A$3:$A$455,A31)=0,"",IF(COUNTIF(RWZI!$A$3:$A$455,A31)>1,"multiple matches",IF(_xlfn.XLOOKUP(A31,RWZI!$A$3:$A$455,RWZI!$S$3:$S$455,"")="","blank",_xlfn.XLOOKUP(A31,RWZI!$A$3:$A$455,RWZI!$S$3:$S$455,"")))) -> 0.294
... A58: 38 | B58: Hamme | C58: 30000 | D58: =C58*0.05*0.15 -> 225 | E58: =D58*20 -> 4500 | F58: https://geoserver.vmm.be/geoserver/wms?VERSION=1.1.1&FORMAT=image%2Fpng&LAYERS=pegase%3Apegase_wlv%2Cpegase%3Apegase_debieten%2Cpegase%3Aindutl&SERVICE=WMS&REQUEST=GetFeatureInfo&STYLES=&EXCEPTIONS=application%2Fvnd.ogc.se_xml&TRANSPARENT=TRUE&SRS=EPSG%3A31370&BBOX=132518.512374%2C197951.923707%2C136404.97455%2C199527.910872&X=684&Y=11&INFO_FORMAT=text%2Fhtml&QUERY_LAYERS=pegase%3Apegase_wlv%2Cpegase%3Apegase_debieten%2Cpegase%3Aindutl&FEATURE_COUNT=50&WIDTH=1598&HEIGHT=648 | G58: 0.8725 | J58: =G58*86400 -> 75384 | K58: =J58/E58 -> 16.752 | L58: =IF(COUNTIF(RWZI!$A$3:$A$455,A58)=0,"",IF(COUNTIF(RWZI!$A$3:$A$455,A58)>1,"multiple matches",IF(_xlfn.XLOOKUP(A58,RWZI!$A$3:$A$455,RWZI!$S$3:$S$455,"")="","blank",_xlfn.XLOOKUP(A58,RWZI!$A$3:$A$455,RWZI!$S$3:$S$455,"")))) -> 0.425
A59: 17 | B59: Heist | C59: =60000-30000 -> 30000 | D59: =C59*0.05*0.15 -> 225 | E59: =D59*20 -> 4500 | F59: https://geoserver.vmm.be/geoserver/wms?VERSION=1.1.1&FORMAT=image%2Fpng&LAYERS=pegase%3Apegase_wlv%2Cpegase%3Apegase_debieten%2Cpegase%3Aindutl&SERVICE=WMS&REQUEST=GetFeatureInfo&STYLES=&EXCEPTIONS=application%2Fvnd.ogc.se_xml&TRANSPARENT=TRUE&SRS=EPSG%3A31370&BBOX=70614.758555%2C223959.185134%2C71468.66224%2C224492.474169&X=840&Y=750&INFO_FORMAT=text%2Fhtml&QUERY_LAYERS=pegase%3Apegase_wlv%2Cpegase%3Apegase_debieten%2Cpegase%3Aindutl&FEATURE_COUNT=50&WIDTH=1598&HEIGHT=998 | G59: 0.1266 | J59: =G59*86400 -> 10938.24 | K59: =J59/E59 -> 2.43072 | L59: =IF(COUNTIF(RWZI!$A$3:$A$455,A59)=0,"",IF(COUNTIF(RWZI!$A$3:$A$455,A59)>1,"multiple matches",IF(_xlfn.XLOOKUP(A59,RWZI!$A$3:$A$455,RWZI!$S$3:$S$455,"")="","blank",_xlfn.XLOOKUP(A59,RWZI!$A$3:$A$455,RWZI!$S$3:$S$455,"")))) -> 0.1012
A60: 137 | B60: Houthalen-Centrum | C60: 30000 | D60: =C60*0.05*0.15 -> 225 | E60: =D60*20 -> 4500 | F60: https://geoserver.vmm.be/geoserver/wms?VERSION=1.1.1&FORMAT=image%2Fpng&LAYERS=pegase%3Apegase_wlv%2Cpegase%3Apegase_debieten%2Cpegase%3Aindutl&SERVICE=WMS&REQUEST=GetFeatureInfo&STYLES=&EXCEPTIONS=application%2Fvnd.ogc.se_xml&TRANSPARENT=TRUE&SRS=EPSG%3A31370&BBOX=218228.056829%2C189462.293207%2C220049.776998%2C190201.013275&X=584&Y=516&INFO_FORMAT=text%2Fhtml&QUERY_LAYERS=pegase%3Apegase_wlv%2Cpegase%3Apegase_debieten%2Cpegase%3Aindutl&FEATURE_COUNT=50&WIDTH=1598&HEIGHT=648 | G60: 0.0055 | J60: =G60*86400 -> 475.2 | K60: =J60/E60 -> 0.1056 | L60: =IF(COUNTIF(RWZI!$A$3:$A$455,A60)=0,"",IF(COUNTIF(RWZI!$A$3:$A$455,A60)>1,"multiple matches",IF(_xlfn.XLOOKUP(A60,RWZI!$A$3:$A$455,RWZI!$S$3:$S$455,"")="","blank",_xlfn.XLOOKUP(A60,RWZI!$A$3:$A$455,RWZI!$S$3:$S$455,"")))) -> 0.006
A61: 175 | B61: Ronse | C61: 30000 | D61: =C61*0.05*0.15 -> 225 | E61: =D61*20 -> 4500 | F61: https://geoserver.vmm.be/geoserver/wms?VERSION=1.1.1&FORMAT=image%2Fpng&LAYERS=pegase%3Apegase_wlv%2Cpegase%3Apegase_debieten%2Cpegase%3Aindutl&SERVICE=WMS&REQUEST=GetFeatureInfo&STYLES=&EXCEPTIONS=application%2Fvnd.ogc.se_xml&TRANSPARENT=TRUE&SRS=EPSG%3A31370&BBOX=92091.607876%2C158774.383011%2C92945.511561%2C159120.646833&X=691&Y=68&INFO_FORMAT=text%2Fhtml&QUERY_LAYERS=pegase%3Apegase_wlv%2Cpegase%3Apegase_debieten%2Cpegase%3Aindutl&FEATURE_COUNT=50&WIDTH=1598&HEIGHT=648 | G61: 0.0177 | J61: =G61*86400 -> 1529.28 | K61: =J61/E61 -> 0.33984 | L61: =IF(COUNTIF(RWZI!$A$3:$A$455,A61)=0,"",IF(COUNTIF(RWZI!$A$3:$A$455,A61)>1,"multiple matches",IF(_xlfn.XLOOKUP(A61,RWZI!$A$3:$A$455,RWZI!$S$3:$S$455,"")="","blank",_xlfn.XLOOKUP(A61,RWZI!$A$3:$A$455,RWZI!$S$3:$S$455,"")))) -> 0.105
