Workbook

Sheet Terms of Use

Sheet How to use this tool
B2: Colors | C2: blue | D2: Data input from user
C3: grey | D3: Raw data or interim calculations (do not touch in principle)
C4: orange | D4: Actual output (e.g. PEC, RQ)

Sheet 1-medicine use (input)
A1: Own ID | B1: ATC code | C1: CAS Number | D1: Active Pharmaceutical Ingredient | E1: NORMAN lowest PNEC (µg/L) | F1: PNECmic (µg/L) | G1: grams API dispensed per year | H1: own comments | I1: tool comments | J1: same CAS warning
A2: D01 | B2: A10BA02 | C2: =_xlfn.XLOOKUP(B2,'A-search matrix ATC-CAS'!B:B,'A-search matrix ATC-CAS'!C:C,"No Match") -> 657-24-9 | D2: =_xlfn.XLOOKUP(B2,'A-search matrix ATC-CAS'!B:B,'A-search matrix ATC-CAS'!A:A,"No Match") -> Metformin | E2: =_xlfn.XLOOKUP(B2,'A-search matrix ATC-CAS'!B:B,'A-search matrix ATC-CAS'!D:D,"No Match") -> 160 | F2: =_xlfn.XLOOKUP(C2,'B-search matrix PNEC MIC'!A:A,'B-search matrix PNEC MIC'!C:C,"No Match") -> No Match | I2: =IF(B2="","",_xlfn.LET(_xlpm.v,_xlfn.XLOOKUP(B2,'A-search matrix ATC-CAS'!B:B,'A-search matrix ATC-CAS'!C:C,""),IF(OR(_xlpm.v=0,_xlpm.v="0"),"mixture",IF(_xlpm.v="x","no PNEC","")))) | J2: =IF(B2="","", IF(OR(C2="", C2=0, C2="x"),"", IF(COUNTIF(C:C,C2)>1,"sum up input","") ) )
A3: D02 | B3: C03AA03 | C3: =_xlfn.XLOOKUP(B3,'A-search matrix ATC-CAS'!B:B,'A-search matrix ATC-CAS'!C:C,"No Match") -> 58-93-5 | D3: =_xlfn.XLOOKUP(B3,'A-search matrix ATC-CAS'!B:B,'A-search matrix ATC-CAS'!A:A,"No Match") -> Hydrochlorothiazide | E3: =_xlfn.XLOOKUP(B3,'A-search matrix ATC-CAS'!B:B,'A-search matrix ATC-CAS'!D:D,"No Match") -> 100 | F3: =_xlfn.XLOOKUP(C3,'B-search matrix PNEC MIC'!A:A,'B-search matrix PNEC MIC'!C:C,"No Match") -> No Match | I3: =IF(B3="","",_xlfn.LET(_xlpm.v,_xlfn.XLOOKUP(B3,'A-search matrix ATC-CAS'!B:B,'A-search matrix ATC-CAS'!C:C,""),IF(OR(_xlpm.v=0,_xlpm.v="0"),"mixture",IF(_xlpm.v="x","no PNEC","")))) | J3: =IF(B3="","", IF(OR(C3="", C3=0, C3="x"),"", IF(COUNTIF(C:C,C3)>1,"sum up input","") ) )
A4: D03 | B4: C07AA05 | C4: =_xlfn.XLOOKUP(B4,'A-search matrix ATC-CAS'!B:B,'A-search matrix ATC-CAS'!C:C,"No Match") -> 525-66-6 | D4: =_xlfn.XLOOKUP(B4,'A-search matrix ATC-CAS'!B:B,'A-search matrix ATC-CAS'!A:A,"No Match") -> Propranolol | E4: =_xlfn.XLOOKUP(B4,'A-search matrix ATC-CAS'!B:B,'A-search matrix ATC-CAS'!D:D,"No Match") -> 0.2 | F4: =_xlfn.XLOOKUP(C4,'B-search matrix PNEC MIC'!A:A,'B-search matrix PNEC MIC'!C:C,"No Match") -> No Match | I4: =IF(B4="","",_xlfn.LET(_xlpm.v,_xlfn.XLOOKUP(B4,'A-search matrix ATC-CAS'!B:B,'A-search matrix ATC-CAS'!C:C,""),IF(OR(_xlpm.v=0,_xlpm.v="0"),"mixture",IF(_xlpm.v="x","no PNEC","")))) | J4: =IF(B4="","", IF(OR(C4="", C4=0, C4="x"),"", IF(COUNTIF(C:C,C4)>1,"sum up input","") ) )
A5: D04 | B5: C07AB02 | C5: =_xlfn.XLOOKUP(B5,'A-search matrix ATC-CAS'!B:B,'A-search matrix ATC-CAS'!C:C,"No Match") -> 51384-51-1 | D5: =_xlfn.XLOOKUP(B5,'A-search matrix ATC-CAS'!B:B,'A-search matrix ATC-CAS'!A:A,"No Match") -> Metoprolol | E5: =_xlfn.XLOOKUP(B5,'A-search matrix ATC-CAS'!B:B,'A-search matrix ATC-CAS'!D:D,"No Match") -> 8.6 | F5: =_xlfn.XLOOKUP(C5,'B-search matrix PNEC MIC'!A:A,'B-search matrix PNEC MIC'!C:C,"No Match") -> No Match | I5: =IF(B5="","",_xlfn.LET(_xlpm.v,_xlfn.XLOOKUP(B5,'A-search matrix ATC-CAS'!B:B,'A-search matrix ATC-CAS'!C:C,""),IF(OR(_xlpm.v=0,_xlpm.v="0"),"mixture",IF(_xlpm.v="x","no PNEC","")))) | J5: =IF(B5="","", IF(OR(C5="", C5=0, C5="x"),"", IF(COUNTIF(C:C,C5)>1,"sum up input","") ) )
A6: D05 | B6: C09CA04 | C6: =_xlfn.XLOOKUP(B6,'A-search matrix ATC-CAS'!B:B,'A-search matrix ATC-CAS'!C:C,"No Match") -> 138402-11-6 | D6: =_xlfn.XLOOKUP(B6,'A-search matrix ATC-CAS'!B:B,'A-search matrix ATC-CAS'!A:A,"No Match") -> Irbesartan | E6: =_xlfn.XLOOKUP(B6,'A-search matrix ATC-CAS'!B:B,'A-search matrix ATC-CAS'!D:D,"No Match") -> 700 | F6: =_xlfn.XLOOKUP(C6,'B-search matrix PNEC MIC'!A:A,'B-search matrix PNEC MIC'!C:C,"No Match") -> No Match | I6: =IF(B6="","",_xlfn.LET(_xlpm.v,_xlfn.XLOOKUP(B6,'A-search matrix ATC-CAS'!B:B,'A-search matrix ATC-CAS'!C:C,""),IF(OR(_xlpm.v=0,_xlpm.v="0"),"mixture",IF(_xlpm.v="x","no PNEC","")))) | J6: =IF(B6="","", IF(OR(C6="", C6=0, C6="x"),"", IF(COUNTIF(C:C,C6)>1,"sum up input","") ) )
A7: D06 | B7: C09CA06 | C7: =_xlfn.XLOOKUP(B7,'A-search matrix ATC-CAS'!B:B,'A-search matrix ATC-CAS'!C:C,"No Match") -> 139481-59-7 | D7: =_xlfn.XLOOKUP(B7,'A-search matrix ATC-CAS'!B:B,'A-search matrix ATC-CAS'!A:A,"No Match") -> Candesartan | E7: =_xlfn.XLOOKUP(B7,'A-search matrix ATC-CAS'!B:B,'A-search matrix ATC-CAS'!D:D,"No Match") -> 100 | F7: =_xlfn.XLOOKUP(C7,'B-search matrix PNEC MIC'!A:A,'B-search matrix PNEC MIC'!C:C,"No Match") -> No Match | I7: =IF(B7="","",_xlfn.LET(_xlpm.v,_xlfn.XLOOKUP(B7,'A-search matrix ATC-CAS'!B:B,'A-search matrix ATC-CAS'!C:C,""),IF(OR(_xlpm.v=0,_xlpm.v="0"),"mixture",IF(_xlpm.v="x","no PNEC","")))) | J7: =IF(B7="","", IF(OR(C7="", C7=0, C7="x"),"", IF(COUNTIF(C:C,C7)>1,"sum up input","") ) )
A8: D07 | B8: D01AC01 | C8: =_xlfn.XLOOKUP(B8,'A-search matrix ATC-CAS'!B:B,'A-search matrix ATC-CAS'!C:C,"No Match") -> 23593-75-1 | D8: =_xlfn.XLOOKUP(B8,'A-search matrix ATC-CAS'!B:B,'A-search matrix ATC-CAS'!A:A,"No Match") -> Clotrimazole | E8: =_xlfn.XLOOKUP(B8,'A-search matrix ATC-CAS'!B:B,'A-search matrix ATC-CAS'!D:D,"No Match") -> 0.02998 | F8: =_xlfn.XLOOKUP(C8,'B-search matrix PNEC MIC'!A:A,'B-search matrix PNEC MIC'!C:C,"No Match") -> No Match | I8: =IF(B8="","",_xlfn.LET(_xlpm.v,_xlfn.XLOOKUP(B8,'A-search matrix ATC-CAS'!B:B,'A-search matrix ATC-CAS'!C:C,""),IF(OR(_xlpm.v=0,_xlpm.v="0"),"mixture",IF(_xlpm.v="x","no PNEC","")))) | J8: =IF(B8="","", IF(OR(C8="", C8=0, C8="x"),"", IF(COUNTIF(C:C,C8)>1,"sum up input","") ) )
A9: D08 | B9: G03CA01 | C9: =_xlfn.XLOOKUP(B9,'A-search matrix ATC-CAS'!B:B,'A-search matrix ATC-CAS'!C:C,"No Match") -> 57-63-6 | D9: =_xlfn.XLOOKUP(B9,'A-search matrix ATC-CAS'!B:B,'A-search matrix ATC-CAS'!A:A,"No Match") -> 17Alpha-Ethinylestradiol | E9: =_xlfn.XLOOKUP(B9,'A-search matrix ATC-CAS'!B:B,'A-search matrix ATC-CAS'!D:D,"No Match") -> 3.7e-05 | F9: =_xlfn.XLOOKUP(C9,'B-search matrix PNEC MIC'!A:A,'B-search matrix PNEC MIC'!C:C,"No Match") -> No Match | I9: =IF(B9="","",_xlfn.LET(_xlpm.v,_xlfn.XLOOKUP(B9,'A-search matrix ATC-CAS'!B:B,'A-search matrix ATC-CAS'!C:C,""),IF(OR(_xlpm.v=0,_xlpm.v="0"),"mixture",IF(_xlpm.v="x","no PNEC","")))) | J9: =IF(B9="","", IF(OR(C9="", C9=0, C9="x"),"", IF(COUNTIF(C:C,C9)>1,"sum up input","") ) )
A10: D09 | B10: G03CA03 | C10: =_xlfn.XLOOKUP(B10,'A-search matrix ATC-CAS'!B:B,'A-search matrix ATC-CAS'!C:C,"No Match") -> 4245-41-4 | D10: =_xlfn.XLOOKUP(B10,'A-search matrix ATC-CAS'!B:B,'A-search matrix ATC-CAS'!A:A,"No Match") -> Estradiol | E10: =_xlfn.XLOOKUP(B10,'A-search matrix ATC-CAS'!B:B,'A-search matrix ATC-CAS'!D:D,"No Match") -> 0.0003 | F10: =_xlfn.XLOOKUP(C10,'B-search matrix PNEC MIC'!A:A,'B-search matrix PNEC MIC'!C:C,"No Match") -> No Match | I10: =IF(B10="","",_xlfn.LET(_xlpm.v,_xlfn.XLOOKUP(B10,'A-search matrix ATC-CAS'!B:B,'A-search matrix ATC-CAS'!C:C,""),IF(OR(_xlpm.v=0,_xlpm.v="0"),"mixture",IF(_xlpm.v="x","no PNEC","")))) | J10: =IF(B10="","", IF(OR(C10="", C10=0, C10="x"),"", IF(COUNTIF(C:C,C10)>1,"sum up input","") ) )
A11: D10 | B11: G03CA07 | C11: =_xlfn.XLOOKUP(B11,'A-search matrix ATC-CAS'!B:B,'A-search matrix ATC-CAS'!C:C,"No Match") -> 53-16-7 | D11: =_xlfn.XLOOKUP(B11,'A-search matrix ATC-CAS'!B:B,'A-search matrix ATC-CAS'!A:A,"No Match") -> Estrone | E11: =_xlfn.XLOOKUP(B11,'A-search matrix ATC-CAS'!B:B,'A-search matrix ATC-CAS'!D:D,"No Match") -> 0.0036 | F11: =_xlfn.XLOOKUP(C11,'B-search matrix PNEC MIC'!A:A,'B-search matrix PNEC MIC'!C:C,"No Match") -> No Match | I11: =IF(B11="","",_xlfn.LET(_xlpm.v,_xlfn.XLOOKUP(B11,'A-search matrix ATC-CAS'!B:B,'A-search matrix ATC-CAS'!C:C,""),IF(OR(_xlpm.v=0,_xlpm.v="0"),"mixture",IF(_xlpm.v="x","no PNEC","")))) | J11: =IF(B11="","", IF(OR(C11="", C11=0, C11="x"),"", IF(COUNTIF(C:C,C11)>1,"sum up input","") ) )
A12: D11 | B12: J01AA06 | C12: =_xlfn.XLOOKUP(B12,'A-search matrix ATC-CAS'!B:B,'A-search matrix ATC-CAS'!C:C,"No Match") -> 79-57-2 | D12: =_xlfn.XLOOKUP(B12,'A-search matrix ATC-CAS'!B:B,'A-search matrix ATC-CAS'!A:A,"No Match") -> Oxytetracycline | E12: =_xlfn.XLOOKUP(B12,'A-search matrix ATC-CAS'!B:B,'A-search matrix ATC-CAS'!D:D,"No Match") -> 0.42944 | F12: =_xlfn.XLOOKUP(C12,'B-search matrix PNEC MIC'!A:A,'B-search matrix PNEC MIC'!C:C,"No Match") -> 0.5 | I12: =IF(B12="","",_xlfn.LET(_xlpm.v,_xlfn.XLOOKUP(B12,'A-search matrix ATC-CAS'!B:B,'A-search matrix ATC-CAS'!C:C,""),IF(OR(_xlpm.v=0,_xlpm.v="0"),"mixture",IF(_xlpm.v="x","no PNEC","")))) | J12: =IF(B12="","", IF(OR(C12="", C12=0, C12="x"),"", IF(COUNTIF(C:C,C12)>1,"sum up input","") ) )
A13: D12 | B13: J01AA07 | C13: =_xlfn.XLOOKUP(B13,'A-search matrix ATC-CAS'!B:B,'A-search matrix ATC-CAS'!C:C,"No Match") -> 60-54-8 | D13: =_xlfn.XLOOKUP(B13,'A-search matrix ATC-CAS'!B:B,'A-search matrix ATC-CAS'!A:A,"No Match") -> Tetracycline | E13: =_xlfn.XLOOKUP(B13,'A-search matrix ATC-CAS'!B:B,'A-search matrix ATC-CAS'!D:D,"No Match") -> 0.09 | F13: =_xlfn.XLOOKUP(C13,'B-search matrix PNEC MIC'!A:A,'B-search matrix PNEC MIC'!C:C,"No Match") -> 1 | I13: =IF(B13="","",_xlfn.LET(_xlpm.v,_xlfn.XLOOKUP(B13,'A-search matrix ATC-CAS'!B:B,'A-search matrix ATC-CAS'!C:C,""),IF(OR(_xlpm.v=0,_xlpm.v="0"),"mixture",IF(_xlpm.v="x","no PNEC","")))) | J13: =IF(B13="","", IF(OR(C13="", C13=0, C13="x"),"", IF(COUNTIF(C:C,C13)>1,"sum up input","") ) )
... A23: D22 | B23: J02AC01 | C23: =_xlfn.XLOOKUP(B23,'A-search matrix ATC-CAS'!B:B,'A-search matrix ATC-CAS'!C:C,"No Match") -> 86386-73-4 | D23: =_xlfn.XLOOKUP(B23,'A-search matrix ATC-CAS'!B:B,'A-search matrix ATC-CAS'!A:A,"No Match") -> Fluconazole | E23: =_xlfn.XLOOKUP(B23,'A-search matrix ATC-CAS'!B:B,'A-search matrix ATC-CAS'!D:D,"No Match") -> 1.04331 | F23: =_xlfn.XLOOKUP(C23,'B-search matrix PNEC MIC'!A:A,'B-search matrix PNEC MIC'!C:C,"No Match") -> 0.25 | I23: =IF(B23="","",_xlfn.LET(_xlpm.v,_xlfn.XLOOKUP(B23,'A-search matrix ATC-CAS'!B:B,'A-search matrix ATC-CAS'!C:C,""),IF(OR(_xlpm.v=0,_xlpm.v="0"),"mixture",IF(_xlpm.v="x","no PNEC","")))) | J23: =IF(B23="","", IF(OR(C23="", C23=0, C23="x"),"", IF(COUNTIF(C:C,C23)>1,"sum up input","") ) )
A24: D23 | B24: J02AC02 | C24: =_xlfn.XLOOKUP(B24,'A-search matrix ATC-CAS'!B:B,'A-search matrix ATC-CAS'!C:C,"No Match") -> 84625-61-6 | D24: =_xlfn.XLOOKUP(B24,'A-search matrix ATC-CAS'!B:B,'A-search matrix ATC-CAS'!A:A,"No Match") -> Itraconazole | E24: =_xlfn.XLOOKUP(B24,'A-search matrix ATC-CAS'!B:B,'A-search matrix ATC-CAS'!D:D,"No Match") -> 0.012884727 | F24: =_xlfn.XLOOKUP(C24,'B-search matrix PNEC MIC'!A:A,'B-search matrix PNEC MIC'!C:C,"No Match") -> 0.01 | G24: 500 | I24: =IF(B24="","",_xlfn.LET(_xlpm.v,_xlfn.XLOOKUP(B24,'A-search matrix ATC-CAS'!B:B,'A-search matrix ATC-CAS'!C:C,""),IF(OR(_xlpm.v=0,_xlpm.v="0"),"mixture",IF(_xlpm.v="x","no PNEC","")))) | J24: =IF(B24="","", IF(OR(C24="", C24=0, C24="x"),"", IF(COUNTIF(C:C,C24)>1,"sum up input","") ) )
A25: D24 | B25: M01AE01 | C25: =_xlfn.XLOOKUP(B25,'A-search matrix ATC-CAS'!B:B,'A-search matrix ATC-CAS'!C:C,"No Match") -> 15687-27-1 | D25: =_xlfn.XLOOKUP(B25,'A-search matrix ATC-CAS'!B:B,'A-search matrix ATC-CAS'!A:A,"No Match") -> Ibuprofen | E25: =_xlfn.XLOOKUP(B25,'A-search matrix ATC-CAS'!B:B,'A-search matrix ATC-CAS'!D:D,"No Match") -> 0.011 | F25: =_xlfn.XLOOKUP(C25,'B-search matrix PNEC MIC'!A:A,'B-search matrix PNEC MIC'!C:C,"No Match") -> No Match | G25: 5000 | I25: =IF(B25="","",_xlfn.LET(_xlpm.v,_xlfn.XLOOKUP(B25,'A-search matrix ATC-CAS'!B:B,'A-search matrix ATC-CAS'!C:C,""),IF(OR(_xlpm.v=0,_xlpm.v="0"),"mixture",IF(_xlpm.v="x","no PNEC","")))) | J25: =IF(B25="","", IF(OR(C25="", C25=0, C25="x"),"", IF(COUNTIF(C:C,C25)>1,"sum up input","") ) )
A26: D25 | B26: M02AA15 | C26: =_xlfn.XLOOKUP(B26,'A-search matrix ATC-CAS'!B:B,'A-search matrix ATC-CAS'!C:C,"No Match") -> 15307-86-5 | D26: =_xlfn.XLOOKUP(B26,'A-search matrix ATC-CAS'!B:B,'A-search matrix ATC-CAS'!A:A,"No Match") -> Diclofenac | E26: =_xlfn.XLOOKUP(B26,'A-search matrix ATC-CAS'!B:B,'A-search matrix ATC-CAS'!D:D,"No Match") -> 0.05 | F26: =_xlfn.XLOOKUP(C26,'B-search matrix PNEC MIC'!A:A,'B-search matrix PNEC MIC'!C:C,"No Match") -> No Match | G26: 800 | I26: =IF(B26="","",_xlfn.LET(_xlpm.v,_xlfn.XLOOKUP(B26,'A-search matrix ATC-CAS'!B:B,'A-search matrix ATC-CAS'!C:C,""),IF(OR(_xlpm.v=0,_xlpm.v="0"),"mixture",IF(_xlpm.v="x","no PNEC","")))) | J26: =IF(B26="","", IF(OR(C26="", C26=0, C26="x"),"", IF(COUNTIF(C:C,C26)>1,"sum up input","") ) ) -> sum up input
A27: D26 | B27: N03AF01 | C27: =_xlfn.XLOOKUP(B27,'A-search matrix ATC-CAS'!B:B,'A-search matrix ATC-CAS'!C:C,"No Match") -> 298-46-4 | D27: =_xlfn.XLOOKUP(B27,'A-search matrix ATC-CAS'!B:B,'A-search matrix ATC-CAS'!A:A,"No Match") -> Carbamazepine | E27: =_xlfn.XLOOKUP(B27,'A-search matrix ATC-CAS'!B:B,'A-search matrix ATC-CAS'!D:D,"No Match") -> 2 | F27: =_xlfn.XLOOKUP(C27,'B-search matrix PNEC MIC'!A:A,'B-search matrix PNEC MIC'!C:C,"No Match") -> No Match | I27: =IF(B27="","",_xlfn.LET(_xlpm.v,_xlfn.XLOOKUP(B27,'A-search matrix ATC-CAS'!B:B,'A-search matrix ATC-CAS'!C:C,""),IF(OR(_xlpm.v=0,_xlpm.v="0"),"mixture",IF(_xlpm.v="x","no PNEC","")))) | J27: =IF(B27="","", IF(OR(C27="", C27=0, C27="x"),"", IF(COUNTIF(C:C,C27)>1,"sum up input","") ) )
A28: D27 | B28: N05AL05 | C28: =_xlfn.XLOOKUP(B28,'A-search matrix ATC-CAS'!B:B,'A-search matrix ATC-CAS'!C:C,"No Match") -> 71675-85-9 | D28: =_xlfn.XLOOKUP(B28,'A-search matrix ATC-CAS'!B:B,'A-search matrix ATC-CAS'!A:A,"No Match") -> Amisulpride | E28: =_xlfn.XLOOKUP(B28,'A-search matrix ATC-CAS'!B:B,'A-search matrix ATC-CAS'!D:D,"No Match") -> 140 | F28: =_xlfn.XLOOKUP(C28,'B-search matrix PNEC MIC'!A:A,'B-search matrix PNEC MIC'!C:C,"No Match") -> No Match | I28: =IF(B28="","",_xlfn.LET(_xlpm.v,_xlfn.XLOOKUP(B28,'A-search matrix ATC-CAS'!B:B,'A-search matrix ATC-CAS'!C:C,""),IF(OR(_xlpm.v=0,_xlpm.v="0"),"mixture",IF(_xlpm.v="x","no PNEC","")))) | J28: =IF(B28="","", IF(OR(C28="", C28=0, C28="x"),"", IF(COUNTIF(C:C,C28)>1,"sum up input","") ) )
A29: D28 | B29: N06AB03 | C29: =_xlfn.XLOOKUP(B29,'A-search matrix ATC-CAS'!B:B,'A-search matrix ATC-CAS'!C:C,"No Match") -> 54910-89-3 | D29: =_xlfn.XLOOKUP(B29,'A-search matrix ATC-CAS'!B:B,'A-search matrix ATC-CAS'!A:A,"No Match") -> Fluoxetine | E29: =_xlfn.XLOOKUP(B29,'A-search matrix ATC-CAS'!B:B,'A-search matrix ATC-CAS'!D:D,"No Match") -> 0.1 | F29: =_xlfn.XLOOKUP(C29,'B-search matrix PNEC MIC'!A:A,'B-search matrix PNEC MIC'!C:C,"No Match") -> No Match | I29: =IF(B29="","",_xlfn.LET(_xlpm.v,_xlfn.XLOOKUP(B29,'A-search matrix ATC-CAS'!B:B,'A-search matrix ATC-CAS'!C:C,""),IF(OR(_xlpm.v=0,_xlpm.v="0"),"mixture",IF(_xlpm.v="x","no PNEC","")))) | J29: =IF(B29="","", IF(OR(C29="", C29=0, C29="x"),"", IF(COUNTIF(C:C,C29)>1,"sum up input","") ) )
A30: D29 | B30: N06AB04 | C30: =_xlfn.XLOOKUP(B30,'A-search matrix ATC-CAS'!B:B,'A-search matrix ATC-CAS'!C:C,"No Match") -> 59729-33-8 | D30: =_xlfn.XLOOKUP(B30,'A-search matrix ATC-CAS'!B:B,'A-search matrix ATC-CAS'!A:A,"No Match") -> Citalopram | E30: =_xlfn.XLOOKUP(B30,'A-search matrix ATC-CAS'!B:B,'A-search matrix ATC-CAS'!D:D,"No Match") -> 16 | F30: =_xlfn.XLOOKUP(C30,'B-search matrix PNEC MIC'!A:A,'B-search matrix PNEC MIC'!C:C,"No Match") -> No Match | I30: =IF(B30="","",_xlfn.LET(_xlpm.v,_xlfn.XLOOKUP(B30,'A-search matrix ATC-CAS'!B:B,'A-search matrix ATC-CAS'!C:C,""),IF(OR(_xlpm.v=0,_xlpm.v="0"),"mixture",IF(_xlpm.v="x","no PNEC","")))) | J30: =IF(B30="","", IF(OR(C30="", C30=0, C30="x"),"", IF(COUNTIF(C:C,C30)>1,"sum up input","") ) )
A31: D30 | B31: N06AX16 | C31: =_xlfn.XLOOKUP(B31,'A-search matrix ATC-CAS'!B:B,'A-search matrix ATC-CAS'!C:C,"No Match") -> 93413-69-5 | D31: =_xlfn.XLOOKUP(B31,'A-search matrix ATC-CAS'!B:B,'A-search matrix ATC-CAS'!A:A,"No Match") -> Venlafaxine | E31: =_xlfn.XLOOKUP(B31,'A-search matrix ATC-CAS'!B:B,'A-search matrix ATC-CAS'!D:D,"No Match") -> 0.88 | F31: =_xlfn.XLOOKUP(C31,'B-search matrix PNEC MIC'!A:A,'B-search matrix PNEC MIC'!C:C,"No Match") -> No Match | I31: =IF(B31="","",_xlfn.LET(_xlpm.v,_xlfn.XLOOKUP(B31,'A-search matrix ATC-CAS'!B:B,'A-search matrix ATC-CAS'!C:C,""),IF(OR(_xlpm.v=0,_xlpm.v="0"),"mixture",IF(_xlpm.v="x","no PNEC","")))) | J31: =IF(B31="","", IF(OR(C31="", C31=0, C31="x"),"", IF(COUNTIF(C:C,C31)>1,"sum up input","") ) )
A32: D31 | B32: N06AX23 | C32: =_xlfn.XLOOKUP(B32,'A-search matrix ATC-CAS'!B:B,'A-search matrix ATC-CAS'!C:C,"No Match") -> 93413-77-5 | D32: =_xlfn.XLOOKUP(B32,'A-search matrix ATC-CAS'!B:B,'A-search matrix ATC-CAS'!A:A,"No Match") -> N,N-Didesvenlafaxine | E32: =_xlfn.XLOOKUP(B32,'A-search matrix ATC-CAS'!B:B,'A-search matrix ATC-CAS'!D:D,"No Match") -> 13.98036 | F32: =_xlfn.XLOOKUP(C32,'B-search matrix PNEC MIC'!A:A,'B-search matrix PNEC MIC'!C:C,"No Match") -> No Match | I32: =IF(B32="","",_xlfn.LET(_xlpm.v,_xlfn.XLOOKUP(B32,'A-search matrix ATC-CAS'!B:B,'A-search matrix ATC-CAS'!C:C,""),IF(OR(_xlpm.v=0,_xlpm.v="0"),"mixture",IF(_xlpm.v="x","no PNEC","")))) | J32: =IF(B32="","", IF(OR(C32="", C32=0, C32="x"),"", IF(COUNTIF(C:C,C32)>1,"sum up input","") ) )
A33: 1 | B33: G03FA01 | C33: =_xlfn.XLOOKUP(B33,'A-search matrix ATC-CAS'!B:B,'A-search matrix ATC-CAS'!C:C,"No Match") -> 0 | D33: =_xlfn.XLOOKUP(B33,'A-search matrix ATC-CAS'!B:B,'A-search matrix ATC-CAS'!A:A,"No Match") -> Norethisterone and Estrogen | E33: =_xlfn.XLOOKUP(B33,'A-search matrix ATC-CAS'!B:B,'A-search matrix ATC-CAS'!D:D,"No Match") -> No PNEC | F33: =_xlfn.XLOOKUP(C33,'B-search matrix PNEC MIC'!A:A,'B-search matrix PNEC MIC'!C:C,"No Match") -> No Match | I33: =IF(B33="","",_xlfn.LET(_xlpm.v,_xlfn.XLOOKUP(B33,'A-search matrix ATC-CAS'!B:B,'A-search matrix ATC-CAS'!C:C,""),IF(OR(_xlpm.v=0,_xlpm.v="0"),"mixture",IF(_xlpm.v="x","no PNEC","")))) -> mixture | J33: =IF(B33="","", IF(OR(C33="", C33=0, C33="x"),"", IF(COUNTIF(C:C,C33)>1,"sum up input","") ) )
A34: 2 | B34: H01AB01 | C34: =_xlfn.XLOOKUP(B34,'A-search matrix ATC-CAS'!B:B,'A-search matrix ATC-CAS'!C:C,"No Match") -> x | D34: =_xlfn.XLOOKUP(B34,'A-search matrix ATC-CAS'!B:B,'A-search matrix ATC-CAS'!A:A,"No Match") -> Thyrotropin Alfa | E34: =_xlfn.XLOOKUP(B34,'A-search matrix ATC-CAS'!B:B,'A-search matrix ATC-CAS'!D:D,"No Match") -> No PNEC | F34: =_xlfn.XLOOKUP(C34,'B-search matrix PNEC MIC'!A:A,'B-search matrix PNEC MIC'!C:C,"No Match") -> No Match | I34: =IF(B34="","",_xlfn.LET(_xlpm.v,_xlfn.XLOOKUP(B34,'A-search matrix ATC-CAS'!B:B,'A-search matrix ATC-CAS'!C:C,""),IF(OR(_xlpm.v=0,_xlpm.v="0"),"mixture",IF(_xlpm.v="x","no PNEC","")))) -> no PNEC | J34: =IF(B34="","", IF(OR(C34="", C34=0, C34="x"),"", IF(COUNTIF(C:C,C34)>1,"sum up input","") ) )
A35: 3 | B35: M02AA15 | C35: =_xlfn.XLOOKUP(B35,'A-search matrix ATC-CAS'!B:B,'A-search matrix ATC-CAS'!C:C,"No Match") -> 15307-86-5 | D35: =_xlfn.XLOOKUP(B35,'A-search matrix ATC-CAS'!B:B,'A-search matrix ATC-CAS'!A:A,"No Match") -> Diclofenac | E35: =_xlfn.XLOOKUP(B35,'A-search matrix ATC-CAS'!B:B,'A-search matrix ATC-CAS'!D:D,"No Match") -> 0.05 | F35: =_xlfn.XLOOKUP(C35,'B-search matrix PNEC MIC'!A:A,'B-search matrix PNEC MIC'!C:C,"No Match") -> No Match | I35: =IF(B35="","",_xlfn.LET(_xlpm.v,_xlfn.XLOOKUP(B35,'A-search matrix ATC-CAS'!B:B,'A-search matrix ATC-CAS'!C:C,""),IF(OR(_xlpm.v=0,_xlpm.v="0"),"mixture",IF(_xlpm.v="x","no PNEC","")))) | J35: =IF(B35="","", IF(OR(C35="", C35=0, C35="x"),"", IF(COUNTIF(C:C,C35)>1,"sum up input","") ) ) -> sum up input
A36: 4 | C36: =_xlfn.XLOOKUP(B36,'A-search matrix ATC-CAS'!B:B,'A-search matrix ATC-CAS'!C:C,"No Match") -> 0 | D36: =_xlfn.XLOOKUP(B36,'A-search matrix ATC-CAS'!B:B,'A-search matrix ATC-CAS'!A:A,"No Match") -> 0 | E36: =_xlfn.XLOOKUP(B36,'A-search matrix ATC-CAS'!B:B,'A-search matrix ATC-CAS'!D:D,"No Match") -> 0 | F36: =_xlfn.XLOOKUP(C36,'B-search matrix PNEC MIC'!A:A,'B-search matrix PNEC MIC'!C:C,"No Match") -> No Match | I36: =IF(B36="","",_xlfn.LET(_xlpm.v,_xlfn.XLOOKUP(B36,'A-search matrix ATC-CAS'!B:B,'A-search matrix ATC-CAS'!C:C,""),IF(OR(_xlpm.v=0,_xlpm.v="0"),"mixture",IF(_xlpm.v="x","no PNEC","")))) | J36: =IF(B36="","", IF(OR(C36="", C36=0, C36="x"),"", IF(COUNTIF(C:C,C36)>1,"sum up input","") ) )
A37: 5 | C37: =_xlfn.XLOOKUP(B37,'A-search matrix ATC-CAS'!B:B,'A-search matrix ATC-CAS'!C:C,"No Match") -> 0 | D37: =_xlfn.XLOOKUP(B37,'A-search matrix ATC-CAS'!B:B,'A-search matrix ATC-CAS'!A:A,"No Match") -> 0 | E37: =_xlfn.XLOOKUP(B37,'A-search matrix ATC-CAS'!B:B,'A-search matrix ATC-CAS'!D:D,"No Match") -> 0 | F37: =_xlfn.XLOOKUP(C37,'B-search matrix PNEC MIC'!A:A,'B-search matrix PNEC MIC'!C:C,"No Match") -> No Match | I37: =IF(B37="","",_xlfn.LET(_xlpm.v,_xlfn.XLOOKUP(B37,'A-search matrix ATC-CAS'!B:B,'A-search matrix ATC-CAS'!C:C,""),IF(OR(_xlpm.v=0,_xlpm.v="0"),"mixture",IF(_xlpm.v="x","no PNEC","")))) | J37: =IF(B37="","", IF(OR(C37="", C37=0, C37="x"),"", IF(COUNTIF(C:C,C37)>1,"sum up input","") ) )
A38: 6 | C38: =_xlfn.XLOOKUP(B38,'A-search matrix ATC-CAS'!B:B,'A-search matrix ATC-CAS'!C:C,"No Match") -> 0 | D38: =_xlfn.XLOOKUP(B38,'A-search matrix ATC-CAS'!B:B,'A-search matrix ATC-CAS'!A:A,"No Match") -> 0 | E38: =_xlfn.XLOOKUP(B38,'A-search matrix ATC-CAS'!B:B,'A-search matrix ATC-CAS'!D:D,"No Match") -> 0 | F38: =_xlfn.XLOOKUP(C38,'B-search matrix PNEC MIC'!A:A,'B-search matrix PNEC MIC'!C:C,"No Match") -> No Match | I38: =IF(B38="","",_xlfn.LET(_xlpm.v,_xlfn.XLOOKUP(B38,'A-search matrix ATC-CAS'!B:B,'A-search matrix ATC-CAS'!C:C,""),IF(OR(_xlpm.v=0,_xlpm.v="0"),"mixture",IF(_xlpm.v="x","no PNEC","")))) | J38: =IF(B38="","", IF(OR(C38="", C38=0, C38="x"),"", IF(COUNTIF(C:C,C38)>1,"sum up input","") ) )
A39: 7 | C39: =_xlfn.XLOOKUP(B39,'A-search matrix ATC-CAS'!B:B,'A-search matrix ATC-CAS'!C:C,"No Match") -> 0 | D39: =_xlfn.XLOOKUP(B39,'A-search matrix ATC-CAS'!B:B,'A-search matrix ATC-CAS'!A:A,"No Match") -> 0 | E39: =_xlfn.XLOOKUP(B39,'A-search matrix ATC-CAS'!B:B,'A-search matrix ATC-CAS'!D:D,"No Match") -> 0 | F39: =_xlfn.XLOOKUP(C39,'B-search matrix PNEC MIC'!A:A,'B-search matrix PNEC MIC'!C:C,"No Match") -> No Match | I39: =IF(B39="","",_xlfn.LET(_xlpm.v,_xlfn.XLOOKUP(B39,'A-search matrix ATC-CAS'!B:B,'A-search matrix ATC-CAS'!C:C,""),IF(OR(_xlpm.v=0,_xlpm.v="0"),"mixture",IF(_xlpm.v="x","no PNEC","")))) | J39: =IF(B39="","", IF(OR(C39="", C39=0, C39="x"),"", IF(COUNTIF(C:C,C39)>1,"sum up input","") ) )
A40: 8 | C40: =_xlfn.XLOOKUP(B40,'A-search matrix ATC-CAS'!B:B,'A-search matrix ATC-CAS'!C:C,"No Match") -> 0 | D40: =_xlfn.XLOOKUP(B40,'A-search matrix ATC-CAS'!B:B,'A-search matrix ATC-CAS'!A:A,"No Match") -> 0 | E40: =_xlfn.XLOOKUP(B40,'A-search matrix ATC-CAS'!B:B,'A-search matrix ATC-CAS'!D:D,"No Match") -> 0 | F40: =_xlfn.XLOOKUP(C40,'B-search matrix PNEC MIC'!A:A,'B-search matrix PNEC MIC'!C:C,"No Match") -> No Match | I40: =IF(B40="","",_xlfn.LET(_xlpm.v,_xlfn.XLOOKUP(B40,'A-search matrix ATC-CAS'!B:B,'A-search matrix ATC-CAS'!C:C,""),IF(OR(_xlpm.v=0,_xlpm.v="0"),"mixture",IF(_xlpm.v="x","no PNEC","")))) | J40: =IF(B40="","", IF(OR(C40="", C40=0, C40="x"),"", IF(COUNTIF(C:C,C40)>1,"sum up input","") ) )
A41: 9 | C41: =_xlfn.XLOOKUP(B41,'A-search matrix ATC-CAS'!B:B,'A-search matrix ATC-CAS'!C:C,"No Match") -> 0 | D41: =_xlfn.XLOOKUP(B41,'A-search matrix ATC-CAS'!B:B,'A-search matrix ATC-CAS'!A:A,"No Match") -> 0 | E41: =_xlfn.XLOOKUP(B41,'A-search matrix ATC-CAS'!B:B,'A-search matrix ATC-CAS'!D:D,"No Match") -> 0 | F41: =_xlfn.XLOOKUP(C41,'B-search matrix PNEC MIC'!A:A,'B-search matrix PNEC MIC'!C:C,"No Match") -> No Match | I41: =IF(B41="","",_xlfn.LET(_xlpm.v,_xlfn.XLOOKUP(B41,'A-search matrix ATC-CAS'!B:B,'A-search matrix ATC-CAS'!C:C,""),IF(OR(_xlpm.v=0,_xlpm.v="0"),"mixture",IF(_xlpm.v="x","no PNEC","")))) | J41: =IF(B41="","", IF(OR(C41="", C41=0, C41="x"),"", IF(COUNTIF(C:C,C41)>1,"sum up input","") ) )
A42: 10 | C42: =_xlfn.XLOOKUP(B42,'A-search matrix ATC-CAS'!B:B,'A-search matrix ATC-CAS'!C:C,"No Match") -> 0 | D42: =_xlfn.XLOOKUP(B42,'A-search matrix ATC-CAS'!B:B,'A-search matrix ATC-CAS'!A:A,"No Match") -> 0 | E42: =_xlfn.XLOOKUP(B42,'A-search matrix ATC-CAS'!B:B,'A-search matrix ATC-CAS'!D:D,"No Match") -> 0 | F42: =_xlfn.XLOOKUP(C42,'B-search matrix PNEC MIC'!A:A,'B-search matrix PNEC MIC'!C:C,"No Match") -> No Match | I42: =IF(B42="","",_xlfn.LET(_xlpm.v,_xlfn.XLOOKUP(B42,'A-search matrix ATC-CAS'!B:B,'A-search matrix ATC-CAS'!C:C,""),IF(OR(_xlpm.v=0,_xlpm.v="0"),"mixture",IF(_xlpm.v="x","no PNEC","")))) | J42: =IF(B42="","", IF(OR(C42="", C42=0, C42="x"),"", IF(COUNTIF(C:C,C42)>1,"sum up input","") ) )
A43: 11 | C43: =_xlfn.XLOOKUP(B43,'A-search matrix ATC-CAS'!B:B,'A-search matrix ATC-CAS'!C:C,"No Match") -> 0 | D43: =_xlfn.XLOOKUP(B43,'A-search matrix ATC-CAS'!B:B,'A-search matrix ATC-CAS'!A:A,"No Match") -> 0 | E43: =_xlfn.XLOOKUP(B43,'A-search matrix ATC-CAS'!B:B,'A-search matrix ATC-CAS'!D:D,"No Match") -> 0 | F43: =_xlfn.XLOOKUP(C43,'B-search matrix PNEC MIC'!A:A,'B-search matrix PNEC MIC'!C:C,"No Match") -> No Match | I43: =IF(B43="","",_xlfn.LET(_xlpm.v,_xlfn.XLOOKUP(B43,'A-search matrix ATC-CAS'!B:B,'A-search matrix ATC-CAS'!C:C,""),IF(OR(_xlpm.v=0,_xlpm.v="0"),"mixture",IF(_xlpm.v="x","no PNEC","")))) | J43: =IF(B43="","", IF(OR(C43="", C43=0, C43="x"),"", IF(COUNTIF(C:C,C43)>1,"sum up input","") ) )
A44: 12 | C44: =_xlfn.XLOOKUP(B44,'A-search matrix ATC-CAS'!B:B,'A-search matrix ATC-CAS'!C:C,"No Match") -> 0 | D44: =_xlfn.XLOOKUP(B44,'A-search matrix ATC-CAS'!B:B,'A-search matrix ATC-CAS'!A:A,"No Match") -> 0 | E44: =_xlfn.XLOOKUP(B44,'A-search matrix ATC-CAS'!B:B,'A-search matrix ATC-CAS'!D:D,"No Match") -> 0 | F44: =_xlfn.XLOOKUP(C44,'B-search matrix PNEC MIC'!A:A,'B-search matrix PNEC MIC'!C:C,"No Match") -> No Match | I44: =IF(B44="","",_xlfn.LET(_xlpm.v,_xlfn.XLOOKUP(B44,'A-search matrix ATC-CAS'!B:B,'A-search matrix ATC-CAS'!C:C,""),IF(OR(_xlpm.v=0,_xlpm.v="0"),"mixture",IF(_xlpm.v="x","no PNEC","")))) | J44: =IF(B44="","", IF(OR(C44="", C44=0, C44="x"),"", IF(COUNTIF(C:C,C44)>1,"sum up input","") ) )
A45: 13 | C45: =_xlfn.XLOOKUP(B45,'A-search matrix ATC-CAS'!B:B,'A-search matrix ATC-CAS'!C:C,"No Match") -> 0 | D45: =_xlfn.XLOOKUP(B45,'A-search matrix ATC-CAS'!B:B,'A-search matrix ATC-CAS'!A:A,"No Match") -> 0 | E45: =_xlfn.XLOOKUP(B45,'A-search matrix ATC-CAS'!B:B,'A-search matrix ATC-CAS'!D:D,"No Match") -> 0 | F45: =_xlfn.XLOOKUP(C45,'B-search matrix PNEC MIC'!A:A,'B-search matrix PNEC MIC'!C:C,"No Match") -> No Match | I45: =IF(B45="","",_xlfn.LET(_xlpm.v,_xlfn.XLOOKUP(B45,'A-search matrix ATC-CAS'!B:B,'A-search matrix ATC-CAS'!C:C,""),IF(OR(_xlpm.v=0,_xlpm.v="0"),"mixture",IF(_xlpm.v="x","no PNEC","")))) | J45: =IF(B45="","", IF(OR(C45="", C45=0, C45="x"),"", IF(COUNTIF(C:C,C45)>1,"sum up input","") ) )
A46: 14 | C46: =_xlfn.XLOOKUP(B46,'A-search matrix ATC-CAS'!B:B,'A-search matrix ATC-CAS'!C:C,"No Match") -> 0 | D46: =_xlfn.XLOOKUP(B46,'A-search matrix ATC-CAS'!B:B,'A-search matrix ATC-CAS'!A:A,"No Match") -> 0 | E46: =_xlfn.XLOOKUP(B46,'A-search matrix ATC-CAS'!B:B,'A-search matrix ATC-CAS'!D:D,"No Match") -> 0 | F46: =_xlfn.XLOOKUP(C46,'B-search matrix PNEC MIC'!A:A,'B-search matrix PNEC MIC'!C:C,"No Match") -> No Match | I46: =IF(B46="","",_xlfn.LET(_xlpm.v,_xlfn.XLOOKUP(B46,'A-search matrix ATC-CAS'!B:B,'A-search matrix ATC-CAS'!C:C,""),IF(OR(_xlpm.v=0,_xlpm.v="0"),"mixture",IF(_xlpm.v="x","no PNEC","")))) | J46: =IF(B46="","", IF(OR(C46="", C46=0, C46="x"),"", IF(COUNTIF(C:C,C46)>1,"sum up input","") ) )
A47: 15 | C47: =_xlfn.XLOOKUP(B47,'A-search matrix ATC-CAS'!B:B,'A-search matrix ATC-CAS'!C:C,"No Match") -> 0 | D47: =_xlfn.XLOOKUP(B47,'A-search matrix ATC-CAS'!B:B,'A-search matrix ATC-CAS'!A:A,"No Match") -> 0 | E47: =_xlfn.XLOOKUP(B47,'A-search matrix ATC-CAS'!B:B,'A-search matrix ATC-CAS'!D:D,"No Match") -> 0 | F47: =_xlfn.XLOOKUP(C47,'B-search matrix PNEC MIC'!A:A,'B-search matrix PNEC MIC'!C:C,"No Match") -> No Match | I47: =IF(B47="","",_xlfn.LET(_xlpm.v,_xlfn.XLOOKUP(B47,'A-search matrix ATC-CAS'!B:B,'A-search matrix ATC-CAS'!C:C,""),IF(OR(_xlpm.v=0,_xlpm.v="0"),"mixture",IF(_xlpm.v="x","no PNEC","")))) | J47: =IF(B47="","", IF(OR(C47="", C47=0, C47="x"),"", IF(COUNTIF(C:C,C47)>1,"sum up input","") ) )
... A132: 100 | C132: =_xlfn.XLOOKUP(B132,'A-search matrix ATC-CAS'!B:B,'A-search matrix ATC-CAS'!C:C,"No Match") -> 0 | D132: =_xlfn.XLOOKUP(B132,'A-search matrix ATC-CAS'!B:B,'A-search matrix ATC-CAS'!A:A,"No Match") -> 0 | E132: =_xlfn.XLOOKUP(B132,'A-search matrix ATC-CAS'!B:B,'A-search matrix ATC-CAS'!D:D,"No Match") -> 0 | F132: =_xlfn.XLOOKUP(C132,'B-search matrix PNEC MIC'!A:A,'B-search matrix PNEC MIC'!C:C,"No Match") -> No Match | I132: =IF(B132="","",_xlfn.LET(_xlpm.v,_xlfn.XLOOKUP(B132,'A-search matrix ATC-CAS'!B:B,'A-search matrix ATC-CAS'!C:C,""),IF(OR(_xlpm.v=0,_xlpm.v="0"),"mixture",IF(_xlpm.v="x","no PNEC","")))) | J132: =IF(B132="","", IF(OR(C132="", C132=0, C132="x"),"", IF(COUNTIF(C:C,C132)>1,"sum up input","") ) )

Sheet 2-water flows (input) and DF
B2: Treatment area | C2: Harelbeke
C4: m3/day | D4: L/year
B5: Qriver | C5: =_xlfn.XLOOKUP($C$2,'E-search matrix Flemish WWTP'!$B:$B,'E-search matrix Flemish WWTP'!$J:$J,"") -> 556588.8 | D5: =C5*365*1000 -> 2.0315491e+11
B6: Qwwtp_effluent | C6: =_xlfn.XLOOKUP($C$2,'E-search matrix Flemish WWTP'!$B:$B,'E-search matrix Flemish WWTP'!$E:$E,"") -> 19350 | D6: =C6*365*1000 -> 7062750000
B7: Qhospital_effluent | C7: 500 | D7: =C7*365*1000 -> 182500000
C9: Dilution factor (DF_hospital_river) | D9: =D5/D7 -> 1113.1776
C10: Dilution factor (DF_hospital_WWTP) | D10: =D6/D7 -> 38.7

Sheet 3-TIER1 results
D1: Risk for antimicrobial resistance | J1: Ecological risk
A2: own ID | B2: CAS nr. | C2: API | D2: PEChospital (µg/L) | E2: RQ(AMR)hospital | F2: PECwwtp (µg/L) | G2: RQ(AMR)wwtp | H2: PECriver (µg/L) | I2: RQ(AMR)river | J2: PECriver (µg/L) | K2: RQ(eco)river
A3: ='1-medicine use (input)'!A2 -> D01 | B3: =IF('1-medicine use (input)'!C2="","",'1-medicine use (input)'!C2) -> 657-24-9 | C3: ='1-medicine use (input)'!D2 -> Metformin | D3: ='1-medicine use (input)'!G2/'2-water flows (input) and DF'!$D$7*1000000 -> 0 | E3: =IFERROR(IF('1-medicine use (input)'!F2="No Match","NA",D3/'1-medicine use (input)'!F2),"NA") -> NA | F3: ='1-medicine use (input)'!G2/'2-water flows (input) and DF'!$D$6*1000000 -> 0 | G3: =IFERROR(IF('1-medicine use (input)'!F2="No Match","NA",F3/'1-medicine use (input)'!F2),"NA") -> NA | H3: ='1-medicine use (input)'!G2/'2-water flows (input) and DF'!$D$5*1000000 -> 0 | I3: =IFERROR(IF('1-medicine use (input)'!F2="No Match","NA",H3/'1-medicine use (input)'!F2),"NA") -> NA | J3: =H3 -> 0 | K3: =IFERROR(IF('1-medicine use (input)'!E2="No Match","NA",H3/'1-medicine use (input)'!E2),"NA") -> 0
A4: ='1-medicine use (input)'!A3 -> D02 | B4: =IF('1-medicine use (input)'!C3="","",'1-medicine use (input)'!C3) -> 58-93-5 | C4: ='1-medicine use (input)'!D3 -> Hydrochlorothiazide | D4: ='1-medicine use (input)'!G3/'2-water flows (input) and DF'!$D$7*1000000 -> 0 | E4: =IFERROR(IF('1-medicine use (input)'!F3="No Match","NA",D4/'1-medicine use (input)'!F3),"NA") -> NA | F4: ='1-medicine use (input)'!G3/'2-water flows (input) and DF'!$D$6*1000000 -> 0 | G4: =IFERROR(IF('1-medicine use (input)'!F3="No Match","NA",F4/'1-medicine use (input)'!F3),"NA") -> NA | H4: ='1-medicine use (input)'!G3/'2-water flows (input) and DF'!$D$5*1000000 -> 0 | I4: =IFERROR(IF('1-medicine use (input)'!F3="No Match","NA",H4/'1-medicine use (input)'!F3),"NA") -> NA | J4: =H4 -> 0 | K4: =IFERROR(IF('1-medicine use (input)'!E3="No Match","NA",H4/'1-medicine use (input)'!E3),"NA") -> 0
A5: ='1-medicine use (input)'!A4 -> D03 | B5: =IF('1-medicine use (input)'!C4="","",'1-medicine use (input)'!C4) -> 525-66-6 | C5: ='1-medicine use (input)'!D4 -> Propranolol | D5: ='1-medicine use (input)'!G4/'2-water flows (input) and DF'!$D$7*1000000 -> 0 | E5: =IFERROR(IF('1-medicine use (input)'!F4="No Match","NA",D5/'1-medicine use (input)'!F4),"NA") -> NA | F5: ='1-medicine use (input)'!G4/'2-water flows (input) and DF'!$D$6*1000000 -> 0 | G5: =IFERROR(IF('1-medicine use (input)'!F4="No Match","NA",F5/'1-medicine use (input)'!F4),"NA") -> NA | H5: ='1-medicine use (input)'!G4/'2-water flows (input) and DF'!$D$5*1000000 -> 0 | I5: =IFERROR(IF('1-medicine use (input)'!F4="No Match","NA",H5/'1-medicine use (input)'!F4),"NA") -> NA | J5: =H5 -> 0 | K5: =IFERROR(IF('1-medicine use (input)'!E4="No Match","NA",H5/'1-medicine use (input)'!E4),"NA") -> 0
A6: ='1-medicine use (input)'!A5 -> D04 | B6: =IF('1-medicine use (input)'!C5="","",'1-medicine use (input)'!C5) -> 51384-51-1 | C6: ='1-medicine use (input)'!D5 -> Metoprolol | D6: ='1-medicine use (input)'!G5/'2-water flows (input) and DF'!$D$7*1000000 -> 0 | E6: =IFERROR(IF('1-medicine use (input)'!F5="No Match","NA",D6/'1-medicine use (input)'!F5),"NA") -> NA | F6: ='1-medicine use (input)'!G5/'2-water flows (input) and DF'!$D$6*1000000 -> 0 | G6: =IFERROR(IF('1-medicine use (input)'!F5="No Match","NA",F6/'1-medicine use (input)'!F5),"NA") -> NA | H6: ='1-medicine use (input)'!G5/'2-water flows (input) and DF'!$D$5*1000000 -> 0 | I6: =IFERROR(IF('1-medicine use (input)'!F5="No Match","NA",H6/'1-medicine use (input)'!F5),"NA") -> NA | J6: =H6 -> 0 | K6: =IFERROR(IF('1-medicine use (input)'!E5="No Match","NA",H6/'1-medicine use (input)'!E5),"NA") -> 0
A7: ='1-medicine use (input)'!A6 -> D05 | B7: =IF('1-medicine use (input)'!C6="","",'1-medicine use (input)'!C6) -> 138402-11-6 | C7: ='1-medicine use (input)'!D6 -> Irbesartan | D7: ='1-medicine use (input)'!G6/'2-water flows (input) and DF'!$D$7*1000000 -> 0 | E7: =IFERROR(IF('1-medicine use (input)'!F6="No Match","NA",D7/'1-medicine use (input)'!F6),"NA") -> NA | F7: ='1-medicine use (input)'!G6/'2-water flows (input) and DF'!$D$6*1000000 -> 0 | G7: =IFERROR(IF('1-medicine use (input)'!F6="No Match","NA",F7/'1-medicine use (input)'!F6),"NA") -> NA | H7: ='1-medicine use (input)'!G6/'2-water flows (input) and DF'!$D$5*1000000 -> 0 | I7: =IFERROR(IF('1-medicine use (input)'!F6="No Match","NA",H7/'1-medicine use (input)'!F6),"NA") -> NA | J7: =H7 -> 0 | K7: =IFERROR(IF('1-medicine use (input)'!E6="No Match","NA",H7/'1-medicine use (input)'!E6),"NA") -> 0
A8: ='1-medicine use (input)'!A7 -> D06 | B8: =IF('1-medicine use (input)'!C7="","",'1-medicine use (input)'!C7) -> 139481-59-7 | C8: ='1-medicine use (input)'!D7 -> Candesartan | D8: ='1-medicine use (input)'!G7/'2-water flows (input) and DF'!$D$7*1000000 -> 0 | E8: =IFERROR(IF('1-medicine use (input)'!F7="No Match","NA",D8/'1-medicine use (input)'!F7),"NA") -> NA | F8: ='1-medicine use (input)'!G7/'2-water flows (input) and DF'!$D$6*1000000 -> 0 | G8: =IFERROR(IF('1-medicine use (input)'!F7="No Match","NA",F8/'1-medicine use (input)'!F7),"NA") -> NA | H8: ='1-medicine use (input)'!G7/'2-water flows (input) and DF'!$D$5*1000000 -> 0 | I8: =IFERROR(IF('1-medicine use (input)'!F7="No Match","NA",H8/'1-medicine use (input)'!F7),"NA") -> NA | J8: =H8 -> 0 | K8: =IFERROR(IF('1-medicine use (input)'!E7="No Match","NA",H8/'1-medicine use (input)'!E7),"NA") -> 0
A9: ='1-medicine use (input)'!A8 -> D07 | B9: =IF('1-medicine use (input)'!C8="","",'1-medicine use (input)'!C8) -> 23593-75-1 | C9: ='1-medicine use (input)'!D8 -> Clotrimazole | D9: ='1-medicine use (input)'!G8/'2-water flows (input) and DF'!$D$7*1000000 -> 0 | E9: =IFERROR(IF('1-medicine use (input)'!F8="No Match","NA",D9/'1-medicine use (input)'!F8),"NA") -> NA | F9: ='1-medicine use (input)'!G8/'2-water flows (input) and DF'!$D$6*1000000 -> 0 | G9: =IFERROR(IF('1-medicine use (input)'!F8="No Match","NA",F9/'1-medicine use (input)'!F8),"NA") -> NA | H9: ='1-medicine use (input)'!G8/'2-water flows (input) and DF'!$D$5*1000000 -> 0 | I9: =IFERROR(IF('1-medicine use (input)'!F8="No Match","NA",H9/'1-medicine use (input)'!F8),"NA") -> NA | J9: =H9 -> 0 | K9: =IFERROR(IF('1-medicine use (input)'!E8="No Match","NA",H9/'1-medicine use (input)'!E8),"NA") -> 0
A10: ='1-medicine use (input)'!A9 -> D08 | B10: =IF('1-medicine use (input)'!C9="","",'1-medicine use (input)'!C9) -> 57-63-6 | C10: ='1-medicine use (input)'!D9 -> 17Alpha-Ethinylestradiol | D10: ='1-medicine use (input)'!G9/'2-water flows (input) and DF'!$D$7*1000000 -> 0 | E10: =IFERROR(IF('1-medicine use (input)'!F9="No Match","NA",D10/'1-medicine use (input)'!F9),"NA") -> NA | F10: ='1-medicine use (input)'!G9/'2-water flows (input) and DF'!$D$6*1000000 -> 0 | G10: =IFERROR(IF('1-medicine use (input)'!F9="No Match","NA",F10/'1-medicine use (input)'!F9),"NA") -> NA | H10: ='1-medicine use (input)'!G9/'2-water flows (input) and DF'!$D$5*1000000 -> 0 | I10: =IFERROR(IF('1-medicine use (input)'!F9="No Match","NA",H10/'1-medicine use (input)'!F9),"NA") -> NA | J10: =H10 -> 0 | K10: =IFERROR(IF('1-medicine use (input)'!E9="No Match","NA",H10/'1-medicine use (input)'!E9),"NA") -> 0
A11: ='1-medicine use (input)'!A10 -> D09 | B11: =IF('1-medicine use (input)'!C10="","",'1-medicine use (input)'!C10) -> 4245-41-4 | C11: ='1-medicine use (input)'!D10 -> Estradiol | D11: ='1-medicine use (input)'!G10/'2-water flows (input) and DF'!$D$7*1000000 -> 0 | E11: =IFERROR(IF('1-medicine use (input)'!F10="No Match","NA",D11/'1-medicine use (input)'!F10),"NA") -> NA | F11: ='1-medicine use (input)'!G10/'2-water flows (input) and DF'!$D$6*1000000 -> 0 | G11: =IFERROR(IF('1-medicine use (input)'!F10="No Match","NA",F11/'1-medicine use (input)'!F10),"NA") -> NA | H11: ='1-medicine use (input)'!G10/'2-water flows (input) and DF'!$D$5*1000000 -> 0 | I11: =IFERROR(IF('1-medicine use (input)'!F10="No Match","NA",H11/'1-medicine use (input)'!F10),"NA") -> NA | J11: =H11 -> 0 | K11: =IFERROR(IF('1-medicine use (input)'!E10="No Match","NA",H11/'1-medicine use (input)'!E10),"NA") -> 0
A12: ='1-medicine use (input)'!A11 -> D10 | B12: =IF('1-medicine use (input)'!C11="","",'1-medicine use (input)'!C11) -> 53-16-7 | C12: ='1-medicine use (input)'!D11 -> Estrone | D12: ='1-medicine use (input)'!G11/'2-water flows (input) and DF'!$D$7*1000000 -> 0 | E12: =IFERROR(IF('1-medicine use (input)'!F11="No Match","NA",D12/'1-medicine use (input)'!F11),"NA") -> NA | F12: ='1-medicine use (input)'!G11/'2-water flows (input) and DF'!$D$6*1000000 -> 0 | G12: =IFERROR(IF('1-medicine use (input)'!F11="No Match","NA",F12/'1-medicine use (input)'!F11),"NA") -> NA | H12: ='1-medicine use (input)'!G11/'2-water flows (input) and DF'!$D$5*1000000 -> 0 | I12: =IFERROR(IF('1-medicine use (input)'!F11="No Match","NA",H12/'1-medicine use (input)'!F11),"NA") -> NA | J12: =H12 -> 0 | K12: =IFERROR(IF('1-medicine use (input)'!E11="No Match","NA",H12/'1-medicine use (input)'!E11),"NA") -> 0
A13: ='1-medicine use (input)'!A12 -> D11 | B13: =IF('1-medicine use (input)'!C12="","",'1-medicine use (input)'!C12) -> 79-57-2 | C13: ='1-medicine use (input)'!D12 -> Oxytetracycline | D13: ='1-medicine use (input)'!G12/'2-water flows (input) and DF'!$D$7*1000000 -> 0 | E13: =IFERROR(IF('1-medicine use (input)'!F12="No Match","NA",D13/'1-medicine use (input)'!F12),"NA") -> 0 | F13: ='1-medicine use (input)'!G12/'2-water flows (input) and DF'!$D$6*1000000 -> 0 | G13: =IFERROR(IF('1-medicine use (input)'!F12="No Match","NA",F13/'1-medicine use (input)'!F12),"NA") -> 0 | H13: ='1-medicine use (input)'!G12/'2-water flows (input) and DF'!$D$5*1000000 -> 0 | I13: =IFERROR(IF('1-medicine use (input)'!F12="No Match","NA",H13/'1-medicine use (input)'!F12),"NA") -> 0 | J13: =H13 -> 0 | K13: =IFERROR(IF('1-medicine use (input)'!E12="No Match","NA",H13/'1-medicine use (input)'!E12),"NA") -> 0
A14: ='1-medicine use (input)'!A13 -> D12 | B14: =IF('1-medicine use (input)'!C13="","",'1-medicine use (input)'!C13) -> 60-54-8 | C14: ='1-medicine use (input)'!D13 -> Tetracycline | D14: ='1-medicine use (input)'!G13/'2-water flows (input) and DF'!$D$7*1000000 -> 0 | E14: =IFERROR(IF('1-medicine use (input)'!F13="No Match","NA",D14/'1-medicine use (input)'!F13),"NA") -> 0 | F14: ='1-medicine use (input)'!G13/'2-water flows (input) and DF'!$D$6*1000000 -> 0 | G14: =IFERROR(IF('1-medicine use (input)'!F13="No Match","NA",F14/'1-medicine use (input)'!F13),"NA") -> 0 | H14: ='1-medicine use (input)'!G13/'2-water flows (input) and DF'!$D$5*1000000 -> 0 | I14: =IFERROR(IF('1-medicine use (input)'!F13="No Match","NA",H14/'1-medicine use (input)'!F13),"NA") -> 0 | J14: =H14 -> 0 | K14: =IFERROR(IF('1-medicine use (input)'!E13="No Match","NA",H14/'1-medicine use (input)'!E13),"NA") -> 0
... A133: ='1-medicine use (input)'!A132 -> 100 | B133: =IF('1-medicine use (input)'!C132="","",'1-medicine use (input)'!C132) -> 0 | C133: ='1-medicine use (input)'!D132 -> 0 | D133: ='1-medicine use (input)'!G132/'2-water flows (input) and DF'!$D$7*1000000 -> 0 | E133: =IFERROR(IF('1-medicine use (input)'!F132="No Match","NA",D133/'1-medicine use (input)'!F132),"NA") -> NA | F133: ='1-medicine use (input)'!G132/'2-water flows (input) and DF'!$D$6*1000000 -> 0 | G133: =IFERROR(IF('1-medicine use (input)'!F132="No Match","NA",F133/'1-medicine use (input)'!F132),"NA") -> NA | H133: ='1-medicine use (input)'!G132/'2-water flows (input) and DF'!$D$5*1000000 -> 0 | I133: =IFERROR(IF('1-medicine use (input)'!F132="No Match","NA",H133/'1-medicine use (input)'!F132),"NA") -> NA | J133: =H133 -> 0 | K133: =IFERROR(IF('1-medicine use (input)'!E132="No Match","NA",H133/'1-medicine use (input)'!E132),"NA") -> NA

Sheet 4-TIER2 refinement
G1: % of API excreted by patient | H1: Estimated % of medicine use (leaving hospital pharmacy) that is excreted when patient is in the hospital | I1: % of API in influent of WWTP that is emitted via the effluent (=100%-percentage removed in treatment process)
A2: own ID | B2: CAS nr. | C2: API | E2: At least one RQ>0.1? | G2: F_excretion (%) | H2: F_hospital (%) | I2: F_WWTP (%)
A3: ='1-medicine use (input)'!A2 -> D01 | B3: =IF('1-medicine use (input)'!C2="","",'1-medicine use (input)'!C2) -> 657-24-9 | C3: =IF('1-medicine use (input)'!D2="","",'1-medicine use (input)'!D2) -> Metformin | E3: =IF(OR(AND(ISNONTEXT('3-TIER1 results'!E3),'3-TIER1 results'!E3>0.1),AND(ISNONTEXT('3-TIER1 results'!G3),'3-TIER1 results'!G3>0.1),AND(ISNONTEXT('3-TIER1 results'!I3),'3-TIER1 results'!I3>0.1),AND(ISNONTEXT('3-TIER1 results'!K3),'3-TIER1 results'!K3>0.1)),"Y","") | F3: =IF(E3="Y","UPDATE VALUES->","") | G3: =IF($E3="Y",99.99999,100) -> 100 | H3: =IF($E3="Y",99.99999,100) -> 100 | I3: =IF(E3="Y", IFERROR(VLOOKUP(B3,'D-search matrix Fwwtp'!D:G,4,FALSE),100), 100) -> 100
A4: ='1-medicine use (input)'!A3 -> D02 | B4: =IF('1-medicine use (input)'!C3="","",'1-medicine use (input)'!C3) -> 58-93-5 | C4: =IF('1-medicine use (input)'!D3="","",'1-medicine use (input)'!D3) -> Hydrochlorothiazide | E4: =IF(OR(AND(ISNONTEXT('3-TIER1 results'!E4),'3-TIER1 results'!E4>0.1),AND(ISNONTEXT('3-TIER1 results'!G4),'3-TIER1 results'!G4>0.1),AND(ISNONTEXT('3-TIER1 results'!I4),'3-TIER1 results'!I4>0.1),AND(ISNONTEXT('3-TIER1 results'!K4),'3-TIER1 results'!K4>0.1)),"Y","") | F4: =IF(E4="Y","UPDATE VALUES->","") | G4: =IF($E4="Y",99.99999,100) -> 100 | H4: =IF($E4="Y",99.99999,100) -> 100 | I4: =IF(E4="Y", IFERROR(VLOOKUP(B4,'D-search matrix Fwwtp'!D:G,4,FALSE),100), 100) -> 100
A5: ='1-medicine use (input)'!A4 -> D03 | B5: =IF('1-medicine use (input)'!C4="","",'1-medicine use (input)'!C4) -> 525-66-6 | C5: =IF('1-medicine use (input)'!D4="","",'1-medicine use (input)'!D4) -> Propranolol | E5: =IF(OR(AND(ISNONTEXT('3-TIER1 results'!E5),'3-TIER1 results'!E5>0.1),AND(ISNONTEXT('3-TIER1 results'!G5),'3-TIER1 results'!G5>0.1),AND(ISNONTEXT('3-TIER1 results'!I5),'3-TIER1 results'!I5>0.1),AND(ISNONTEXT('3-TIER1 results'!K5),'3-TIER1 results'!K5>0.1)),"Y","") | F5: =IF(E5="Y","UPDATE VALUES->","") | G5: =IF($E5="Y",99.99999,100) -> 100 | H5: =IF($E5="Y",99.99999,100) -> 100 | I5: =IF(E5="Y", IFERROR(VLOOKUP(B5,'D-search matrix Fwwtp'!D:G,4,FALSE),100), 100) -> 100
A6: ='1-medicine use (input)'!A5 -> D04 | B6: =IF('1-medicine use (input)'!C5="","",'1-medicine use (input)'!C5) -> 51384-51-1 | C6: =IF('1-medicine use (input)'!D5="","",'1-medicine use (input)'!D5) -> Metoprolol | E6: =IF(OR(AND(ISNONTEXT('3-TIER1 results'!E6),'3-TIER1 results'!E6>0.1),AND(ISNONTEXT('3-TIER1 results'!G6),'3-TIER1 results'!G6>0.1),AND(ISNONTEXT('3-TIER1 results'!I6),'3-TIER1 results'!I6>0.1),AND(ISNONTEXT('3-TIER1 results'!K6),'3-TIER1 results'!K6>0.1)),"Y","") | F6: =IF(E6="Y","UPDATE VALUES->","") | G6: =IF($E6="Y",99.99999,100) -> 100 | H6: =IF($E6="Y",99.99999,100) -> 100 | I6: =IF(E6="Y", IFERROR(VLOOKUP(B6,'D-search matrix Fwwtp'!D:G,4,FALSE),100), 100) -> 100
A7: ='1-medicine use (input)'!A6 -> D05 | B7: =IF('1-medicine use (input)'!C6="","",'1-medicine use (input)'!C6) -> 138402-11-6 | C7: =IF('1-medicine use (input)'!D6="","",'1-medicine use (input)'!D6) -> Irbesartan | E7: =IF(OR(AND(ISNONTEXT('3-TIER1 results'!E7),'3-TIER1 results'!E7>0.1),AND(ISNONTEXT('3-TIER1 results'!G7),'3-TIER1 results'!G7>0.1),AND(ISNONTEXT('3-TIER1 results'!I7),'3-TIER1 results'!I7>0.1),AND(ISNONTEXT('3-TIER1 results'!K7),'3-TIER1 results'!K7>0.1)),"Y","") | F7: =IF(E7="Y","UPDATE VALUES->","") | G7: =IF($E7="Y",99.99999,100) -> 100 | H7: =IF($E7="Y",99.99999,100) -> 100 | I7: =IF(E7="Y", IFERROR(VLOOKUP(B7,'D-search matrix Fwwtp'!D:G,4,FALSE),100), 100) -> 100
A8: ='1-medicine use (input)'!A7 -> D06 | B8: =IF('1-medicine use (input)'!C7="","",'1-medicine use (input)'!C7) -> 139481-59-7 | C8: =IF('1-medicine use (input)'!D7="","",'1-medicine use (input)'!D7) -> Candesartan | E8: =IF(OR(AND(ISNONTEXT('3-TIER1 results'!E8),'3-TIER1 results'!E8>0.1),AND(ISNONTEXT('3-TIER1 results'!G8),'3-TIER1 results'!G8>0.1),AND(ISNONTEXT('3-TIER1 results'!I8),'3-TIER1 results'!I8>0.1),AND(ISNONTEXT('3-TIER1 results'!K8),'3-TIER1 results'!K8>0.1)),"Y","") | F8: =IF(E8="Y","UPDATE VALUES->","") | G8: =IF($E8="Y",99.99999,100) -> 100 | H8: =IF($E8="Y",99.99999,100) -> 100 | I8: =IF(E8="Y", IFERROR(VLOOKUP(B8,'D-search matrix Fwwtp'!D:G,4,FALSE),100), 100) -> 100
A9: ='1-medicine use (input)'!A8 -> D07 | B9: =IF('1-medicine use (input)'!C8="","",'1-medicine use (input)'!C8) -> 23593-75-1 | C9: =IF('1-medicine use (input)'!D8="","",'1-medicine use (input)'!D8) -> Clotrimazole | E9: =IF(OR(AND(ISNONTEXT('3-TIER1 results'!E9),'3-TIER1 results'!E9>0.1),AND(ISNONTEXT('3-TIER1 results'!G9),'3-TIER1 results'!G9>0.1),AND(ISNONTEXT('3-TIER1 results'!I9),'3-TIER1 results'!I9>0.1),AND(ISNONTEXT('3-TIER1 results'!K9),'3-TIER1 results'!K9>0.1)),"Y","") | F9: =IF(E9="Y","UPDATE VALUES->","") | G9: =IF($E9="Y",99.99999,100) -> 100 | H9: =IF($E9="Y",99.99999,100) -> 100 | I9: =IF(E9="Y", IFERROR(VLOOKUP(B9,'D-search matrix Fwwtp'!D:G,4,FALSE),100), 100) -> 100
A10: ='1-medicine use (input)'!A9 -> D08 | B10: =IF('1-medicine use (input)'!C9="","",'1-medicine use (input)'!C9) -> 57-63-6 | C10: =IF('1-medicine use (input)'!D9="","",'1-medicine use (input)'!D9) -> 17Alpha-Ethinylestradiol | E10: =IF(OR(AND(ISNONTEXT('3-TIER1 results'!E10),'3-TIER1 results'!E10>0.1),AND(ISNONTEXT('3-TIER1 results'!G10),'3-TIER1 results'!G10>0.1),AND(ISNONTEXT('3-TIER1 results'!I10),'3-TIER1 results'!I10>0.1),AND(ISNONTEXT('3-TIER1 results'!K10),'3-TIER1 results'!K10>0.1)),"Y","") | F10: =IF(E10="Y","UPDATE VALUES->","") | G10: =IF($E10="Y",99.99999,100) -> 100 | H10: =IF($E10="Y",99.99999,100) -> 100 | I10: =IF(E10="Y", IFERROR(VLOOKUP(B10,'D-search matrix Fwwtp'!D:G,4,FALSE),100), 100) -> 100
A11: ='1-medicine use (input)'!A10 -> D09 | B11: =IF('1-medicine use (input)'!C10="","",'1-medicine use (input)'!C10) -> 4245-41-4 | C11: =IF('1-medicine use (input)'!D10="","",'1-medicine use (input)'!D10) -> Estradiol | E11: =IF(OR(AND(ISNONTEXT('3-TIER1 results'!E11),'3-TIER1 results'!E11>0.1),AND(ISNONTEXT('3-TIER1 results'!G11),'3-TIER1 results'!G11>0.1),AND(ISNONTEXT('3-TIER1 results'!I11),'3-TIER1 results'!I11>0.1),AND(ISNONTEXT('3-TIER1 results'!K11),'3-TIER1 results'!K11>0.1)),"Y","") | F11: =IF(E11="Y","UPDATE VALUES->","") | G11: =IF($E11="Y",99.99999,100) -> 100 | H11: =IF($E11="Y",99.99999,100) -> 100 | I11: =IF(E11="Y", IFERROR(VLOOKUP(B11,'D-search matrix Fwwtp'!D:G,4,FALSE),100), 100) -> 100
A12: ='1-medicine use (input)'!A11 -> D10 | B12: =IF('1-medicine use (input)'!C11="","",'1-medicine use (input)'!C11) -> 53-16-7 | C12: =IF('1-medicine use (input)'!D11="","",'1-medicine use (input)'!D11) -> Estrone | E12: =IF(OR(AND(ISNONTEXT('3-TIER1 results'!E12),'3-TIER1 results'!E12>0.1),AND(ISNONTEXT('3-TIER1 results'!G12),'3-TIER1 results'!G12>0.1),AND(ISNONTEXT('3-TIER1 results'!I12),'3-TIER1 results'!I12>0.1),AND(ISNONTEXT('3-TIER1 results'!K12),'3-TIER1 results'!K12>0.1)),"Y","") | F12: =IF(E12="Y","UPDATE VALUES->","") | G12: =IF($E12="Y",99.99999,100) -> 100 | H12: =IF($E12="Y",99.99999,100) -> 100 | I12: =IF(E12="Y", IFERROR(VLOOKUP(B12,'D-search matrix Fwwtp'!D:G,4,FALSE),100), 100) -> 100
A13: ='1-medicine use (input)'!A12 -> D11 | B13: =IF('1-medicine use (input)'!C12="","",'1-medicine use (input)'!C12) -> 79-57-2 | C13: =IF('1-medicine use (input)'!D12="","",'1-medicine use (input)'!D12) -> Oxytetracycline | E13: =IF(OR(AND(ISNONTEXT('3-TIER1 results'!E13),'3-TIER1 results'!E13>0.1),AND(ISNONTEXT('3-TIER1 results'!G13),'3-TIER1 results'!G13>0.1),AND(ISNONTEXT('3-TIER1 results'!I13),'3-TIER1 results'!I13>0.1),AND(ISNONTEXT('3-TIER1 results'!K13),'3-TIER1 results'!K13>0.1)),"Y","") | F13: =IF(E13="Y","UPDATE VALUES->","") | G13: =IF($E13="Y",99.99999,100) -> 100 | H13: =IF($E13="Y",99.99999,100) -> 100 | I13: =IF(E13="Y", IFERROR(VLOOKUP(B13,'D-search matrix Fwwtp'!D:G,4,FALSE),100), 100) -> 100
A14: ='1-medicine use (input)'!A13 -> D12 | B14: =IF('1-medicine use (input)'!C13="","",'1-medicine use (input)'!C13) -> 60-54-8 | C14: =IF('1-medicine use (input)'!D13="","",'1-medicine use (input)'!D13) -> Tetracycline | E14: =IF(OR(AND(ISNONTEXT('3-TIER1 results'!E14),'3-TIER1 results'!E14>0.1),AND(ISNONTEXT('3-TIER1 results'!G14),'3-TIER1 results'!G14>0.1),AND(ISNONTEXT('3-TIER1 results'!I14),'3-TIER1 results'!I14>0.1),AND(ISNONTEXT('3-TIER1 results'!K14),'3-TIER1 results'!K14>0.1)),"Y","") | F14: =IF(E14="Y","UPDATE VALUES->","") | G14: =IF($E14="Y",99.99999,100) -> 100 | H14: =IF($E14="Y",99.99999,100) -> 100 | I14: =IF(E14="Y", IFERROR(VLOOKUP(B14,'D-search matrix Fwwtp'!D:G,4,FALSE),100), 100) -> 100
... A24: ='1-medicine use (input)'!A23 -> D22 | B24: =IF('1-medicine use (input)'!C23="","",'1-medicine use (input)'!C23) -> 86386-73-4 | C24: =IF('1-medicine use (input)'!D23="","",'1-medicine use (input)'!D23) -> Fluconazole | E24: =IF(OR(AND(ISNONTEXT('3-TIER1 results'!E24),'3-TIER1 results'!E24>0.1),AND(ISNONTEXT('3-TIER1 results'!G24),'3-TIER1 results'!G24>0.1),AND(ISNONTEXT('3-TIER1 results'!I24),'3-TIER1 results'!I24>0.1),AND(ISNONTEXT('3-TIER1 results'!K24),'3-TIER1 results'!K24>0.1)),"Y","") | F24: =IF(E24="Y","UPDATE VALUES->","") | G24: =IF($E24="Y",99.99999,100) -> 100 | H24: =IF($E24="Y",99.99999,100) -> 100 | I24: =IF(E24="Y", IFERROR(VLOOKUP(B24,'D-search matrix Fwwtp'!D:G,4,FALSE),100), 100) -> 100
A25: ='1-medicine use (input)'!A24 -> D23 | B25: =IF('1-medicine use (input)'!C24="","",'1-medicine use (input)'!C24) -> 84625-61-6 | C25: =IF('1-medicine use (input)'!D24="","",'1-medicine use (input)'!D24) -> Itraconazole | E25: =IF(OR(AND(ISNONTEXT('3-TIER1 results'!E25),'3-TIER1 results'!E25>0.1),AND(ISNONTEXT('3-TIER1 results'!G25),'3-TIER1 results'!G25>0.1),AND(ISNONTEXT('3-TIER1 results'!I25),'3-TIER1 results'!I25>0.1),AND(ISNONTEXT('3-TIER1 results'!K25),'3-TIER1 results'!K25>0.1)),"Y","") -> Y | F25: =IF(E25="Y","UPDATE VALUES->","") -> UPDATE VALUES-> | G25: =IF($E25="Y",99.99999,100) -> 99.99999 | H25: 30 | I25: =IF(E25="Y", IFERROR(VLOOKUP(B25,'D-search matrix Fwwtp'!D:G,4,FALSE),100), 100) -> 96
A26: ='1-medicine use (input)'!A25 -> D24 | B26: =IF('1-medicine use (input)'!C25="","",'1-medicine use (input)'!C25) -> 15687-27-1 | C26: =IF('1-medicine use (input)'!D25="","",'1-medicine use (input)'!D25) -> Ibuprofen | E26: =IF(OR(AND(ISNONTEXT('3-TIER1 results'!E26),'3-TIER1 results'!E26>0.1),AND(ISNONTEXT('3-TIER1 results'!G26),'3-TIER1 results'!G26>0.1),AND(ISNONTEXT('3-TIER1 results'!I26),'3-TIER1 results'!I26>0.1),AND(ISNONTEXT('3-TIER1 results'!K26),'3-TIER1 results'!K26>0.1)),"Y","") -> Y | F26: =IF(E26="Y","UPDATE VALUES->","") -> UPDATE VALUES-> | G26: =IF($E26="Y",99.99999,100) -> 99.99999 | H26: =IF($E26="Y",99.99999,100) -> 99.99999 | I26: =IF(E26="Y", IFERROR(VLOOKUP(B26,'D-search matrix Fwwtp'!D:G,4,FALSE),100), 100) -> 12.1
A27: ='1-medicine use (input)'!A26 -> D25 | B27: =IF('1-medicine use (input)'!C26="","",'1-medicine use (input)'!C26) -> 15307-86-5 | C27: =IF('1-medicine use (input)'!D26="","",'1-medicine use (input)'!D26) -> Diclofenac | E27: =IF(OR(AND(ISNONTEXT('3-TIER1 results'!E27),'3-TIER1 results'!E27>0.1),AND(ISNONTEXT('3-TIER1 results'!G27),'3-TIER1 results'!G27>0.1),AND(ISNONTEXT('3-TIER1 results'!I27),'3-TIER1 results'!I27>0.1),AND(ISNONTEXT('3-TIER1 results'!K27),'3-TIER1 results'!K27>0.1)),"Y","") | F27: =IF(E27="Y","UPDATE VALUES->","") | G27: =IF($E27="Y",99.99999,100) -> 100 | H27: =IF($E27="Y",99.99999,100) -> 100 | I27: =IF(E27="Y", IFERROR(VLOOKUP(B27,'D-search matrix Fwwtp'!D:G,4,FALSE),100), 100) -> 100
A28: ='1-medicine use (input)'!A27 -> D26 | B28: =IF('1-medicine use (input)'!C27="","",'1-medicine use (input)'!C27) -> 298-46-4 | C28: =IF('1-medicine use (input)'!D27="","",'1-medicine use (input)'!D27) -> Carbamazepine | E28: =IF(OR(AND(ISNONTEXT('3-TIER1 results'!E28),'3-TIER1 results'!E28>0.1),AND(ISNONTEXT('3-TIER1 results'!G28),'3-TIER1 results'!G28>0.1),AND(ISNONTEXT('3-TIER1 results'!I28),'3-TIER1 results'!I28>0.1),AND(ISNONTEXT('3-TIER1 results'!K28),'3-TIER1 results'!K28>0.1)),"Y","") | F28: =IF(E28="Y","UPDATE VALUES->","") | G28: =IF($E28="Y",99.99999,100) -> 100 | H28: =IF($E28="Y",99.99999,100) -> 100 | I28: =IF(E28="Y", IFERROR(VLOOKUP(B28,'D-search matrix Fwwtp'!D:G,4,FALSE),100), 100) -> 100
A29: ='1-medicine use (input)'!A28 -> D27 | B29: =IF('1-medicine use (input)'!C28="","",'1-medicine use (input)'!C28) -> 71675-85-9 | C29: =IF('1-medicine use (input)'!D28="","",'1-medicine use (input)'!D28) -> Amisulpride | E29: =IF(OR(AND(ISNONTEXT('3-TIER1 results'!E29),'3-TIER1 results'!E29>0.1),AND(ISNONTEXT('3-TIER1 results'!G29),'3-TIER1 results'!G29>0.1),AND(ISNONTEXT('3-TIER1 results'!I29),'3-TIER1 results'!I29>0.1),AND(ISNONTEXT('3-TIER1 results'!K29),'3-TIER1 results'!K29>0.1)),"Y","") | F29: =IF(E29="Y","UPDATE VALUES->","") | G29: =IF($E29="Y",99.99999,100) -> 100 | H29: =IF($E29="Y",99.99999,100) -> 100 | I29: =IF(E29="Y", IFERROR(VLOOKUP(B29,'D-search matrix Fwwtp'!D:G,4,FALSE),100), 100) -> 100
A30: ='1-medicine use (input)'!A29 -> D28 | B30: =IF('1-medicine use (input)'!C29="","",'1-medicine use (input)'!C29) -> 54910-89-3 | C30: =IF('1-medicine use (input)'!D29="","",'1-medicine use (input)'!D29) -> Fluoxetine | E30: =IF(OR(AND(ISNONTEXT('3-TIER1 results'!E30),'3-TIER1 results'!E30>0.1),AND(ISNONTEXT('3-TIER1 results'!G30),'3-TIER1 results'!G30>0.1),AND(ISNONTEXT('3-TIER1 results'!I30),'3-TIER1 results'!I30>0.1),AND(ISNONTEXT('3-TIER1 results'!K30),'3-TIER1 results'!K30>0.1)),"Y","") | F30: =IF(E30="Y","UPDATE VALUES->","") | G30: =IF($E30="Y",99.99999,100) -> 100 | H30: =IF($E30="Y",99.99999,100) -> 100 | I30: =IF(E30="Y", IFERROR(VLOOKUP(B30,'D-search matrix Fwwtp'!D:G,4,FALSE),100), 100) -> 100
A31: ='1-medicine use (input)'!A30 -> D29 | B31: =IF('1-medicine use (input)'!C30="","",'1-medicine use (input)'!C30) -> 59729-33-8 | C31: =IF('1-medicine use (input)'!D30="","",'1-medicine use (input)'!D30) -> Citalopram | E31: =IF(OR(AND(ISNONTEXT('3-TIER1 results'!E31),'3-TIER1 results'!E31>0.1),AND(ISNONTEXT('3-TIER1 results'!G31),'3-TIER1 results'!G31>0.1),AND(ISNONTEXT('3-TIER1 results'!I31),'3-TIER1 results'!I31>0.1),AND(ISNONTEXT('3-TIER1 results'!K31),'3-TIER1 results'!K31>0.1)),"Y","") | F31: =IF(E31="Y","UPDATE VALUES->","") | G31: =IF($E31="Y",99.99999,100) -> 100 | H31: =IF($E31="Y",99.99999,100) -> 100 | I31: =IF(E31="Y", IFERROR(VLOOKUP(B31,'D-search matrix Fwwtp'!D:G,4,FALSE),100), 100) -> 100
A32: ='1-medicine use (input)'!A31 -> D30 | B32: =IF('1-medicine use (input)'!C31="","",'1-medicine use (input)'!C31) -> 93413-69-5 | C32: =IF('1-medicine use (input)'!D31="","",'1-medicine use (input)'!D31) -> Venlafaxine | E32: =IF(OR(AND(ISNONTEXT('3-TIER1 results'!E32),'3-TIER1 results'!E32>0.1),AND(ISNONTEXT('3-TIER1 results'!G32),'3-TIER1 results'!G32>0.1),AND(ISNONTEXT('3-TIER1 results'!I32),'3-TIER1 results'!I32>0.1),AND(ISNONTEXT('3-TIER1 results'!K32),'3-TIER1 results'!K32>0.1)),"Y","") | F32: =IF(E32="Y","UPDATE VALUES->","") | G32: =IF($E32="Y",99.99999,100) -> 100 | H32: =IF($E32="Y",99.99999,100) -> 100 | I32: =IF(E32="Y", IFERROR(VLOOKUP(B32,'D-search matrix Fwwtp'!D:G,4,FALSE),100), 100) -> 100
A33: ='1-medicine use (input)'!A32 -> D31 | B33: =IF('1-medicine use (input)'!C32="","",'1-medicine use (input)'!C32) -> 93413-77-5 | C33: =IF('1-medicine use (input)'!D32="","",'1-medicine use (input)'!D32) -> N,N-Didesvenlafaxine | E33: =IF(OR(AND(ISNONTEXT('3-TIER1 results'!E33),'3-TIER1 results'!E33>0.1),AND(ISNONTEXT('3-TIER1 results'!G33),'3-TIER1 results'!G33>0.1),AND(ISNONTEXT('3-TIER1 results'!I33),'3-TIER1 results'!I33>0.1),AND(ISNONTEXT('3-TIER1 results'!K33),'3-TIER1 results'!K33>0.1)),"Y","") | F33: =IF(E33="Y","UPDATE VALUES->","") | G33: =IF($E33="Y",99.99999,100) -> 100 | H33: =IF($E33="Y",99.99999,100) -> 100 | I33: =IF(E33="Y", IFERROR(VLOOKUP(B33,'D-search matrix Fwwtp'!D:G,4,FALSE),100), 100) -> 100
A34: ='1-medicine use (input)'!A33 -> 1 | B34: =IF('1-medicine use (input)'!C33="","",'1-medicine use (input)'!C33) -> 0 | C34: =IF('1-medicine use (input)'!D33="","",'1-medicine use (input)'!D33) -> Norethisterone and Estrogen | E34: =IF(OR(AND(ISNONTEXT('3-TIER1 results'!E34),'3-TIER1 results'!E34>0.1),AND(ISNONTEXT('3-TIER1 results'!G34),'3-TIER1 results'!G34>0.1),AND(ISNONTEXT('3-TIER1 results'!I34),'3-TIER1 results'!I34>0.1),AND(ISNONTEXT('3-TIER1 results'!K34),'3-TIER1 results'!K34>0.1)),"Y","") | F34: =IF(E34="Y","UPDATE VALUES->","") | G34: =IF($E34="Y",99.99999,100) -> 100 | H34: =IF($E34="Y",99.99999,100) -> 100 | I34: =IF(E34="Y", IFERROR(VLOOKUP(B34,'D-search matrix Fwwtp'!D:G,4,FALSE),100), 100) -> 100
A35: ='1-medicine use (input)'!A34 -> 2 | B35: =IF('1-medicine use (input)'!C34="","",'1-medicine use (input)'!C34) -> x | C35: =IF('1-medicine use (input)'!D34="","",'1-medicine use (input)'!D34) -> Thyrotropin Alfa | E35: =IF(OR(AND(ISNONTEXT('3-TIER1 results'!E35),'3-TIER1 results'!E35>0.1),AND(ISNONTEXT('3-TIER1 results'!G35),'3-TIER1 results'!G35>0.1),AND(ISNONTEXT('3-TIER1 results'!I35),'3-TIER1 results'!I35>0.1),AND(ISNONTEXT('3-TIER1 results'!K35),'3-TIER1 results'!K35>0.1)),"Y","") | F35: =IF(E35="Y","UPDATE VALUES->","") | G35: =IF($E35="Y",99.99999,100) -> 100 | H35: =IF($E35="Y",99.99999,100) -> 100 | I35: =IF(E35="Y", IFERROR(VLOOKUP(B35,'D-search matrix Fwwtp'!D:G,4,FALSE),100), 100) -> 100
A36: ='1-medicine use (input)'!A35 -> 3 | B36: =IF('1-medicine use (input)'!C35="","",'1-medicine use (input)'!C35) -> 15307-86-5 | C36: =IF('1-medicine use (input)'!D35="","",'1-medicine use (input)'!D35) -> Diclofenac | E36: =IF(OR(AND(ISNONTEXT('3-TIER1 results'!E36),'3-TIER1 results'!E36>0.1),AND(ISNONTEXT('3-TIER1 results'!G36),'3-TIER1 results'!G36>0.1),AND(ISNONTEXT('3-TIER1 results'!I36),'3-TIER1 results'!I36>0.1),AND(ISNONTEXT('3-TIER1 results'!K36),'3-TIER1 results'!K36>0.1)),"Y","") | F36: =IF(E36="Y","UPDATE VALUES->","") | G36: =IF($E36="Y",99.99999,100) -> 100 | H36: =IF($E36="Y",99.99999,100) -> 100 | I36: =IF(E36="Y", IFERROR(VLOOKUP(B36,'D-search matrix Fwwtp'!D:G,4,FALSE),100), 100) -> 100
